Workbook

Sheet معرفی جدول
A1: بانک مرکزي جمهوري اسلامي ايران، گزارش «ماتریس حسابداری اجتماعی مالی اقتصاد ايران» بر اساس جدول داده ـ ستانده سال 1395 اقتصاد ايران را به صورت آماري تهيه و در فايل حاضر ارائه کرده است. همزمان با تهیه مجموعه سری زمانی حسابهای ملی بر مبنای سال پایه (100=1395) و تهیه جداول داده - ستانده اقتصادی سال 1395؛ ماتریس حسابداری اجتماعی مالی اقتصاد ايران نیز به منظور ابزاری کارآمد برای بررسی سیاست های توسعه اقتصادی و موضوعات توزیع درآمد در دستور کار قرار گرفت. اداره حسابهاي اقتصادي بانک مرکزي در پاسخ به نيازها و ضرورت هاي آماري و بازنمايي دقيق‌تر ساختار و ساز و کار بخش واقعي اقتصاد ایران و نيز تکميل و تدقيق ارقام براساس استانداردهاي نظام حسابهای ملی (SNA)2008 و دستورالعمل تهیه ماتریس حسابداری اجتماعی مالی سازمان ملل متحد 2018 و منطبق بر مبانی و معیارهای توصیه شده در طبقه بندی های بین المللی در زمینه رشته فعالیت های اقتصادی(ISIC.Rev.4) و کالاها و خدمات(CPC.ver.2) تهیه جداول پیوست را دستور کار قرار داده بود که مجموعه حاضر محصول تلاش هایی است که در این زمینه تحقق یافته است.

Sheet جدول خلاصه FSAM
B4: ماتريس حسابداري اجتماعي مالی کلان اقتصاد ايران در سال 1395
K5: ارقام به قيمتهاي جاري ـ ميليارد ريال
B7: حسابها | C7: کالاها و خدمات | D7: توليد | E7: ايجاد درآمد | F7: تخصيص درآمد اوليه | G7: توزيع ثانويه درآمد | H7: مصرف درآمد | I7: سرمايه (نهادي) | J7: تشکيل سرمايه ثابت(فعاليتها) | K7: مالي | L7: دنياي خارج | M7: جمع
B8: کالاها و خدمات | C8: =+SUM('ماتریس اصلی با دهکها'!D7:EC136) -> 0 | D8: =SUM('ماتریس اصلی با دهکها'!ED7:HN136) -> 9076700.6 | H8: =+SUM('ماتریس اصلی با دهکها'!ID7:JB136) -> 9348742.1 | I8: =+SUM('ماتریس اصلی با دهکها'!JC7:JG136) -> 1369128.2 | J8: =+SUM('ماتریس اصلی با دهکها'!JH7:JQ136) -> 3562344.1 | L8: =+SUM('ماتریس اصلی با دهکها'!JY7:JZ136) -> 3027825.1 | M8: =+SUM(C8:L8) -> 26384740
B9: توليد | C9: =+SUM('ماتریس اصلی با دهکها'!D137:EC225) -> 23262123 | M9: =+SUM(C9:L9) -> 23262123
B10: ايجاد درآمد | D10: =+SUM('ماتریس اصلی با دهکها'!ED226:HN230) -> 14185422 | L10: =+SUM('ماتریس اصلی با دهکها'!JY226:JZ230) -> 15049.72 | M10: =+SUM(C10:L10) -> 14200472
B11: تخصيص درآمد اوليه | C11: =+SUM('ماتریس اصلی با دهکها'!D231:EC235) -> 460061.62 | E11: =+SUM('ماتریس اصلی با دهکها'!HO231:HS235) -> 14183777 | F11: =+SUM('ماتریس اصلی با دهکها'!HT231:HX235) -> 5933187.1 | L11: =+SUM('ماتریس اصلی با دهکها'!JY231:JZ235) -> 70511.4 | M11: =+SUM(C11:L11) -> 20647537
B12: توزيع ثانويه درآمد | F12: =+SUM('ماتریس اصلی با دهکها'!HT236:HX240) -> 14662107 | G12: =+SUM('ماتریس اصلی با دهکها'!HY236:IC240) -> 2874456.5 | L12: =+SUM('ماتریس اصلی با دهکها'!JY236:JZ240) -> 33182.391 | M12: =+SUM(C12:L12) -> 17569746
B13: مصرف درآمد | G13: =+SUM('ماتریس اصلی با دهکها'!HY241:IC265) -> 14682965 | M13: =+SUM(C13:L13) -> 14682965
B14: سرمايه (نهادي) | H14: =+SUM('ماتریس اصلی با دهکها'!ID266:JB270) -> 5334222.8 | I14: =+SUM('ماتریس اصلی با دهکها'!JC266:JG270) -> -1278078.3 | K14: =+SUM('ماتریس اصلی با دهکها'!JR266:JX270) -> 7690140.4 | M14: =+SUM(C14:L14) -> 11746285
B15: تشکيل سرمايه ثابت(فعاليتها) | I15: =+SUM('ماتریس اصلی با دهکها'!JC271:JG280) -> 3562344.1 | M15: =+SUM(C15:L15) -> 3562344.1
B16: مالي | I16: =+SUM('ماتریس اصلی با دهکها'!JC281:JG287) -> 7833546.4 | L16: =+SUM('ماتریس اصلی با دهکها'!JY281:JZ287) -> -343969.45 | M16: =+SUM(C16:L16) -> 7489576.9
B17: دنياي خارج | C17: =+SUM('ماتریس اصلی با دهکها'!D288:EC289) -> 2662555.7 | E17: =+SUM('ماتریس اصلی با دهکها'!HO288:HS289) -> 16695.308 | F17: =+SUM('ماتریس اصلی با دهکها'!HT288:HX289) -> 52242.402 | G17: =+SUM('ماتریس اصلی با دهکها'!HY288:IC289) -> 12324.784 | I17: =+SUM('ماتریس اصلی با دهکها'!JC288:JG289) -> 259344.47 | K17: =+SUM('ماتریس اصلی با دهکها'!JR288:JX289) -> -200563.46 | L17: =+SUM('ماتریس اصلی با دهکها'!JY288:JZ289) -> -402750.46 | M17: =+SUM(C17:L17) -> 2399848.7
B18: جمع | C18: =+SUM(C8:C17) -> 26384740 | D18: =+SUM(D8:D17) -> 23262123 | E18: =+SUM(E8:E17) -> 14200472 | F18: =+SUM(F8:F17) -> 20647537 | G18: =+SUM(G8:G17) -> 17569746 | H18: =+SUM(H8:H17) -> 14682965 | I18: =+SUM(I8:I17) -> 11746285 | J18: =+SUM(J8:J17) -> 3562344.1 | ... M18: =+SUM(M8:M17) -> 1.4194564e+08

Sheet ماتریس اصلی FSAM
D1: ماتريس حسابداري اجتماعي اقتصاد ايران - سال 1395 (ارقام به ميليارد ريال)
A3: ماتریس حسابداری اجتماعی مالی اقتصاد ايران سال 1395 به قیمت جاری (میلیارد ریال) | C3: عنوان | D3: کالاها و خدمات | ED3: توليد | HO3: ايجاد درآمد | HT3: تخصيص درآمد اوليه | HY3: توزيع ثانويه درآمد | ID3: مصرف درآمد | II3: سرمايه (تغيير در موجودي انبار) | IN3: سرمايه (تشكيل سرمايه ثابت ناخالص) | IX3: مالي | JE3: دنياي خارج | JG3: جمع
HO4: درآمد نيروي كار | HQ4: درآمد مختلط | HR4: مازاد عملياتي | HS4: خالص ساير مالياتهاي بر توليد | HT4: خانوار | HU4: دولت عمومي | HV4: نفت و گاز | HW4: شركتهاي غيرمالي | HX4: شركتهاي مالي | HY4: خانوار | HZ4: دولت عمومي | IA4: نفت و گاز | IB4: شركتهاي غيرمالي | IC4: شرکتهاي مالي | ID4: خانوار | IE4: دولت عمومي | IF4: نفت و گاز | IG4: شركتهاي غيرمالي | IH4: شركتهاي مالي | II4: خانوار | IJ4: دولت عمومي | IK4: نفت و گاز | IL4: شركتهاي غيرمالي | IM4: شركتهاي مالي | IX4: طلاي پولي و حق برداشت مخصوص | IY4: پول نقد و سپرده ها | IZ4: اوراق بهادار بجز سهام | JA4: وام ها | JB4: سهام و داراييهاي مشابه | JC4: خالص دارايي خانوارها از ذخاير بيمه عمر و صندوق هاي بازنشستگي | JD4: ساير حسابهاي دريافتني / پرداختني | JE4: جاري | JF4: سرمايه
D5: گندم | E5: شلتوک و برنج | F5: ساير غلات و حبوبات | G5: سبزیجات | H5: انواع ميوه ها | I5: دانه هاي روغني | J5: ریشه ها و غده های خوراکی حاوی مقدار زیادی نشاسنه | K5: محصولات نوشیدنی، معطر و ادويه ای | L5: حبوبات خشک | M5: چغندر قند ونيشكر | N5: مواد خام گياهي | O5: گاو و گوسفند (گوشت قرمز) | P5: مرغ و ماکیان (گوشت سفید) و سایر حیوانات زنده | Q5: شیر دامها و سایر انواع شیرهای طبقه بندی نشده در جای دیگر | R5: انواع تخم حیوانات | S5: سایر محصولات دامی | T5: چوبهاي جنگلي و غير جنگلي | U5: ساير محصولات جنگلداري و قطع اشجار | V5: ماهي و سايرفرآورده های دریایی | W5: زغال سنگ و لینیت | X5: نفت خام | Y5: گاز طبیعی | Z5: سنگهاي فلزي ؛ مس ؛ آلومينيم ونيكل | AA5: سنگهاي تزئینی و ساختماني و مجسمه سازي | AB5: سنگ گچ و آهك | AC5: شن، ماسه، ريگ؛ خاك رس | AD5: ساير محصولات معدني (سایر کانی ها) | AE5: برق | AF5: گاز تصفيه و توزيع شده | AG5: آب | AH5: انواع گوشت و فراورده هاي گوشتي | AI5: ماهي و فراورده هاي حاصل از آبزيان | AJ5: سبزي ها و ميوه‌هاي آماده شده و حفاظت شده از فساد و آب آنها | AK5: روغن ها و چربي هاي حيواني و گياهي | AL5: لبنيات و محصولات لبني | AM5: انواع آرد و ساير محصولات از دانه هاي آسياب شده | AN5: انواع نشاسته و محصولات نشاسته اي | AO5: خوراك دام و طيور | AP5: انواع نان و ساير محصولات نانوايي و شیرینی پزی | AQ5: قند و شكر | AR5: كاكائو ؛ شكلات وساير شيريني ها | AS5: انواع ماكاروني و ساير فراورده هاي مشابه حاصل از آرد | AT5: چای و قهوه | AU5: ادویه و ساير محصولات غذايي | AV5: انواع نوشیدنی ها | AW5: انواع سيگار و ساير محصولات از توتون و تنباکو | AX5: انواع نخ و پارچه نساجي بافته شده | AY5: انواع فرش و سایر کفپوش ها | AZ5: انواع منسوجات به جز پوشاک و کف پوش ها | BA5: انواع پوشاك و كالاها از پوست خزدار | BB5: چرم ومحصولات چرمي به جز کفش | BC5: انواع کفش | BD5: محصولات چوبي | BE5: انواع كاغذ و محصولات كاغذي ، محصولات چاپي و اقلام مربوطه | BF5: بنزین | BG5: نفت سفيد | BH5: گازوييل (نفت گاز) | BI5: نفت كوره (نفت سیاه) | BJ5: گازهاي مايع (بوتان، پروپان، ...) | BK5: سایر فرآورده های نفتی (کک و نیمه کک و روغنهای سوختی) | BL5: محصولات شيميايي اساسي | BM5: ساير محصولات شيميايي؛ الياف نیمه مصنوعي | BN5: محصولات از لاستيك وپلاستيك | BO5: شيشه و محصولا ت شيشه اي | BP5: محصولات سراميكي غیر سازه ای | BQ5: محصولات نسوز و غیر نسوز سازه ای (انواع آجر ، بلوک و کاشي) | BR5: گچ، آهک و سيمان | BS5: ساير محصولات معدنی غيرفلزي | BT5: انواع مبلمان | BU5: ساير مصنوعات طبقه بندي نشده | BV5: فلزات اساسي | BW5: محصولات فلزي سازه اي، انواع مخزن و منبع فلزي و ژنراتورهای بخار و قطعات مربوط به آنها | BX5: ساير محصولات صنعتی فلزي ساخته شده | BY5: انواع ماشين آلات با کاربرد عام | BZ5: انواع ماشين آلات کشاورزي، ماشین ابزار، متالژی (ذوب فلز) و معدن کاری و قطعات آنها | CA5: انواع ماشين آلات فرآوری مواد غذايي ، توليد منسوجات و نظامي و قطعات آنها | CB5: انواع لوازم خانگي وسايرماشين آلات باکاربردخاص وقطعات آنها | CC5: ماشين آلات دفتري ، حسابداري و محاسباتي | CD5: موتورهاي الکتريکي ، ژنراتورها و ترانسفورماتورها و قطعات آنها | CE5: ساير ماشين آلات و تجهیزات صنعت برق | CF5: لوازم و دستگاههای رادیویی، تلویزیونی و ارتباطی | CG5: تجهیزات پزشکی و جراحی و تجهیزات ارتوپدی | CH5: انواع وسايل اندازه گيري ، ابزار اپتيکي ، ابزار دقيق و انواع ساعت | CI5: انواع وسيله نقليه موتوري (خودرو) ، تريلر و نيم تريلر؛ انواع کانتینر | CJ5: اجزاء و قطعات و لوازم الحاقي به وسايل نقليه موتوري | CK5: وسايل نقليه آبي،ريلي ،هوايي و قطعات آنها | CL5: ساير تجهيزات حمل و نقل و قطعات مربوط به آنها | CM5: ساختمان مسكوني | CN5: ساختمان غیر مسکونی و سازه های عمرانی و خدمات ساختمانی | CO5: خدمات عمده فروشي و خرده فروشی و حق العمل‌کاري | CP5: خدمات ارائه جا به مسافران (هتل ها و سایر اقامتگاهها) | CQ5: خدمات ارائه غذا و نوشیدنی (رستوران ها و محل های صرف غذا و نوشیدنی) | CR5: خدمات حمل و نقل جاده ای مسافر | CS5: خدمات حمل و نقل جاده ای بار | CT5: خدمات حمل و نقل ریلی مسافر | CU5: خدمات حمل و نقل ریلی بار | CV5: خدمات انتقال از طریق خط لوله | CW5: خدمات حمل و نقل دریایی | CX5: خدمات حمل و نقل هوایی و فضایی | CY5: خدمات پشتيبانی حمل و نقل (جابجایی بار، انبارداری، پایانه، پارکینگ و یدک کش) | CZ5: خدمات پست و پیک | DA5: خدمات مالی، بانکداری سرمایه گذاری و خدمات جانبی به غیر از بیمه و حقوق بازنشستگی | DB5: خدمات بيمه و مستمری، بیمه اتکایی، خدمات جانبی بیمه و مقرری بازنشستگی به جز تامين اجتماعی اجباری | DC5: خدمات اجاره واحدهاي مسكوني شخصي | DD5: خدمات واحدهاي مسكوني اجاري | DE5: خدمات واحدهاي غير مسكوني اجاري | DF5: خدمات معاملات ملکی (مستغلات) | DG5: خدمات كرايه ماشين آلات و تجهيزات بدون متصدی و كالاهای شخصی و خانگي | DH5: خدمات تحقیق و توسعه | DI5: خدمات مشاوره حقوقی و حسابداری، سایر خدمات تخصصی و فنی | DJ5: خدمات دامپزشکی | DK5: خدمات تبلیغات و بازاریابی | DL5: خدمات مخابراتی و اینترنتی | DM5: خدمات محتوای آنلاین، خبرگزاری ها، کتابخانه ها، پخش برنامه های رادیو تلویزیون | DN5: خدمات سرویس و تعمیر و نصب، نظافت و سایر خدمات پشتیبانی، تولیدی و انتشاراتی | DO5: خدمات اداری دولت (امور عمومی) | DP5: خدمات دفاعی و انتظامي (خدمات دفاعی دولت به کل جامعه) | DQ5: خدمات تامين اجتماعی اجباری | DR5: خدمات آموزش پیش دبستانی، ابتدایی خصوصی | DS5: خدمات آموزش پیش دبستانی، ابتدایی دولتی | DT5: خدمات آموزش متوسطه خصوصی | DU5: خدمات آموزش متوسط دولتی | DV5: خدمات آموزش عالی خصوصی | DW5: خدمات آموزش عالی دولتی | DX5: خدمات آموزش دوره های آمادگی، سایر خدمات آموزشی و پشتیبانی آموزشی | DY5: خدمات بهداشت، سلامت و مراقبت اجتماعی | DZ5: خدمات انتقال و تصفیه فاضلاب و دفع پسماند و تخلیه چاه | EA5: خدمات سازمان های عضویتی و مذهبی و سیاسی | EB5: خدمات تفريحی ، فرهنگی ، ورزشی | EC5: سایر خدمات شخصی خانگی و نهادهای برون مرزی | ED5: کاشت محصولات (زراعت و باغداري) | EE5: پرورش حيوانات | EF5: جنگلداری و بریدن درختان | EG5: ماهيگيری و آبزی پروری | EH5: استخراج نفت خام و گاز طبیعی | EI5: استخراج زغال سنگ و زغال قهوه ای | EJ5: استخراج کانه های فلزی | EK5: استخراج ساير معادن | EL5: فرآوری و نگهداری گوشت، ماهی، میوه و سبزیجات | EM5: توليد روغنها و چربيهاي گياهي و حيواني | EN5: توليد فراورده هاي لبني، آسياب غلات (دانه آسياب شده)، نشاسته و فراورده های نشاسته ای هاي نشاستهاي | EO5: تولید سایر فرآورده های غذایی و غذای آماده برای حیوانات | EP5: توليد انواع آشامیدنی ها | EQ5: توليد فرآورده های توتون و تنباکو (سیگار) | ER5: توليد منسوجات | ES5: توليد قالي و قاليچه | ET5: توليد پوشاک | EU5: توليدچرم و فرآورده های وابسته بجز کفش | EV5: تولید کفش و پاپوش | EW5: توليد چوب و فراورده هاي چوب و چوب پنبه، به جز مبلمان؛ توليد كالاها از حصير و مواد حصيربافي | EX5: توليدکاغذ و فرآورده های کاغذی | EY5: چاپ و تکثیر رسانه های ضبط شده | EZ5: توليد فراورده های نفتی (پالايشگاه ها) | FA5: توليد ساير فرآورده های حاصل از تصفيه نفت (غیر پالایشگاه ها) | FB5: توليد مواد شیمیایی و فرآورده های شیمیایی | FC5: توليد داروها و فرآورده های دارویی شیمیایی و گیاهی | FD5: توليد فرآورده های لاستیکی و پلاستیکی | FE5: توليد شيشه و محصولات شيشه اي | FF5: توليد محصولات کاني غير فلزي طبقه بندي نشده در جاي ديگر | FG5: توليد آهن و فولاد پايه | FH5: تولید محصولات اساسی مس و آلومنيوم | FI5: تولید سایر فلزات اساسی و ریخته گری | FJ5: توليد محصولات فلزی ساخته شده، به جز ماشین آلات و تجهیزات | FK5: تولید محصولات رایانه ای، الکترونیکی و نوری | FL5: توليد تجهیزات برقی | FM5: تولید ماشین آلات و تجهیزات طبقه بندی نشده در جای دیگر | FN5: تولید وسایل نقلیه موتوری، تریلر و نیم تریلر | FO5: تولید سایر تجهیزات حمل و نقل | FP5: تولید مبلمان | FQ5: تولید سایر مصنوعات | FR5: تعمیر و نصب ماشین آلات و تجهیزات | FS5: تولید، انتقال و توزیع برق | FT5: توليد گاز؛ توزيع سوختهاي گازي از طريق شاه لوله | FU5: جمع آوری، تصفیه و تامین آب | FV5: فاضلاب، فعالیت های جمع آوری، تصفیه و دفع پسماند؛ بازیافت مواد | FW5: ساختمان خصوصی | FX5: ساختمان دولتی | FY5: فروش، نگهداری و تعمیر وسایل نقلیه موتوری و موتور سیکلت | FZ5: عمده فروشی و خرده فروشی | GA5: حمل و نقل ریلی مسافر | GB5: حمل و نقل ریلی بار | GC5: حمل و نقل جاده ای مسافر | GD5: حمل و نقل جاده ای بار | GE5: حمل و نقل از طریق خطوط لوله | GF5: حمل و نقل آبی | GG5: حمل و نقل هوایی | GH5: انبارداری و ذخیره سازی | GI5: فعالیت های پشتیبانی حمل و نقل | GJ5: فعالیت های پست و پیک | GK5: فعالیت های خدماتی مربوط به تامین جا (هتل ) | GL5: فعالیت های خدماتی مربوط به غذا و آشامیدنی (رستوران ) | GM5: مخابرات | GN5: سایر فعالیت های اطلاعات و ارتباطات | GO5: فعالیت های خدمات مالی، بجز تامین وجوه بیمه و بازنشستگی | GP5: بیمه، بیمه اتکایی و تامین وجوه بازنشستگی بجز تامین اجتماعی اجباري | GQ5: فعالیت های جنبی خدمات مالی و فعالیت های بیمه | GR5: خدمات واحدهاي مسكوني شخصي | GS5: خدمات واحدهاي مسكوني اجاري | GT5: خدمات واحدهاي غير مسكوني | GU5: خدمات دلالان املاك و مستغلات | GV5: تحقیق و توسعه علمی | GW5: فعالیت های حقوقی و مهندسی | GX5: فعالیت دامپزشکی | GY5: فعالیت اجاره داری | GZ5: سایر فعالیت های پشتیبانی | HA5: اداره امور عمومی | HB5: خدمات شهري | HC5: دفاع و امنیت | HD5: فعالیت های تامين اجتماعی اجباری | HE5: آموزش زير ديپلم (پيش دبستان، ابتدايي و متوسطه) دولتي | HF5: آموزش زير ديپلم (پيش دبستان، ابتدايي و متوسطه) خصوصي | HG5: آموزش عالي دولتي | HH5: آموزش عالي خصوصي | HI5: ساير آموزش ها | HJ5: بهداشت عمومي | HK5: بهداشت خصوصي | HL5: مددکاري اجتماعي | HM5: فعاليت های سرگرمی، فرهنگی، تفريحی و ورزشی | HN5: ساير فعاليت های خدماتی و شخصی خانگی | HO5: مقيم داخل | HP5: مقيم خارج | IN5: کشاورزي | IO5: نفت و گاز | IP5: ساير معادن | IQ5: صنعت | IR5: برق،گاز و آب | IS5: ساختمان | IT5: حمل و نقل | IU5: ارتباطات | IV5: مستغلات | IW5: ساير خدمات
A6: عنوان | C6: كد | D6: 1 | E6: 2 | F6: 3 | G6: 4 | H6: 5 | I6: 6 | J6: 7 | K6: 8 | L6: 9 | M6: 10 | N6: 11 | O6: 12 | P6: 13 | Q6: 14 | R6: 15 | S6: 16 | T6: 17 | U6: 18 | V6: 19 | W6: 20 | X6: 21 | Y6: 22 | Z6: 23 | AA6: 24 | AB6: 25 | AC6: 26 | AD6: 27 | AE6: 28 | AF6: 29 | AG6: 30 | AH6: 31 | AI6: 32 | AJ6: 33 | AK6: 34 | AL6: 35 | AM6: 36 | AN6: 37 | AO6: 38 | AP6: 39 | AQ6: 40 | AR6: 41 | AS6: 42 | AT6: 43 | AU6: 44 | AV6: 45 | AW6: 46 | AX6: 47 | AY6: 48 | AZ6: 49 | BA6: 50 | BB6: 51 | BC6: 52 | BD6: 53 | BE6: 54 | BF6: 55 | BG6: 56 | BH6: 57 | BI6: 58 | BJ6: 59 | BK6: 60 | BL6: 61 | BM6: 62 | BN6: 63 | BO6: 64 | BP6: 65 | BQ6: 66 | BR6: 67 | BS6: 68 | BT6: 69 | BU6: 70 | BV6: 71 | BW6: 72 | BX6: 73 | BY6: 74 | BZ6: 75 | CA6: 76 | CB6: 77 | CC6: 78 | CD6: 79 | CE6: 80 | CF6: 81 | CG6: 82 | CH6: 83 | CI6: 84 | CJ6: 85 | CK6: 86 | CL6: 87 | CM6: 88 | CN6: 89 | CO6: 90 | CP6: 91 | CQ6: 92 | CR6: 93 | CS6: 94 | CT6: 95 | CU6: 96 | CV6: 97 | CW6: 98 | CX6: 99 | CY6: 100 | CZ6: 101 | DA6: 102 | DB6: 103 | DC6: 104 | DD6: 105 | DE6: 106 | DF6: 107 | DG6: 108 | DH6: 109 | DI6: 110 | DJ6: 111 | DK6: 112 | DL6: 113 | DM6: 114 | DN6: 115 | DO6: 116 | DP6: 117 | DQ6: 118 | DR6: 119 | DS6: 120 | DT6: 121 | DU6: 122 | DV6: 123 | DW6: 124 | DX6: 125 | DY6: 126 | DZ6: 127 | EA6: 128 | EB6: 129 | EC6: 130 | ED6: 1 | EE6: 2 | EF6: 3 | EG6: 4 | EH6: 5 | EI6: 6 | EJ6: 7 | EK6: 8 | EL6: 9 | EM6: 10 | EN6: 11 | EO6: 12 | EP6: 13 | EQ6: 14 | ER6: 15 | ES6: 16 | ET6: 17 | EU6: 18 | EV6: 19 | EW6: 20 | EX6: 21 | EY6: 22 | EZ6: 23 | FA6: 24 | FB6: 25 | FC6: 26 | FD6: 27 | FE6: 28 | FF6: 29 | FG6: 30 | FH6: 31 | FI6: 32 | FJ6: 33 | FK6: 34 | FL6: 35 | FM6: 36 | FN6: 37 | FO6: 38 | FP6: 39 | FQ6: 40 | FR6: 41 | FS6: 42 | FT6: 43 | FU6: 44 | FV6: 45 | FW6: 46 | FX6: 47 | FY6: 48 | FZ6: 49 | GA6: 50 | GB6: 51 | GC6: 52 | GD6: 53 | GE6: 54 | GF6: 55 | GG6: 56 | GH6: 57 | GI6: 58 | GJ6: 59 | GK6: 60 | GL6: 61 | GM6: 62 | GN6: 63 | GO6: 64 | GP6: 65 | GQ6: 66 | GR6: 67 | GS6: 68 | GT6: 69 | GU6: 70 | GV6: 71 | GW6: 72 | GX6: 73 | GY6: 74 | GZ6: 75 | HA6: 76 | HB6: 77 | HC6: 78 | HD6: 79 | HE6: 80 | HF6: 81 | HG6: 82 | HH6: 83 | HI6: 84 | HJ6: 85 | HK6: 86 | HL6: 87 | HM6: 88 | HN6: 89 | HO6: 2a | HP6: 2b | HQ6: 2c | HR6: 2d | HS6: 2e | HT6: 3a | HU6: 3b | HV6: 3c | HW6: 3d | HX6: 3e | HY6: 4a | HZ6: 4b | IA6: 4c | IB6: 4d | IC6: 4e | ID6: 5a | IE6: 5b | IF6: 5c | IG6: 5d | IH6: 5e | II6: 6a | IJ6: 6b | IK6: 6c | IL6: 6d | IM6: 6e | IN6: 1 | IO6: 2 | IP6: 3 | IQ6: 4 | IR6: 5 | IS6: 6 | IT6: 7 | IU6: 8 | IV6: 9 | IW6: 10 | IX6: 1 | IY6: 2 | IZ6: 3 | JA6: 4 | JB6: 5 | JC6: 6 | JD6: 7
A7: کالاها و خدمات | B7: گندم | C7: 1 | ED7: 23176.612 | EE7: 24424.242 | EF7: 0 | EG7: 294.01088 | EH7: 0 | EI7: 0 | EJ7: 0 | EK7: 0 | EL7: 0 | EM7: 0 | EN7: 76403.776 | EO7: 0 | EP7: 0 | EQ7: 0 | ER7: 0 | ES7: 0 | ET7: 0 | EU7: 0 | EV7: 0 | EW7: 0 | EX7: 0 | EY7: 0 | EZ7: 0 | FA7: 0 | FB7: 0 | FC7: 0 | FD7: 0 | FE7: 0 | FF7: 0 | FG7: 0 | FH7: 0 | FI7: 0 | FJ7: 0 | FK7: 0 | FL7: 0 | FM7: 0 | FN7: 0 | FO7: 0 | FP7: 0 | FQ7: 0 | FR7: 0 | FS7: 0 | FT7: 0 | FU7: 0 | FV7: 0 | FW7: 0 | FX7: 0 | FY7: 0 | FZ7: 0 | GA7: 0 | GB7: 0 | GC7: 0 | GD7: 0 | GE7: 0 | GF7: 0 | GG7: 0 | GH7: 0 | GI7: 0 | GJ7: 0 | GK7: 0 | GL7: 0 | GM7: 0 | GN7: 0 | GO7: 0 | GP7: 0 | GQ7: 0 | GR7: 0 | GS7: 0 | GT7: 0 | GU7: 0 | GV7: 0 | GW7: 0 | GX7: 0 | GY7: 0 | GZ7: 0 | HA7: 0 | HB7: 0 | HC7: 0 | HD7: 0 | HE7: 0 | HF7: 0 | HG7: 0 | HH7: 0 | HI7: 0 | HJ7: 0 | HK7: 0 | HL7: 0 | HM7: 0 | HN7: 0 | ID7: 1000.9419 | IE7: 0 | II7: 69689.648 | IJ7: 0 | IK7: 0 | IL7: 19409.841 | IM7: 0 | IN7: 0 | IO7: 0 | IP7: 0 | IQ7: 0 | IR7: 0 | IS7: 0 | IT7: 0 | IU7: 0 | IV7: 0 | IW7: 0 | JE7: 0.53912669 | JG7: 214399.61
B8: شلتوک و برنج | C8: 2 | ED8: 4692.6783 | EE8: 5587.5358 | EF8: 4.1416521 | EG8: 307.58668 | EH8: 881.71607 | EI8: 10.153336 | EJ8: 61.84016 | EK8: 76.173556 | EL8: 40.854526 | EM8: 8.9321174 | EN8: 44.485854 | EO8: 72.300546 | EP8: 18.750712 | EQ8: 1.1974715 | ER8: 16.733226 | ES8: 6.2658494 | ET8: 5.9323522 | EU8: 5.580291 | EV8: 0.021260247 | EW8: 25.720729 | EX8: 24.111738 | EY8: 19.337981 | EZ8: 217.37164 | FA8: 217.8913 | FB8: 162.19271 | FC8: 48.253215 | FD8: 63.981422 | FE8: 28.511842 | FF8: 166.01994 | FG8: 194.07919 | FH8: 34.480939 | FI8: 4.3076722 | FJ8: 165.45452 | FK8: 2.5090179 | FL8: 28.302861 | FM8: 40.237799 | FN8: 259.43911 | FO8: 9.8836848 | FP8: 39.82658 | FQ8: 9.8962936 | FR8: 10.983005 | FS8: 0 | FT8: 456.06888 | FU8: 71.320973 | FV8: 0 | FW8: 344.11523 | FX8: 557.04884 | FY8: 8.8636577 | FZ8: 76.658168 | GA8: 1.1815001 | GB8: 48.39146 | GC8: 122.25043 | GD8: 1.7579665 | GE8: 4.360213 | GF8: 50.197763 | GG8: 2.2794474 | GH8: 5.026103 | GI8: 55.503016 | GJ8: 0 | GK8: 549.05628 | GL8: 12567.444 | GM8: 17.365347 | GN8: 9.4752069 | GO8: 115.43272 | GP8: 28.857126 | GQ8: 0 | GR8: 0 | GS8: 0 | GT8: 0 | GU8: 0 | GV8: 25.976823 | GW8: 6.6030382 | GX8: 0 | GY8: 0.48150038 | GZ8: 1.1104903 | HA8: 80.129942 | HB8: 0 | HC8: 1364.6344 | HD8: 66.642129 | HE8: 0 | HF8: 0 | HG8: 1165.1633 | HH8: 345.56779 | HI8: 64.697865 | HJ8: 1805.3396 | HK8: 673.58937 | HL8: 118.05757 | HM8: 2.3307356 | HN8: 8.9599751 | ID8: 186166.19 | IE8: 0 | II8: 2034.2945 | IJ8: 0 | IK8: 0 | IL8: 566.58818 | IM8: 0 | IN8: 0 | IO8: 0 | IP8: 0 | IQ8: 0 | IR8: 0 | IS8: 0 | IT8: 0 | IU8: 0 | IV8: 0 | IW8: 0 | JE8: 263.90312 | JG8: 223468.59
B9: ساير غلات و حبوبات | C9: 3 | ED9: 3176.7012 | EE9: 23029.632 | EF9: 0.62448009 | EG9: 145.2876 | EH9: 0 | EI9: 0 | EJ9: 0 | EK9: 0 | EL9: 0 | EM9: 0 | EN9: 0 | EO9: 22967.234 | EP9: 0 | EQ9: 0 | ER9: 0 | ES9: 0 | ET9: 0 | EU9: 0 | EV9: 0 | EW9: 0 | EX9: 0 | EY9: 0 | EZ9: 0 | FA9: 0 | FB9: 0 | FC9: 0 | FD9: 0 | FE9: 0 | FF9: 0 | FG9: 0 | FH9: 0 | FI9: 0 | FJ9: 0 | FK9: 0 | FL9: 0 | FM9: 0 | FN9: 0 | FO9: 0 | FP9: 0 | FQ9: 0 | FR9: 0 | FS9: 0 | FT9: 0 | FU9: 0 | FV9: 0 | FW9: 0 | FX9: 0 | FY9: 0 | FZ9: 0 | GA9: 0 | GB9: 0 | GC9: 0 | GD9: 0 | GE9: 0 | GF9: 0 | GG9: 0 | GH9: 0 | GI9: 0 | GJ9: 0 | GK9: 0 | GL9: 0 | GM9: 0 | GN9: 0 | GO9: 0 | GP9: 0 | GQ9: 0 | GR9: 0 | GS9: 0 | GT9: 0 | GU9: 0 | GV9: 0 | GW9: 0.94130043 | GX9: 0 | GY9: 0.068640602 | GZ9: 0 | HA9: 24.082257 | HB9: 4.981644 | HC9: 37.576153 | HD9: 0 | HE9: 0 | HF9: 0 | HG9: 0 | HH9: 60.909116 | HI9: 0 | HJ9: 91.026385 | HK9: 0 | HL9: 0 | HM9: 0 | HN9: 0 | ID9: 547.42063 | IE9: 0 | II9: 57254.453 | IJ9: 0 | IK9: 0 | IL9: 15946.411 | IM9: 0 | IN9: 0 | IO9: 0 | IP9: 0 | IQ9: 0 | IR9: 0 | IS9: 0 | IT9: 0 | IU9: 0 | IV9: 0 | IW9: 0 | JE9: 0.91906636 | JG9: 123288.27
B10: سبزیجات | C10: 4 | ED10: 794.17531 | EE10: 885.75506 | EF10: 1.7173202 | EG10: 399.54089 | EH10: 125.69361 | EI10: 1.4474154 | EJ10: 8.8156644 | EK10: 10.858971 | EL10: 6768.0113 | EM10: 1.2733238 | EN10: 663.04188 | EO10: 3898.0709 | EP10: 2.67302 | EQ10: 0.17070634 | ER10: 2.385416 | ES10: 0.89323226 | ET10: 0.84569035 | EU10: 0.79550203 | EV10: 0.0030307685 | EW10: 3.6666354 | EX10: 3.4372646 | EY10: 2.7567385 | EZ10: 30.987556 | FA10: 31.061637 | FB10: 23.121488 | FC10: 6.8787687 | FD10: 9.1209134 | FE10: 4.0645244 | FF10: 23.667081 | FG10: 27.667086 | FH10: 4.9154528 | FI10: 0.61408303 | FJ10: 23.586477 | FK10: 0.35767469 | FL10: 4.0347328 | FM10: 5.7361258 | FN10: 36.984511 | FO10: 1.4089752 | FP10: 5.6775042 | FQ10: 1.4107726 | FR10: 1.5656895 | FS10: 0 | FT10: 65.015198 | FU10: 10.167208 | FV10: 0 | FW10: 51.365122 | FX10: 83.568297 | FY10: 1.2635645 | FZ10: 10.928055 | GA10: 0.16842952 | GB10: 6.8984762 | GC10: 17.427489 | GD10: 0.25060807 | GE10: 0.62157302 | GF10: 7.1559749 | GG10: 0.32494811 | GH10: 0.7164994 | GI10: 7.9122688 | GJ10: 0 | GK10: 78.271077 | GL10: 1791.5603 | GM10: 2.4755284 | GN10: 1.3507443 | GO10: 16.455587 | GP10: 4.1137464 | GQ10: 0 | GR10: 0 | GS10: 0 | GT10: 0 | GU10: 0 | GV10: 3.7031429 | GW10: 0 | GX10: 0 | GY10: 0 | GZ10: 0.15830667 | HA10: 66.226207 | HB10: 13.699521 | HC10: 103.33442 | HD10: 9.5002123 | HE10: 0 | HF10: 0 | HG10: 166.10062 | HH10: 167.50007 | HI10: 9.2230464 | HJ10: 250.32256 | HK10: 96.023973 | HL10: 16.829775 | HM10: 0.33225954 | HN10: 1.2772951 | ID10: 204125.79 | IE10: 0 | II10: 76864.969 | IJ10: 0 | IK10: 0 | IL10: 21408.299 | IM10: 0 | IN10: 0 | IO10: 0 | IP10: 0 | IQ10: 0 | IR10: 0 | IS10: 0 | IT10: 0 | IU10: 0 | IV10: 0 | IW10: 0 | JE10: 24281.416 | JG10: 343561.61
B11: انواع ميوه ها | C11: 5 | ED11: 4465.2992 | EE11: 199.36555 | EF11: 6.3354317 | EG11: 75.707259 | EH11: 30.807177 | EI11: 0.49186855 | EJ11: 10.780803 | EK11: 7.762582 | EL11: 11039.088 | EM11: 0.11169765 | EN11: 2627.357 | EO11: 21830.055 | EP11: 0.23448084 | EQ11: 0.014974585 | ER11: 0.20925183 | ES11: 0.078355511 | ET11: 0.074185072 | EU11: 0.069782487 | EV11: 0.000265863 | EW11: 0.32164209 | EX11: 0.30152138 | EY11: 0.24182473 | EZ11: 2.7182693 | FA11: 2.7247677 | FB11: 2.0282474 | FC11: 0.60341465 | FD11: 0.80009854 | FE11: 0.35654543 | FF11: 2.0761075 | FG11: 2.4269933 | FH11: 0.43119 | FI11: 0.053868173 | FJ11: 2.0690368 | FK11: 0.031375695 | FL11: 0.35393208 | FM11: 0.50318051 | FN11: 3.2443301 | FO11: 0.12359716 | FP11: 0.49803815 | FQ11: 0.12375483 | FR11: 0.13734435 | FS11: 1.0915548 | FT11: 5.7032188 | FU11: 15.30721 | FV11: 0 | FW11: 338.22421 | FX11: 247.51491 | FY11: 39.064096 | FZ11: 337.84947 | GA11: 1.123703 | GB11: 32.675084 | GC11: 10.651799 | GD11: 0.02198367 | GE11: 0.054525204 | GF11: 4.0977315 | GG11: 0.028504877 | GH11: 0.062852272 | GI11: 6.2937332 | GJ11: 0.58562605 | GK11: 6.8660421 | GL11: 157.15803 | GM11: 2.0133284 | GN11: 50.228798 | GO11: 1.4435058 | GP11: 2.1701983 | GQ11: 160.15017 | GR11: 0 | GS11: 0 | GT11: 0 | GU11: 0 | GV11: 28.979324 | GW11: 29.101047 | GX11: 0.6852893 | GY11: 2.1220785 | GZ11: 4.894176 | HA11: 912.82094 | HB11: 1.9986273 | HC11: 141.93673 | HD11: 0.83337114 | HE11: 356.4943 | HF11: 56.83854 | HG11: 79.398839 | HH11: 25.632336 | HI11: 6.8115213 | HJ11: 210.88878 | HK11: 8.4233494 | HL11: 62.916505 | HM11: 10.272067 | HN11: 39.488588 | ID11: 320101.11 | IE11: 0 | II11: 184577.28 | IJ11: 0 | IK11: 0 | IL11: 51408.145 | IM11: 0 | IN11: 0 | IO11: 0 | IP11: 0 | IQ11: 0 | IR11: 0 | IS11: 0 | IT11: 0 | IU11: 0 | IV11: 0 | IW11: 0 | JE11: 57670.927 | JG11: 657474.39
B12: دانه هاي روغني | C12: 6 | ED12: 934.33709 | EE12: 1868.6447 | EF12: 0 | EG12: 0 | EH12: 0 | EI12: 0 | EJ12: 0 | EK12: 0 | EL12: 0 | EM12: 39160.946 | EN12: 0 | EO12: 0 | EP12: 0 | EQ12: 0 | ER12: 0 | ES12: 0 | ET12: 0 | EU12: 0 | EV12: 0 | EW12: 0 | EX12: 0 | EY12: 0 | EZ12: 0 | FA12: 0 | FB12: 0 | FC12: 0 | FD12: 0 | FE12: 0 | FF12: 0 | FG12: 0 | FH12: 0 | FI12: 0 | FJ12: 0 | FK12: 0 | FL12: 0 | FM12: 0 | FN12: 0 | FO12: 0 | FP12: 0 | FQ12: 0 | FR12: 0 | FS12: 0 | FT12: 0 | FU12: 0 | FV12: 0 | FW12: 0 | FX12: 0 | FY12: 0 | FZ12: 0 | GA12: 0 | GB12: 0 | GC12: 0 | GD12: 0 | GE12: 0 | GF12: 0 | GG12: 0 | GH12: 0 | GI12: 0 | GJ12: 0 | GK12: 0 | GL12: 0 | GM12: 0 | GN12: 0 | GO12: 0 | GP12: 0 | GQ12: 0 | GR12: 0 | GS12: 0 | GT12: 0 | GU12: 0 | GV12: 0 | GW12: 0 | GX12: 0 | GY12: 0 | GZ12: 0 | HA12: 0 | HB12: 0.10112775 | HC12: 0 | HD12: 0 | HE12: 0 | HF12: 0 | HG12: 0 | HH12: 0 | HI12: 0 | HJ12: 0 | HK12: 0 | HL12: 0 | HM12: 0 | HN12: 0 | ID12: 3135.2652 | IE12: 0 | II12: 22242.217 | IJ12: 0 | IK12: 0 | IL12: 6194.864 | IM12: 0 | IN12: 0 | IO12: 0 | IP12: 0 | IQ12: 0 | IR12: 0 | IS12: 0 | IT12: 0 | IU12: 0 | IV12: 0 | IW12: 0 | JE12: 228.00463 | JG12: 73764.38
B13: ریشه ها و غده های خوراکی حاوی مقدار زیادی نشاسنه | C13: 7 | ED13: 1389.8068 | EE13: 6200.2854 | EF13: 0.27321004 | EG13: 63.563324 | EH13: 59.944433 | EI13: 0.69028566 | EJ13: 4.204271 | EK13: 5.1787427 | EL13: 11863.555 | EM13: 0.60725979 | EN13: 3.0244195 | EO13: 4.9154318 | EP13: 1.2747877 | EQ13: 0.081411413 | ER13: 1.1376267 | ES13: 0.42599064 | ET13: 0.40331747 | EU13: 0.3793822 | EV13: 0.0014454012 | EW13: 1.748652 | EX13: 1.6392629 | EY13: 1.3147138 | EZ13: 14.778249 | FA13: 14.813579 | FB13: 11.026849 | FC13: 3.2805477 | FD13: 4.3498471 | FE13: 1.9384089 | FF13: 11.287047 | FG13: 13.194687 | FH13: 2.3442244 | FI13: 0.29286181 | FJ13: 11.248607 | FK13: 0.17057833 | FL13: 1.924201 | FM13: 2.7356109 | FN13: 17.638252 | FO13: 0.67195314 | FP13: 2.7076537 | FQ13: 0.67281037 | FR13: 0.74669166 | FS13: 0 | FT13: 31.006343 | FU13: 4.8488345 | FV13: 0 | FW13: 34.243415 | FX13: 55.712198 | FY13: 0.60260548 | FZ13: 5.2116895 | GA13: 0.08032558 | GB13: 3.2899464 | GC13: 8.3113291 | GD13: 0.11951728 | GE13: 0.29643386 | GF13: 3.4127499 | GG13: 0.15497073 | GH13: 0.34170512 | GI13: 3.7734334 | GJ13: 0 | GK13: 37.328193 | GL13: 854.41148 | GM13: 1.1806021 | GN13: 0.64418232 | GO13: 7.8478199 | GP13: 1.9618833 | GQ13: 0 | GR13: 0 | GS13: 0 | GT13: 0 | GU13: 0 | GV13: 1.7660627 | GW13: 0.44891479 | GX13: 0 | GY13: 0.032735331 | GZ13: 0.075497901 | HA13: 10.535988 | HB13: 2.1794692 | HC13: 16.439567 | HD13: 4.5307382 | HE13: 0 | HF13: 0 | HG13: 79.214903 | HH13: 26.647738 | HI13: 4.5770762 | HJ13: 39.824043 | HK13: 45.794711 | HL13: 8.0262736 | HM13: 0.15845762 | HN13: 0.60915372 | ID13: 27596.717 | IE13: 0 | II13: -5703.3436 | IJ13: 0 | IK13: 0 | IL13: -1588.4854 | IM13: 0 | IN13: 0 | IO13: 0 | IP13: 0 | IQ13: 0 | IR13: 0 | IS13: 0 | IT13: 0 | IU13: 0 | IV13: 0 | IW13: 0 | JE13: 4191.2173 | JG13: 45512.025
B14: محصولات نوشیدنی، معطر و ادويه ای | C14: 8 | ED14: 45.104033 | EE14: 2.0137934 | EF14: 0.12929452 | EG14: 1.5450461 | EH14: 24.218071 | EI14: 0.2788814 | EJ14: 1.698562 | EK14: 2.092257 | EL14: 1.1221502 | EM14: 0.24533822 | EN14: 1.2218917 | EO14: 13890.262 | EP14: 0.5150253 | EQ14: 0.032890917 | ER14: 0.45961107 | ES14: 0.17210391 | ET14: 0.16294376 | EU14: 0.1532737 | EV14: 0.00058395463 | EW14: 0.70647057 | EX14: 0.66227646 | EY14: 0.53115579 | EZ14: 5.9705409 | FA14: 5.9848144 | FB14: 4.4549427 | FC14: 1680.7123 | FD14: 1.757376 | FE14: 0.783134 | FF14: 4.5600651 | FG14: 5.3307679 | FH14: 0.947087 | FI14: 0.11831871 | FJ14: 4.5445347 | FK14: 0.068915127 | FL14: 0.7773939 | FM14: 1.1052105 | FN14: 7.1260068 | FO14: 0.2714749 | FP14: 1.0939156 | FQ14: 0.27182123 | FR14: 0.30166991 | FS14: 0 | FT14: 12.526831 | FU14: 1.9589712 | FV14: 0 | FW14: 0 | FX14: 0 | FY14: 0.24345784 | FZ14: 2.1055678 | GA14: 0.032452231 | GB14: 1.3291669 | GC14: 3.3578491 | GD14: 0.048286019 | GE14: 0.11976185 | GF14: 1.3787806 | GG14: 0.062609519 | GH14: 0.13805183 | GI14: 1.5244998 | GJ14: 0 | GK14: 15.080914 | GL14: 345.18965 | GM14: 0.47697351 | GN14: 0.26025525 | GO14: 3.1705874 | GP14: 0.79261788 | GQ14: 0 | GR14: 0 | GS14: 0 | GT14: 0 | GU14: 0 | GV14: 0.71350468 | GW14: 0.18136547 | GX14: 0 | GY14: 0.013225358 | GZ14: 0.030501807 | HA14: 9.6251525 | HB14: 0.040788313 | HC14: 2.896668 | HD14: 1.8304575 | HE14: 7.275394 | HF14: 1.1599702 | HG14: 32.003508 | HH14: 0.52310891 | HI14: 1.8491785 | HJ14: 4.3038527 | HK14: 18.501461 | HL14: 3.2426842 | HM14: 0.064018252 | HN14: 0.24610339 | ID14: 4621.7625 | IE14: 0 | II14: 3357.6676 | IJ14: 0 | IK14: 0 | IL14: 935.1718 | IM14: 0 | IN14: 0 | IO14: 0 | IP14: 0 | IQ14: 0 | IR14: 0 | IS14: 0 | IT14: 0 | IU14: 0 | IV14: 0 | IW14: 0 | JE14: 12358.566 | JG14: 37446.974
B15: حبوبات خشک | C15: 9 | ED15: 595.63148 | EE15: 2657.2652 | EF15: 0.39030006 | EG15: 90.804749 | EH15: 47.133922 | EI15: 0.54276718 | EJ15: 3.3057913 | EK15: 4.0720121 | EL15: 2.1839616 | EM15: 0.47748447 | EN15: 2.3780816 | EO15: 3.8649724 | EP15: 1.0023574 | EQ15: 0.064013271 | ER15: 0.89450857 | ES15: 0.3349537 | ET15: 0.31712593 | EU15: 0.29830578 | EV15: 0.0011365097 | EW15: 1.3749538 | EX15: 1.2889419 | EY15: 1.033751 | EZ15: 11.620042 | FA15: 11.647822 | FB15: 8.6703406 | FC15: 2.5794736 | FD15: 3.4202568 | FE15: 1.5241584 | FF15: 8.8749328 | FG15: 10.374897 | FH15: 1.8432486 | FI15: 0.23027536 | FJ15: 8.8447071 | FK15: 0.13412465 | FL15: 1.5129869 | FM15: 2.1509932 | FN15: 13.868844 | FO15: 0.52835244 | FP15: 2.1290107 | FQ15: 0.52902647 | FR15: 0.58711885 | FS15: 0 | FT15: 24.380088 | FU15: 3.8126074 | FV15: 0 | FW15: 85.608536 | FX15: 139.28049 | FY15: 0.47382481 | FZ15: 4.097918 | GA15: 0.063159487 | GB15: 2.5868637 | GC15: 6.5351446 | GD15: 0.09397567 | GE15: 0.23308404 | GF15: 2.6834233 | GG15: 0.12185249 | GH15: 0.26868054 | GI15: 2.9670264 | GJ15: 0 | GK15: 29.350918 | GL15: 671.81825 | GM15: 0.92829987 | GN15: 0.50651642 | GO15: 6.1706903 | GP15: 1.5426162 | GQ15: 0 | GR15: 0 | GS15: 0 | GT15: 0 | GU15: 0 | GV15: 1.3886438 | GW15: 0.35297881 | GX15: 0 | GY15: 0.02573958 | GZ15: 0.059363514 | HA15: 15.051411 | HB15: 3.1135275 | HC15: 23.485096 | HD15: 3.5624903 | HE15: 0 | HF15: 0 | HG15: 62.286169 | HH15: 38.068198 | HI15: 3.5989256 | HJ15: 56.89149 | HK15: 36.008087 | HL15: 6.3110073 | HM15: 0.12459421 | HN15: 0.47897365 | ID15: 43043.129 | IE15: 0 | II15: 5773.7363 | IJ15: 0 | IK15: 0 | IL15: 1608.0911 | IM15: 0 | IN15: 0 | IO15: 0 | IP15: 0 | IQ15: 0 | IR15: 0 | IS15: 0 | IT15: 0 | IU15: 0 | IV15: 0 | IW15: 0 | JE15: 352.8638 | JG15: 55517.882
B16: چغندر قند ونيشكر | C16: 10 | ED16: 2448.0371 | EE16: 2430.3307 | EF16: 0 | EG16: 0 | EH16: 0 | EI16: 0 | EJ16: 0 | EK16: 0 | EL16: 0 | EM16: 0 | EN16: 0 | EO16: 16170.632 | EP16: 0 | EQ16: 0 | ER16: 0 | ES16: 0 | ET16: 0 | EU16: 0 | EV16: 0 | EW16: 0 | EX16: 0 | EY16: 0 | EZ16: 0 | FA16: 0 | FB16: 0 | FC16: 0 | FD16: 0 | FE16: 0 | FF16: 0 | FG16: 0 | FH16: 0 | FI16: 0 | FJ16: 0 | FK16: 0 | FL16: 0 | FM16: 0 | FN16: 0 | FO16: 0 | FP16: 0 | FQ16: 0 | FR16: 0 | FS16: 0 | FT16: 0 | FU16: 0 | FV16: 0 | FW16: 0 | FX16: 0 | FY16: 0 | FZ16: 0 | GA16: 0 | GB16: 0 | GC16: 0 | GD16: 0 | GE16: 0 | GF16: 0 | GG16: 0 | GH16: 0 | GI16: 0 | GJ16: 0 | GK16: 0 | GL16: 0 | GM16: 0 | GN16: 0 | GO16: 0 | GP16: 0 | GQ16: 0 | GR16: 0 | GS16: 0 | GT16: 0 | GU16: 0 | GV16: 0 | GW16: 0 | GX16: 0 | GY16: 0 | GZ16: 0 | HA16: 0 | HB16: 0 | HC16: 0 | HD16: 0 | HE16: 0 | HF16: 0 | HG16: 0 | HH16: 0 | HI16: 0 | HJ16: 0 | HK16: 0 | HL16: 0 | HM16: 0 | HN16: 0 | ID16: 0 | IE16: 0 | II16: 11802.207 | IJ16: 0 | IK16: 0 | IL16: 3287.1305 | IM16: 0 | IN16: 0 | IO16: 0 | IP16: 0 | IQ16: 0 | IR16: 0 | IS16: 0 | IT16: 0 | IU16: 0 | IV16: 0 | IW16: 0 | JE16: 1.502032 | JG16: 36139.84
B17: مواد خام گياهي | C17: 11 | ED17: 14401.173 | EE17: 56808.762 | EF17: 0.89769013 | EG17: 208.85092 | EH17: 125.69361 | EI17: 1.4474154 | EJ17: 8.8156644 | EK17: 10.858971 | EL17: 5.8240437 | EM17: 1.2733238 | EN17: 6.34171 | EO17: 4721.3781 | EP17: 2.67302 | EQ17: 1341.9014 | ER17: 5270.7189 | ES17: 497.69773 | ET17: 0.84569035 | EU17: 0.79550203 | EV17: 0.0030307685 | EW17: 3.6666354 | EX17: 3.4372646 | EY17: 2.7567385 | EZ17: 30.987556 | FA17: 31.061637 | FB17: 23.121488 | FC17: 6.8787687 | FD17: 9.1209134 | FE17: 4.0645244 | FF17: 23.667081 | FG17: 27.667086 | FH17: 4.9154528 | FI17: 0.61408303 | FJ17: 23.586477 | FK17: 0.35767469 | FL17: 4.0347328 | FM17: 5.7361258 | FN17: 36.984511 | FO17: 1.4089752 | FP17: 5.6775042 | FQ17: 1.4107726 | FR17: 1.5656895 | FS17: 0 | FT17: 65.015198 | FU17: 10.167208 | FV17: 0 | FW17: 0 | FX17: 0 | FY17: 1.2635645 | FZ17: 10.928055 | GA17: 0.16842952 | GB17: 6.8984762 | GC17: 17.427489 | GD17: 0.25060807 | GE17: 0.62157302 | GF17: 7.1559749 | GG17: 0.32494811 | GH17: 0.7164994 | GI17: 7.9122688 | GJ17: 0 | GK17: 78.271077 | GL17: 1791.5603 | GM17: 2.4755284 | GN17: 1.3507443 | GO17: 19.164219 | GP17: 4.1137464 | GQ17: 0 | GR17: 0 | GS17: 0 | GT17: 0 | GU17: 0 | GV17: 3.7031429 | GW17: 0.94130043 | GX17: 0 | GY17: 0.068640602 | GZ17: 0.15830667 | HA17: 34.618245 | HB17: 7.2155666 | HC17: 54.01572 | HD17: 9.5002123 | HE17: 0 | HF17: 0 | HG17: 166.10062 | HH17: 87.556855 | HI17: 9.5973755 | HJ17: 130.85043 | HK17: 96.023973 | HL17: 21.465454 | HM17: 0.33225954 | HN17: 1.2772951 | ID17: 3371.6411 | IE17: 0 | II17: 27877.715 | IJ17: 0 | IK17: 0 | IL17: 7764.4532 | IM17: 0 | IN17: 360.43 | IO17: 0 | IP17: 0 | IQ17: 0 | IR17: 0 | IS17: 0 | IT17: 0 | IU17: 0 | IV17: 0 | IW17: 0 | JE17: 1260.9443 | JG17: 126953.07
B18: گاو و گوسفند (گوشت قرمز) | C18: 12 | ED18: 0.072068886 | EE18: 10655.39 | EF18: 0.022045827 | EG18: 68.994831 | EH18: 0 | EI18: 0 | EJ18: 0 | EK18: 0 | EL18: 45990.608 | EM18: 0 | EN18: 0 | EO18: 0 | EP18: 0 | EQ18: 0 | ER18: 0 | ES18: 0 | ET18: 0 | EU18: 0 | EV18: 0 | EW18: 0 | EX18: 0 | EY18: 0 | EZ18: 0 | FA18: 0 | FB18: 0 | FC18: 0 | FD18: 0 | FE18: 0 | FF18: 0 | FG18: 0 | FH18: 0 | FI18: 0 | FJ18: 0 | FK18: 0 | FL18: 0 | FM18: 0 | FN18: 0 | FO18: 0 | FP18: 0 | FQ18: 0 | FR18: 0 | FS18: 0 | FT18: 0 | FU18: 0 | FV18: 0 | FW18: 0 | FX18: 0 | FY18: 0 | FZ18: 0 | GA18: 0 | GB18: 0 | GC18: 0 | GD18: 0 | GE18: 0 | GF18: 0 | GG18: 0 | GH18: 0 | GI18: 0 | GJ18: 0 | GK18: 0 | GL18: 0 | GM18: 0 | GN18: 0 | GO18: 0 | GP18: 0 | GQ18: 0 | GR18: 0 | GS18: 0 | GT18: 0 | GU18: 0 | GV18: 0 | GW18: 0 | GX18: 0 | GY18: 0 | GZ18: 0 | HA18: 0 | HB18: 0 | HC18: 0 | HD18: 0 | HE18: 0 | HF18: 0 | HG18: 0 | HH18: 0 | HI18: 0 | HJ18: 0 | HK18: 0 | HL18: 0 | HM18: 0 | HN18: 0 | ID18: 174243.19 | IE18: 0 | II18: 23099.082 | IJ18: 0 | IK18: 0 | IL18: 6433.5164 | IM18: 0 | IN18: 6775.7588 | IO18: 0 | IP18: 0 | IQ18: 0 | IR18: 0 | IS18: 0 | IT18: 0 | IU18: 0 | IV18: 0 | IW18: 0 | JE18: 7844.475 | JG18: 275111.11
B19: مرغ و ماکیان (گوشت سفید) و سایر حیوانات زنده | C19: 13 | ED19: 0.066043391 | EE19: 19477.258 | EF19: 0.020204944 | EG19: 11.514597 | EH19: 0 | EI19: 0 | EJ19: 0 | EK19: 0 | EL19: 17202.703 | EM19: 0 | EN19: 0 | EO19: 0 | EP19: 0 | EQ19: 0 | ER19: 0 | ES19: 0 | ET19: 0 | EU19: 0 | EV19: 0 | EW19: 0 | EX19: 0 | EY19: 0 | EZ19: 0 | FA19: 0 | FB19: 0 | FC19: 0 | FD19: 0 | FE19: 0 | FF19: 0 | FG19: 0 | FH19: 0 | FI19: 0 | FJ19: 0 | FK19: 0 | FL19: 0 | FM19: 0 | FN19: 0 | FO19: 0 | FP19: 0 | FQ19: 0 | FR19: 0 | FS19: 0 | FT19: 0 | FU19: 0 | FV19: 0 | FW19: 20.849709 | FX19: 33.803748 | FY19: 0 | FZ19: 0 | GA19: 0 | GB19: 0 | GC19: 0 | GD19: 0 | GE19: 0 | GF19: 0 | GG19: 0 | GH19: 0 | GI19: 0 | GJ19: 0 | GK19: 0 | GL19: 0 | GM19: 0 | GN19: 0 | GO19: 0 | GP19: 0 | GQ19: 0 | GR19: 0 | GS19: 0 | GT19: 0 | GU19: 0 | GV19: 0 | GW19: 0 | GX19: 0 | GY19: 0 | GZ19: 0 | HA19: 0 | HB19: 0 | HC19: 0 | HD19: 0 | HE19: 0 | HF19: 0 | HG19: 0 | HH19: 0 | HI19: 0 | HJ19: 0 | HK19: 0 | HL19: 0 | HM19: 0 | HN19: 0 | ID19: 95398.614 | IE19: 0 | II19: 31072.212 | IJ19: 0 | IK19: 0 | IL19: 8654.1789 | IM19: 0 | IN19: 391.82083 | IO19: 0 | IP19: 0 | IQ19: 0 | IR19: 0 | IS19: 0 | IT19: 0 | IU19: 0 | IV19: 0 | IW19: 2.4957171 | JE19: 348.8969 | JG19: 172614.43
... B95: ساختمان غیر مسکونی و سازه های عمرانی و خدمات ساختمانی | C95: 89 | ED95: 2267.904 | EE95: 1291.8422 | EF95: 1.5123523 | EG95: 113.5274 | EH95: 225.78471 | EI95: 2.325 | EJ95: 310.923 | EK95: 31.935 | EL95: 8.5010489 | EM95: 0.060190617 | EN95: 249.4646 | EO95: 63.340972 | EP95: 0.28802808 | EQ95: 0 | ER95: 7.8784625 | ES95: 1.197878 | ET95: 12.167229 | EU95: 0.1953665 | EV95: 0.41372215 | EW95: 2.9242908 | EX95: 5.7717109 | EY95: 9.6825176 | EZ95: 8.4043633 | FA95: 2.8127742 | FB95: 572.78683 | FC95: 4.8272171 | FD95: 5.3000158 | FE95: 0.40542384 | FF95: 18.061999 | FG95: 4.6015314 | FH95: 1.4769532 | FI95: 0.64898421 | FJ95: 6.4599027 | FK95: 3.1002087 | FL95: 2.9007386 | FM95: 62.503512 | FN95: 91.948452 | FO95: 27.559277 | FP95: 9.0614486 | FQ95: 14.281923 | FR95: 7.3429374 | FS95: 134.12801 | FT95: 11.366657 | FU95: 1017.8656 | FV95: 18.874062 | FW95: 9527.711 | FX95: 49557.531 | FY95: 76.649805 | FZ95: 2649.5466 | GA95: 3.0743853 | GB95: 4.1526004 | GC95: 19.952544 | GD95: 0.83023854 | GE95: 53.187115 | GF95: 68.069929 | GG95: 36.070241 | GH95: 34.619311 | GI95: 1862.4538 | GJ95: 225.41967 | GK95: 62.269156 | GL95: 373.25664 | GM95: 42.162696 | GN95: 234.94354 | GO95: 4980.5032 | GP95: 9.9107857 | GQ95: 177.98831 | GR95: 0 | GS95: 0 | GT95: 39418.262 | GU95: 108.41519 | GV95: 62.435844 | GW95: 92.279321 | GX95: 2.8321897 | GY95: 5.1869049 | GZ95: 32.079586 | HA95: 11338.849 | HB95: 70.695115 | HC95: 656.23668 | HD95: 595.98122 | HE95: 1093.8921 | HF95: 525.03154 | HG95: 219.34174 | HH95: 548.44476 | HI95: 24.52401 | HJ95: 1302.9105 | HK95: 99.656288 | HL95: 100.2411 | HM95: 29.79178 | HN95: 968.1385 | ID95: 0 | IE95: 0 | II95: 0 | IJ95: 0 | IK95: 0 | IL95: 0 | IM95: 0 | IN95: 46768.109 | IO95: 16927.516 | IP95: 200.40546 | IQ95: 6458.2079 | IR95: 58115.85 | IS95: 0 | IT95: 129416.05 | IU95: 539.54726 | IV95: 0 | IW95: 630674.94 | JE95: 0 | JG95: 1023030.5
B96: خدمات عمده فروشي و خرده فروشی و حق العمل‌کاري | C96: 90 | D96: 14553.69 | E96: 56295.714 | F96: 5895.9849 | G96: 62149.898 | H96: 101723.1 | I96: 5783.8239 | J96: 10674.098 | K96: 4620.8965 | L96: 12683.66 | M96: 2434.1597 | N96: 11011.702 | O96: 56784.715 | P96: 31167.59 | Q96: 19741.332 | R96: 12307.474 | S96: 4991.9528 | T96: 506.75209 | U96: 826.77219 | V96: 8320.2415 | W96: 409.45155 | X96: 0 | Y96: 0 | Z96: 20435.818 | AA96: 3989.8632 | AB96: 1091.1632 | AC96: 11701.983 | AD96: 11943.28 | AE96: 0 | AF96: 0 | AG96: 0 | AH96: 46240.731 | AI96: 8975.5909 | AJ96: 26290.468 | AK96: 24994.326 | AL96: 57276.914 | AM96: 7278.8719 | AN96: 716.37703 | AO96: 8617.7018 | AP96: 51212.745 | AQ96: 15097.108 | AR96: 6287.3877 | AS96: 3020.6033 | AT96: 9923.0899 | AU96: 14661.582 | AV96: 14908.697 | AW96: 9399.84 | AX96: 16191.628 | AY96: 13823.355 | AZ96: 9347.5932 | BA96: 73711.949 | BB96: 4777.3457 | BC96: 22862.107 | BD96: 17040.052 | BE96: 30980.984 | BF96: 63456.34 | BG96: 3052.1312 | BH96: 24717.023 | BI96: 14277.129 | BJ96: 73504.54 | BK96: 23722.207 | BL96: 92892.318 | BM96: 113029.37 | BN96: 43785.968 | BO96: 10938.298 | BP96: 8525.5193 | BQ96: 16407.541 | BR96: 18723.042 | BS96: 19524.934 | BT96: 20051.864 | BU96: 20968.689 | BV96: 120736.35 | BW96: 27410.258 | BX96: 24148.735 | BY96: 38584.82 | BZ96: 11986.917 | CA96: 14934.91 | CB96: 31362.489 | CC96: 9890.4497 | CD96: 8863.4885 | CE96: 21741.226 | CF96: 21116.769 | CG96: 9255.0343 | CH96: 14125.732 | CI96: 43350.57 | CJ96: 22805.362 | CK96: 3581.1599 | CL96: 1258.848 | CO96: -1958412.2 | ED96: 37.285879 | EE96: 3064.6673 | EF96: 0 | EG96: 553.52486 | EH96: 0 | EI96: 0 | EJ96: 0 | EK96: 0 | EL96: 71.373556 | EM96: 19.178037 | EN96: 342.12806 | EO96: 218.58902 | EP96: 23.332746 | EQ96: 0.003225201 | ER96: 26.497572 | ES96: 66.745493 | ET96: 32.86715 | EU96: 237.40252 | EV96: 94.164107 | EW96: 50.864692 | EX96: 248.38789 | EY96: 20.607438 | EZ96: 523.60479 | FA96: 77.953752 | FB96: 8634.1873 | FC96: 976.27624 | FD96: 269.63586 | FE96: 80.102205 | FF96: 329.70884 | FG96: 418.25562 | FH96: 73.454472 | FI96: 17.184164 | FJ96: 156.59887 | FK96: 22.187839 | FL96: 410.44802 | FM96: 232.73637 | FN96: 15049.133 | FO96: 110.33556 | FP96: 86.057729 | FQ96: 4.6510508 | FR96: 0 | FS96: 0 | FT96: 0 | FU96: 0 | FV96: 0 | FW96: 127.3521 | FX96: 48.65712 | FY96: 2391.2981 | FZ96: 42134.882 | GA96: 0 | GB96: 0 | GC96: 0 | GD96: 0 | GE96: 0 | GF96: 0 | GG96: 0 | GH96: 0 | GI96: 0 | GJ96: 1.5582048 | GK96: 34.111198 | GL96: 14.743563 | GM96: 0 | GN96: 0 | GO96: 0 | GP96: 0 | GQ96: 0 | GR96: 0 | GS96: 0 | GT96: 0 | GU96: 0 | GV96: 623.47243 | GW96: 0 | GX96: 0 | GY96: 0 | GZ96: 0 | HA96: 57.085095 | HB96: 1.5462223 | HC96: 1581.1223 | HD96: 0 | HE96: 0 | HF96: 0 | HG96: 0 | HH96: 0 | HI96: 0 | HJ96: 185.21699 | HK96: 0 | HL96: 2.7757737 | HM96: 0 | HN96: 0 | ID96: 0 | IE96: 0 | II96: 0 | IJ96: 0 | IK96: 0 | IL96: 0 | IM96: 0 | IN96: 0 | IO96: 0 | IP96: 0 | IQ96: 0 | IR96: 0 | IS96: 0 | IT96: 0 | IU96: 0 | IV96: 0 | IW96: 0 | JE96: 0 | JG96: 79783.953
B97: خدمات ارائه جا به مسافران (هتل ها و سایر اقامتگاهها) | C97: 91 | ED97: 8.3911251 | EE97: 128.60518 | EF97: 122.91329 | EG97: 18.868541 | EH97: 1851.7104 | EI97: 5.4404757 | EJ97: 231.63793 | EK97: 6.9945347 | EL97: 11.702987 | EM97: 26.790252 | EN97: 61.636681 | EO97: 17.032986 | EP97: 6.6740625 | EQ97: 0 | ER97: 2.5239634 | ES97: 1.1151533 | ET97: 0.21560989 | EU97: 0.33477808 | EV97: 0.087309775 | EW97: 1.670445 | EX97: 7.2318993 | EY97: 1.315907 | EZ97: 5.894733 | FA97: 0.29185774 | FB97: 586.04114 | FC97: 88.25796 | FD97: 75.452045 | FE97: 1.0827273 | FF97: 24.192869 | FG97: 87.636876 | FH97: 0.044704124 | FI97: 0.91975064 | FJ97: 25.505485 | FK97: 15.333301 | FL97: 129.47308 | FM97: 65.123643 | FN97: 61.130521 | FO97: 39.829508 | FP97: 2.0764685 | FQ97: 11.112444 | FR97: 10.621652 | FS97: 287.40352 | FT97: 138.70079 | FU97: 512.71368 | FV97: 0.19222554 | FW97: 1723.5213 | FX97: 1639.5682 | FY97: 66.86871 | FZ97: 253.57442 | GA97: 2.577866 | GB97: 44.419155 | GC97: 148.03596 | GD97: 6.9411791 | GE97: 111.96714 | GF97: 82.052794 | GG97: 223.94547 | GH97: 0.68065326 | GI97: 27.092957 | GJ97: 0.154147 | GK97: 5.8221352 | GL97: 14.469765 | GM97: 819.45167 | GN97: 17.724217 | GO97: 330.2663 | GP97: 129.24778 | GQ97: 73.002048 | GR97: 0 | GS97: 0 | GT97: 0 | GU97: 0 | GV97: 23.098261 | GW97: 861.75184 | GX97: 26.125676 | GY97: 0 | GZ97: 22438.39 | HA97: 4324.4485 | HB97: 0.40219734 | HC97: 0 | HD97: 173.06834 | HE97: 0 | HF97: 237.80319 | HG97: 1537.6529 | HH97: 378.50187 | HI97: 0 | HJ97: 828.11014 | HK97: 26.306472 | HL97: 182.14507 | HM97: 131.10462 | HN97: 747.73619 | ID97: 9893.3568 | IE97: 0 | II97: 0 | IJ97: 0 | IK97: 0 | IL97: 0 | IM97: 0 | IN97: 0 | IO97: 0 | IP97: 0 | IQ97: 0 | IR97: 0 | IS97: 0 | IT97: 0 | IU97: 0 | IV97: 0 | IW97: 0 | JE97: 16900.156 | JG97: 69113.466
B98: خدمات ارائه غذا و نوشیدنی (رستوران ها و محل های صرف غذا و نوشیدنی) | C98: 92 | ED98: 1785.7973 | EE98: 152.77316 | EF98: 58.368224 | EG98: 142.0744 | EH98: 6002.367 | EI98: 3.1311359 | EJ98: 139.85239 | EK98: 22.964822 | EL98: 30.235693 | EM98: 1.4183824 | EN98: 159.24377 | EO98: 44.006214 | EP98: 15.992867 | EQ98: 6.7874356 | ER98: 12.195169 | ES98: 7.8465353 | ET98: 0.38856363 | EU98: 1.0050044 | EV98: 0.26210411 | EW98: 3.490136 | EX98: 110.44052 | EY98: 3.0032244 | EZ98: 25.612305 | FA98: 1.7310131 | FB98: 215.34963 | FC98: 74.347746 | FD98: 72.659338 | FE98: 2.0402369 | FF98: 67.286398 | FG98: 66.306116 | FH98: 0.23173787 | FI98: 8.6026784 | FJ98: 158.9745 | FK98: 28.553846 | FL98: 50.562537 | FM98: 190.52453 | FN98: 427.52117 | FO98: 2.6274374 | FP98: 22.759736 | FQ98: 26.108193 | FR98: 24.9551 | FS98: 397.77832 | FT98: 537.11126 | FU98: 316.54763 | FV98: 44.577711 | FW98: 3020.9476 | FX98: 1927.7167 | FY98: 293.67434 | FZ98: 1487.6857 | GA98: 3.5800506 | GB98: 79.052519 | GC98: 284.19346 | GD98: 12.242868 | GE98: 295.2749 | GF98: 167.20692 | GG98: 3483.4659 | GH98: 8.6596894 | GI98: 357.98148 | GJ98: 1.7971026 | GK98: 71.898997 | GL98: 1191.9703 | GM98: 1510.3701 | GN98: 201.42653 | GO98: 307.67144 | GP98: 54.81981 | GQ98: 440.7086 | GR98: 0 | GS98: 0 | GT98: 0 | GU98: 0 | GV98: 278.8061 | GW98: 417.76894 | GX98: 13.556825 | GY98: 33.879503 | GZ98: 128.3318 | HA98: 12494.442 | HB98: 0 | HC98: 0 | HD98: 101.83618 | HE98: 121.86251 | HF98: 213.10612 | HG98: 751.64678 | HH98: 579.58583 | HI98: 25.232518 | HJ98: 5924.3727 | HK98: 311.82781 | HL98: 391.12866 | HM98: 615.35289 | HN98: 787.38654 | ID98: 191550.78 | IE98: 0 | II98: 0 | IJ98: 0 | IK98: 0 | IL98: 0 | IM98: 0 | IN98: 0 | IO98: 0 | IP98: 0 | IQ98: 0 | IR98: 0 | IS98: 0 | IT98: 0 | IU98: 0 | IV98: 0 | IW98: 0 | JE98: 53773.224 | JG98: 295182.88
B99: خدمات حمل و نقل جاده ای مسافر | C99: 93 | ED99: 2688.6562 | EE99: 359.19023 | EF99: 58.39503 | EG99: 412.94535 | EH99: 642.79075 | EI99: 1.2736802 | EJ99: 72.050672 | EK99: 2.4072526 | EL99: 53.476094 | EM99: 0.63666206 | EN99: 281.64511 | EO99: 77.831206 | EP99: 8.6874672 | EQ99: 0 | ER99: 17.14714 | ES99: 12.932145 | ET99: 11.503116 | EU99: 6.7792221 | EV99: 1.7680141 | EW99: 65.34915 | EX99: 81.365511 | EY99: 20.104412 | EZ99: 92.168728 | FA99: 5.2265275 | FB99: 85.966359 | FC99: 2.7030224 | FD99: 116.84216 | FE99: 30.404318 | FF99: 144.26296 | FG99: 51.55411 | FH99: 64.646822 | FI99: 5.7442351 | FJ99: 241.622 | FK99: 0.78791227 | FL99: 14.423891 | FM99: 12.465881 | FN99: 34.715672 | FO99: 0.74208866 | FP99: 25.867331 | FQ99: 0.2178172 | FR99: 0.2081971 | FS99: 19.848691 | FT99: 933.66109 | FU99: 168.06463 | FV99: 18.495052 | FW99: 2793.4497 | FX99: 4331.6875 | FY99: 849.49351 | FZ99: 21626.958 | GA99: 3.3867683 | GB99: 161.08965 | GC99: 2832.7781 | GD99: 72.492901 | GE99: 103.85772 | GF99: 107.42349 | GG99: 1078.3466 | GH99: 32.709152 | GI99: 1251.895 | GJ99: 1.1162088 | GK99: 0 | GL99: 0 | GM99: 1279.4686 | GN99: 934.38082 | GO99: 802.84157 | GP99: 146.98808 | GQ99: 192.0894 | GR99: 0 | GS99: 0 | GT99: 0 | GU99: 16.658774 | GV99: 302.15582 | GW99: 1287.806 | GX99: 11.904652 | GY99: 76.967056 | GZ99: 5164.7061 | HA99: 15584.288 | HB99: 147.22186 | HC99: 1032.5493 | HD99: 583.29844 | HE99: 110.97357 | HF99: 4732.9378 | HG99: 1312.6407 | HH99: 2603.4985 | HI99: 180.00791 | HJ99: 1326.0369 | HK99: 214.72382 | HL99: 1760.8024 | HM99: 139.43266 | HN99: 9068.23 | ID99: 189381.78 | IE99: 0 | II99: 0 | IJ99: 0 | IK99: 0 | IL99: 0 | IM99: 0 | IN99: 0 | IO99: 0 | IP99: 0 | IQ99: 0 | IR99: 0 | IS99: 0 | IT99: 0 | IU99: 0 | IV99: 0 | IW99: 0 | JE99: 1102.3618 | JG99: 281691.01
B100: خدمات حمل و نقل جاده ای بار | C100: 94 | D100: 3816.8412 | E100: 6816.08 | F100: 4543.7587 | G100: 37699.366 | H100: 18031.143 | I100: 1459.3873 | J100: 889.91751 | K100: 82.818928 | L100: 2296.2458 | M100: 385.75255 | N100: 4538.8514 | O100: 1412.2911 | P100: 1133.7631 | Q100: 1034.9819 | R100: 1120.3387 | S100: 1279.5114 | T100: 0.19228097 | U100: 7.1452559 | V100: 995.96221 | W100: 1042.9937 | X100: 0 | Y100: 0 | Z100: 14157.73 | AA100: 2015.6671 | AB100: 316.15903 | AC100: 19608.658 | AD100: 13720.396 | AE100: 0 | AF100: 0 | AG100: 0 | AH100: 1366.7382 | AI100: 338.29501 | AJ100: 4126.6118 | AK100: 12028.091 | AL100: 10611.901 | AM100: 2097.3433 | AN100: 380.28591 | AO100: 8628.1879 | AP100: 280.43409 | AQ100: 8634.0917 | AR100: 6243.6965 | AS100: 1254.2052 | AT100: 747.88498 | AU100: 8110.3201 | AV100: 10453.608 | AW100: 705.20076 | AX100: 8190.336 | AY100: 1384.9286 | AZ100: 2243.899 | BA100: 437.01522 | BB100: 397.80811 | BC100: 213.56012 | BD100: 14972.565 | BE100: 16996.691 | BF100: 1773.4284 | BG100: 380.97099 | BH100: 2582.4986 | BI100: 5223.6743 | BJ100: 784.08915 | BK100: 2916.5645 | BL100: 6583.0799 | BM100: 14872.307 | BN100: 23384.109 | BO100: 8713.7957 | BP100: 4422.7727 | BQ100: 20112.706 | BR100: 51255.374 | BS100: 12269.166 | BT100: 8461.5466 | BU100: 22569.992 | BV100: 106927.86 | BW100: 13960.597 | BX100: 17441.592 | BY100: 23221.876 | BZ100: 16069.07 | CA100: 3161.3048 | CB100: 15757.222 | CC100: 2022.9295 | CD100: 3971.1557 | CE100: 4070.0814 | CF100: 3085.966 | CG100: 3003.4731 | CH100: 3759.9977 | CI100: 34035.421 | CJ100: 25166.204 | CK100: 1690.7228 | CL100: 1679.9085 | CS100: -724581.11 | ED100: 17602.276 | EE100: 3696.3297 | EF100: 19.708335 | EG100: 222.18043 | EH100: 8661.4611 | EI100: 36.414 | EJ100: 4175.092 | EK100: 840.519 | EL100: 1297.8728 | EM100: 306.22126 | EN100: 1820.008 | EO100: 1404.3129 | EP100: 423.92001 | EQ100: 20.485104 | ER100: 157.19468 | ES100: 64.549146 | ET100: 285.90336 | EU100: 79.143161 | EV100: 49.788702 | EW100: 450.16747 | EX100: 341.98707 | EY100: 141.7275 | EZ100: 47.226213 | FA100: 109.05703 | FB100: 17192.811 | FC100: 186.86067 | FD100: 1439.1014 | FE100: 286.92662 | FF100: 3377.2154 | FG100: 4107.2603 | FH100: 1066.3118 | FI100: 127.99051 | FJ100: 1718.8376 | FK100: 87.99486 | FL100: 795.8547 | FM100: 763.27116 | FN100: 4847.1009 | FO100: 54.271178 | FP100: 419.84045 | FQ100: 83.069956 | FR100: 84.836007 | FS100: 0.63750031 | FT100: 1730.4662 | FU100: 86.971145 | FV100: 20.472606 | FW100: 6747.1541 | FX100: 5617.5184 | FY100: 99.564886 | FZ100: 15560.886 | GA100: 25.259945 | GB100: 157.04634 | GC100: 3.1026631 | GD100: 4143.0815 | GE100: 371 | GF100: 0.048100998 | GG100: 6.9503633 | GH100: 75.160941 | GI100: 362.10721 | GJ100: 100.50187 | GK100: 22.774676 | GL100: 871.32291 | GM100: 235.46253 | GN100: 21.084193 | GO100: 692.36218 | GP100: 14.105043 | GQ100: 13.847294 | GR100: 0 | GS100: 0 | GT100: 0 | GU100: 0.12803517 | GV100: 7.1900635 | GW100: 90.756511 | GX100: 0.27673668 | GY100: 3.7249879 | GZ100: 32.687063 | HA100: 812.37964 | HB100: 0 | HC100: 1565.9112 | HD100: 0.1138944 | HE100: 95.545311 | HF100: 112.75034 | HG100: 1.6111904 | HH100: 0 | HI100: 5.6045825 | HJ100: 120.38528 | HK100: 56.80436 | HL100: 36.510376 | HM100: 2.4668187 | HN100: 48.519026 | ID100: 2700.643 | IE100: 0 | II100: 0 | IJ100: 0 | IK100: 0 | IL100: 0 | IM100: 0 | IN100: 0 | IO100: 0 | IP100: 0 | IQ100: 0 | IR100: 0 | IS100: 0 | IT100: 0 | IU100: 0 | IV100: 0 | IW100: 0 | JE100: 75598.953 | JG100: 197164.95
B101: خدمات حمل و نقل ریلی مسافر | C101: 95 | ED101: 0 | EE101: 0 | EF101: 0 | EG101: 0 | EH101: 0 | EI101: 0 | EJ101: 0 | EK101: 0 | EL101: 3.0140194 | EM101: 5.936304e-05 | EN101: 15.87408 | EO101: 4.3867221 | EP101: 0 | EQ101: 0 | ER101: 1.5414038 | ES101: 0.19716562 | ET101: 0.0021128866 | EU101: 0.18427212 | EV101: 0.048057976 | EW101: 0.62197116 | EX101: 0 | EY101: 0.56615662 | EZ101: 0.96087593 | FA101: 0.047574517 | FB101: 2.9941912 | FC101: 0.011076109 | FD101: 2.5784343 | FE101: 0.0041594357 | FF101: 5.6929945 | FG101: 2.1540519 | FH101: 0 | FI101: 0.049163252 | FJ101: 10.675624 | FK101: 0 | FL101: 0.85550459 | FM101: 1.1860393 | FN101: 25.403017 | FO101: 0.31796254 | FP101: 8.1299242 | FQ101: 1.2004947 | FR101: 1.1474737 | FS101: 0.00013444529 | FT101: 0.002270175 | FU101: 0.017131156 | FV101: 0 | FW101: 0 | FX101: 31.554171 | FY101: 0 | FZ101: 0 | GA101: 1.4629506 | GB101: 25.208071 | GC101: 0.072839658 | GD101: 0.0007835778 | GE101: 0 | GF101: 0 | GG101: 0 | GH101: 0 | GI101: 0 | GJ101: 0 | GK101: 0 | GL101: 0 | GM101: 8.6356003 | GN101: 0 | GO101: 106.35409 | GP101: 9.4458311 | GQ101: 3.8476405 | GR101: 0 | GS101: 0 | GT101: 0 | GU101: 0 | GV101: 0.55969693 | GW101: 0 | GX101: 0 | GY101: 0 | GZ101: 613.7241 | HA101: 221.70645 | HB101: 0 | HC101: 0 | HD101: 0 | HE101: 0 | HF101: 0 | HG101: 0 | HH101: 29.054358 | HI101: 0 | HJ101: 4.8214713 | HK101: 0 | HL101: 43.679091 | HM101: 0 | HN101: 0 | ID101: 4847.1461 | IE101: 0 | II101: 0 | IJ101: 0 | IK101: 0 | IL101: 0 | IM101: 0 | IN101: 0 | IO101: 0 | IP101: 0 | IQ101: 0 | IR101: 0 | IS101: 0 | IT101: 0 | IU101: 0 | IV101: 0 | IW101: 0 | JE101: 768.18892 | JG101: 6805.3263
B102: خدمات حمل و نقل ریلی بار | C102: 96 | D102: 150.95604 | E102: 269.57591 | F102: 179.70562 | G102: 1491.0096 | H102: 713.13157 | I102: 57.718757 | J102: 35.196231 | K102: 3.275488 | L102: 90.816505 | M102: 15.25651 | N102: 179.51154 | O102: 55.856102 | P102: 44.840321 | Q102: 40.933527 | R102: 44.309388 | S102: 50.604667 | T102: 0.0076047108 | U102: 0.28259482 | V102: 39.390298 | W102: 41.250392 | X102: 0 | Y102: 0 | Z102: 559.93813 | AA102: 79.71962 | AB102: 12.504087 | AC102: 775.52228 | AD102: 542.64156 | AE102: 0 | AF102: 0 | AG102: 0 | AH102: 54.054486 | AI102: 13.379565 | AJ102: 163.20747 | AK102: 475.71093 | AL102: 419.70061 | AM102: 82.949912 | AN102: 15.040305 | AO102: 341.24476 | AP102: 11.091166 | AQ102: 341.47826 | AR102: 246.93815 | AS102: 49.603806 | AT102: 29.578845 | AU102: 320.7631 | AV102: 413.44011 | AW102: 27.890685 | AX102: 323.92773 | AY102: 54.773917 | AZ102: 88.746188 | BA102: 17.283949 | BB102: 15.733308 | BC102: 8.4463012 | BD102: 592.16483 | BE102: 672.21901 | BF102: 70.13908 | BG102: 15.0674 | BH102: 102.1378 | BI102: 206.59628 | BJ102: 31.01072 | BK102: 115.3501 | BL102: 260.36076 | BM102: 588.19961 | BN102: 924.84132 | BO102: 344.63055 | BP102: 174.92062 | BQ102: 795.45737 | BR102: 2027.1496 | BS102: 485.24544 | BT102: 334.6541 | BU102: 892.643 | BV102: 4228.9959 | BW102: 552.1415 | BX102: 689.81484 | BY102: 918.42501 | BZ102: 635.5316 | CA102: 125.02958 | CB102: 623.19802 | CC102: 80.006846 | CD102: 157.05918 | CE102: 160.97169 | CF102: 122.04993 | CG102: 118.78734 | CH102: 148.70788 | CI102: 1346.1007 | CJ102: 995.32317 | CK102: 66.868075 | CL102: 66.440367 | CU102: -28657.177 | ED102: 7.9254331 | EE102: 116.78824 | EF102: 0 | EG102: 2.4154506 | EH102: 0 | EI102: 0 | EJ102: 1116.77 | EK102: 3.334 | EL102: 29.822771 | EM102: 65.60853 | EN102: 41.812612 | EO102: 31.578903 | EP102: 2.6431789 | EQ102: 0 | ER102: 7.9242542 | ES102: 1.7094628 | ET102: 8.961911 | EU102: 1.7357157 | EV102: 1.0700777 | EW102: 2.1783313 | EX102: 5.0199468 | EY102: 0.81637064 | EZ102: 53.978934 | FA102: 7.2871631 | FB102: 2679.1008 | FC102: 25.362988 | FD102: 56.000502 | FE102: 0.8745065 | FF102: 142.1518 | FG102: 1.5337498 | FH102: 420.21828 | FI102: 1.953336 | FJ102: 356.95539 | FK102: 0.94738945 | FL102: 41.368678 | FM102: 8.4708392 | FN102: 155.4947 | FO102: 0.75346689 | FP102: 9.4810913 | FQ102: 3.1274018 | FR102: 3.2160188 | FS102: 6.8130768e-06 | FT102: 0 | FU102: 0.17499063 | FV102: 0.59618341 | FW102: 0 | FX102: 26.586814 | FY102: 22.082766 | FZ102: 2972.1278 | GA102: 141.22289 | GB102: 2374.3538 | GC102: 0 | GD102: 0 | GE102: 0 | GF102: 0 | GG102: 0 | GH102: 0 | GI102: 0 | GJ102: 7.6566094 | GK102: 0 | GL102: 0 | GM102: 259.8037 | GN102: 0 | GO102: 0 | GP102: 0 | GQ102: 0 | GR102: 0 | GS102: 0 | GT102: 0 | GU102: 0 | GV102: 0 | GW102: 0 | GX102: 0 | GY102: 0 | GZ102: 0 | HA102: 286.78719 | HB102: 72.307739 | HC102: 142.70756 | HD102: 0 | HE102: 0 | HF102: 0 | HG102: 0 | HH102: 25.581495 | HI102: 0 | HJ102: 0.31890526 | HK102: 0 | HL102: 0.49123965 | HM102: 0 | HN102: 0 | ID102: 55.730407 | IE102: 0 | II102: 0 | IJ102: 0 | IK102: 0 | IL102: 0 | IM102: 0 | IN102: 0 | IO102: 0 | IP102: 0 | IQ102: 0 | IR102: 0 | IS102: 0 | IT102: 0 | IU102: 0 | IV102: 0 | IW102: 0 | JE102: 1383.6226 | JG102: 13188.545
B103: خدمات انتقال از طریق خط لوله | C103: 97 | ED103: 0 | EE103: 0 | EF103: 0 | EG103: 0 | EH103: 0 | EI103: 0 | EJ103: 0 | EK103: 0 | EL103: 0 | EM103: 0 | EN103: 0 | EO103: 0 | EP103: 0 | EQ103: 0 | ER103: 0 | ES103: 0 | ET103: 0 | EU103: 0 | EV103: 0 | EW103: 0 | EX103: 0 | EY103: 0 | EZ103: 7517.16 | FA103: 0 | FB103: 36.342 | FC103: 0 | FD103: 0 | FE103: 0 | FF103: 0 | FG103: 0 | FH103: 0 | FI103: 0 | FJ103: 0 | FK103: 0 | FL103: 0 | FM103: 0 | FN103: 0 | FO103: 0 | FP103: 0 | FQ103: 0 | FR103: 0 | FS103: 0 | FT103: 0 | FU103: 0 | FV103: 0 | FW103: 0 | FX103: 0 | FY103: 0 | FZ103: 5272.746 | GA103: 0 | GB103: 0 | GC103: 0 | GD103: 0 | GE103: 0 | GF103: 0 | GG103: 0 | GH103: 0 | GI103: 0 | GJ103: 0 | GK103: 0 | GL103: 0 | GM103: 0 | GN103: 0 | GO103: 0 | GP103: 0 | GQ103: 0 | GR103: 0 | GS103: 0 | GT103: 0 | GU103: 0 | GV103: 0 | GW103: 0 | GX103: 0 | GY103: 0 | GZ103: 0 | HA103: 0 | HB103: 0 | HC103: 0 | HD103: 0 | HE103: 0 | HF103: 0 | HG103: 0 | HH103: 0 | HI103: 0 | HJ103: 0 | HK103: 0 | HL103: 0 | HM103: 0 | HN103: 0 | ID103: 0 | IE103: 0 | II103: 0 | IJ103: 0 | IK103: 0 | IL103: 0 | IM103: 0 | IN103: 0 | IO103: 0 | IP103: 0 | IQ103: 0 | IR103: 0 | IS103: 0 | IT103: 0 | IU103: 0 | IV103: 0 | IW103: 0 | JE103: 1139.271 | JG103: 13965.519
B104: خدمات حمل و نقل دریایی | C104: 98 | D104: 88.678159 | E104: 158.36065 | F104: 105.56692 | G104: 875.88407 | H104: 418.92458 | I104: 33.906514 | J104: 20.6758 | K104: 1.9241644 | L104: 53.349575 | M104: 8.9623393 | N104: 105.4529 | O104: 32.81231 | P104: 26.34116 | Q104: 24.046139 | R104: 26.029267 | S104: 29.727388 | T104: 0.0044673387 | U104: 0.16600852 | V104: 23.139578 | W104: 24.232279 | X104: 0 | Y104: 0 | Z104: 328.93207 | AA104: 46.830781 | AB104: 7.3454461 | AC104: 455.5756 | AD104: 318.77131 | AE104: 0 | AF104: 0 | AG104: 0 | AH104: 31.753962 | AI104: 7.8597398 | AJ104: 95.875181 | AK104: 279.45334 | AL104: 246.55044 | AM104: 48.728395 | AN104: 8.8353308 | AO104: 200.46205 | AP104: 6.5154345 | AQ104: 200.59922 | AR104: 145.06224 | AS104: 29.139439 | AT104: 17.375903 | AU104: 188.43023 | AV104: 242.87275 | AW104: 16.384204 | AX104: 190.28927 | AY104: 32.176587 | AZ104: 52.13338 | BA104: 10.153345 | BB104: 9.2424309 | BC104: 4.9617256 | BD104: 347.86344 | BE104: 394.89076 | BF104: 41.202754 | BG104: 8.8512475 | BH104: 60.000196 | BI104: 121.36366 | BJ104: 18.217049 | BK104: 67.76168 | BL104: 152.94726 | BM104: 345.5341 | BN104: 543.29211 | BO104: 202.45101 | BP104: 102.756 | BQ104: 467.28634 | BR104: 1190.8361 | BS104: 285.05433 | BT104: 196.59041 | BU104: 524.37742 | BV104: 2484.2966 | BW104: 324.35199 | BX104: 405.22732 | BY104: 539.5229 | BZ104: 373.33897 | CA104: 73.447827 | CB104: 366.09369 | CC104: 46.99951 | CD104: 92.26341 | CE104: 94.561788 | CF104: 71.697451 | CG104: 69.780861 | CH104: 87.357492 | CI104: 790.75821 | CJ104: 584.69623 | CK104: 39.281223 | CL104: 39.029969 | CW104: -16834.475 | ED104: 0 | EE104: 0 | EF104: 0.049006351 | EG104: 20.327618 | EH104: 34532.439 | EI104: 0 | EJ104: 0 | EK104: 0 | EL104: 6.9785111 | EM104: 0.59969105 | EN104: 9.784127 | EO104: 7.3894449 | EP104: 0 | EQ104: 0 | ER104: 0 | ES104: 1.3767791 | ET104: 0.02049852 | EU104: 0.47887012 | EV104: 0.2952259 | EW104: 0.41804004 | EX104: 0.10031517 | EY104: 0.10367171 | EZ104: 0.0504329 | FA104: 0.006808448 | FB104: 78.561229 | FC104: 29.578195 | FD104: 4.7788753 | FE104: 0 | FF104: 5.0722543 | FG104: 0.039905897 | FH104: 0.0069931283 | FI104: 0.10478036 | FJ104: 2.9808383 | FK104: 0.16841629 | FL104: 13.855676 | FM104: 5.7904322 | FN104: 20.759758 | FO104: 0.0090744112 | FP104: 2.214254 | FQ104: 0.0022726279 | FR104: 0.0023370243 | FS104: 0 | FT104: 0 | FU104: 1.7427852 | FV104: 0.88156033 | FW104: 0 | FX104: 0 | FY104: 0 | FZ104: 0 | GA104: 0 | GB104: 0 | GC104: 0 | GD104: 0 | GE104: 0 | GF104: 2882.1867 | GG104: 15.993084 | GH104: 0 | GI104: 99.525428 | GJ104: 0 | GK104: 0 | GL104: 0 | GM104: 0.37982998 | GN104: 0 | GO104: 0 | GP104: 0 | GQ104: 0.18850406 | GR104: 0 | GS104: 0 | GT104: 0 | GU104: 0 | GV104: 0 | GW104: 0 | GX104: 0 | GY104: 0 | GZ104: 0 | HA104: 1084.2407 | HB104: 133.19547 | HC104: 0 | HD104: 0 | HE104: 0 | HF104: 0 | HG104: 0.070225071 | HH104: 10.475029 | HI104: 0 | HJ104: 0 | HK104: 0 | HL104: 3.5822279 | HM104: 0 | HN104: 0 | ID104: 35.535128 | IE104: 0 | II104: 0 | IJ104: 0 | IK104: 0 | IL104: 0 | IM104: 0 | IN104: 0 | IO104: 0 | IP104: 0 | IQ104: 0 | IR104: 0 | IS104: 0 | IT104: 0 | IU104: 0 | IV104: 0 | IW104: 0 | JE104: 51875.815 | JG104: 90888.155
