Workbook

Sheet معرفی جدول
A1: بانک مرکزي جمهوري اسلامي ايران، گزارش «ماتریس حسابداری اجتماعی مالی اقتصاد ايران» بر اساس جدول داده ـ ستانده سال 1395 اقتصاد ايران را به صورت آماري تهيه و در فايل حاضر ارائه کرده است. همزمان با تهیه مجموعه سری زمانی حسابهای ملی بر مبنای سال پایه (100=1395) و تهیه جداول داده - ستانده اقتصادی سال 1395؛ ماتریس حسابداری اجتماعی مالی اقتصاد ايران نیز به منظور ابزاری کارآمد برای بررسی سیاست های توسعه اقتصادی و موضوعات توزیع درآمد در دستور کار قرار گرفت. اداره حسابهاي اقتصادي بانک مرکزي در پاسخ به نيازها و ضرورت هاي آماري و بازنمايي دقيق‌تر ساختار و ساز و کار بخش واقعي اقتصاد ایران و نيز تکميل و تدقيق ارقام براساس استانداردهاي نظام حسابهای ملی (SNA)2008 و دستورالعمل تهیه ماتریس حسابداری اجتماعی مالی سازمان ملل متحد 2018 و منطبق بر مبانی و معیارهای توصیه شده در طبقه بندی های بین المللی در زمینه رشته فعالیت های اقتصادی(ISIC.Rev.4) و کالاها و خدمات(CPC.ver.2) تهیه جداول پیوست را دستور کار قرار داده بود که مجموعه حاضر محصول تلاش هایی است که در این زمینه تحقق یافته است.

Sheet جدول خلاصه FSAM
B4: ماتريس حسابداري اجتماعي مالی کلان اقتصاد ايران در سال 1395
K5: ارقام به قيمتهاي جاري ـ ميليارد ريال
B7: حسابها | C7: کالاها و خدمات | D7: توليد | E7: ايجاد درآمد | F7: تخصيص درآمد اوليه | G7: توزيع ثانويه درآمد | H7: مصرف درآمد | I7: سرمايه (نهادي) | J7: تشکيل سرمايه ثابت(فعاليتها) | K7: مالي | L7: دنياي خارج | M7: جمع
B8: کالاها و خدمات | C8: =+SUM('ماتریس اصلی با دهکها'!D7:EC136) -> 0 | D8: =SUM('ماتریس اصلی با دهکها'!ED7:HN136) -> 9076700.6 | H8: =+SUM('ماتریس اصلی با دهکها'!ID7:JB136) -> 9348742.1 | I8: =+SUM('ماتریس اصلی با دهکها'!JC7:JG136) -> 1369128.2 | J8: =+SUM('ماتریس اصلی با دهکها'!JH7:JQ136) -> 3562344.1 | L8: =+SUM('ماتریس اصلی با دهکها'!JY7:JZ136) -> 3027825.1 | M8: =+SUM(C8:L8) -> 26384740
B9: توليد | C9: =+SUM('ماتریس اصلی با دهکها'!D137:EC225) -> 23262123 | M9: =+SUM(C9:L9) -> 23262123
B10: ايجاد درآمد | D10: =+SUM('ماتریس اصلی با دهکها'!ED226:HN230) -> 14185422 | L10: =+SUM('ماتریس اصلی با دهکها'!JY226:JZ230) -> 15049.72 | M10: =+SUM(C10:L10) -> 14200472
B11: تخصيص درآمد اوليه | C11: =+SUM('ماتریس اصلی با دهکها'!D231:EC235) -> 460061.62 | E11: =+SUM('ماتریس اصلی با دهکها'!HO231:HS235) -> 14183777 | F11: =+SUM('ماتریس اصلی با دهکها'!HT231:HX235) -> 5933187.1 | L11: =+SUM('ماتریس اصلی با دهکها'!JY231:JZ235) -> 70511.4 | M11: =+SUM(C11:L11) -> 20647537
B12: توزيع ثانويه درآمد | F12: =+SUM('ماتریس اصلی با دهکها'!HT236:HX240) -> 14662107 | G12: =+SUM('ماتریس اصلی با دهکها'!HY236:IC240) -> 2874456.5 | L12: =+SUM('ماتریس اصلی با دهکها'!JY236:JZ240) -> 33182.391 | M12: =+SUM(C12:L12) -> 17569746
B13: مصرف درآمد | G13: =+SUM('ماتریس اصلی با دهکها'!HY241:IC265) -> 14682965 | M13: =+SUM(C13:L13) -> 14682965
B14: سرمايه (نهادي) | H14: =+SUM('ماتریس اصلی با دهکها'!ID266:JB270) -> 5334222.8 | I14: =+SUM('ماتریس اصلی با دهکها'!JC266:JG270) -> -1278078.3 | K14: =+SUM('ماتریس اصلی با دهکها'!JR266:JX270) -> 7690140.4 | M14: =+SUM(C14:L14) -> 11746285
B15: تشکيل سرمايه ثابت(فعاليتها) | I15: =+SUM('ماتریس اصلی با دهکها'!JC271:JG280) -> 3562344.1 | M15: =+SUM(C15:L15) -> 3562344.1
B16: مالي | I16: =+SUM('ماتریس اصلی با دهکها'!JC281:JG287) -> 7833546.4 | L16: =+SUM('ماتریس اصلی با دهکها'!JY281:JZ287) -> -343969.45 | M16: =+SUM(C16:L16) -> 7489576.9
B17: دنياي خارج | C17: =+SUM('ماتریس اصلی با دهکها'!D288:EC289) -> 2662555.7 | E17: =+SUM('ماتریس اصلی با دهکها'!HO288:HS289) -> 16695.308 | F17: =+SUM('ماتریس اصلی با دهکها'!HT288:HX289) -> 52242.402 | G17: =+SUM('ماتریس اصلی با دهکها'!HY288:IC289) -> 12324.784 | I17: =+SUM('ماتریس اصلی با دهکها'!JC288:JG289) -> 259344.47 | K17: =+SUM('ماتریس اصلی با دهکها'!JR288:JX289) -> -200563.46 | L17: =+SUM('ماتریس اصلی با دهکها'!JY288:JZ289) -> -402750.46 | M17: =+SUM(C17:L17) -> 2399848.7
B18: جمع | C18: =+SUM(C8:C17) -> 26384740 | D18: =+SUM(D8:D17) -> 23262123 | E18: =+SUM(E8:E17) -> 14200472 | F18: =+SUM(F8:F17) -> 20647537 | G18: =+SUM(G8:G17) -> 17569746 | H18: =+SUM(H8:H17) -> 14682965 | I18: =+SUM(I8:I17) -> 11746285 | J18: =+SUM(J8:J17) -> 3562344.1 | ... M18: =+SUM(M8:M17) -> 1.4194564e+08

Sheet ماتریس اصلی FSAM
D1: ماتريس حسابداري اجتماعي اقتصاد ايران - سال 1395 (ارقام به ميليارد ريال)
A3: ماتریس حسابداری اجتماعی مالی اقتصاد ايران سال 1395 به قیمت جاری (میلیارد ریال) | C3: عنوان | D3: کالاها و خدمات | ED3: توليد | HO3: ايجاد درآمد | HT3: تخصيص درآمد اوليه | HY3: توزيع ثانويه درآمد | ID3: مصرف درآمد | II3: سرمايه (تغيير در موجودي انبار) | IN3: سرمايه (تشكيل سرمايه ثابت ناخالص) | IX3: مالي | JE3: دنياي خارج | JG3: جمع
HO4: درآمد نيروي كار | HQ4: درآمد مختلط | HR4: مازاد عملياتي | HS4: خالص ساير مالياتهاي بر توليد | HT4: خانوار | HU4: دولت عمومي | HV4: نفت و گاز | HW4: شركتهاي غيرمالي | HX4: شركتهاي مالي | HY4: خانوار | HZ4: دولت عمومي | IA4: نفت و گاز | IB4: شركتهاي غيرمالي | IC4: شرکتهاي مالي | ID4: خانوار | IE4: دولت عمومي | IF4: نفت و گاز | IG4: شركتهاي غيرمالي | IH4: شركتهاي مالي | II4: خانوار | IJ4: دولت عمومي | IK4: نفت و گاز | IL4: شركتهاي غيرمالي | IM4: شركتهاي مالي | IX4: طلاي پولي و حق برداشت مخصوص | IY4: پول نقد و سپرده ها | IZ4: اوراق بهادار بجز سهام | JA4: وام ها | JB4: سهام و داراييهاي مشابه | JC4: خالص دارايي خانوارها از ذخاير بيمه عمر و صندوق هاي بازنشستگي | JD4: ساير حسابهاي دريافتني / پرداختني | JE4: جاري | JF4: سرمايه
D5: گندم | E5: شلتوک و برنج | F5: ساير غلات و حبوبات | G5: سبزیجات | H5: انواع ميوه ها | I5: دانه هاي روغني | J5: ریشه ها و غده های خوراکی حاوی مقدار زیادی نشاسنه | K5: محصولات نوشیدنی، معطر و ادويه ای | L5: حبوبات خشک | M5: چغندر قند ونيشكر | N5: مواد خام گياهي | O5: گاو و گوسفند (گوشت قرمز) | P5: مرغ و ماکیان (گوشت سفید) و سایر حیوانات زنده | Q5: شیر دامها و سایر انواع شیرهای طبقه بندی نشده در جای دیگر | R5: انواع تخم حیوانات | S5: سایر محصولات دامی | T5: چوبهاي جنگلي و غير جنگلي | U5: ساير محصولات جنگلداري و قطع اشجار | V5: ماهي و سايرفرآورده های دریایی | W5: زغال سنگ و لینیت | X5: نفت خام | Y5: گاز طبیعی | Z5: سنگهاي فلزي ؛ مس ؛ آلومينيم ونيكل | AA5: سنگهاي تزئینی و ساختماني و مجسمه سازي | AB5: سنگ گچ و آهك | AC5: شن، ماسه، ريگ؛ خاك رس | AD5: ساير محصولات معدني (سایر کانی ها) | AE5: برق | AF5: گاز تصفيه و توزيع شده | AG5: آب | AH5: انواع گوشت و فراورده هاي گوشتي | AI5: ماهي و فراورده هاي حاصل از آبزيان | AJ5: سبزي ها و ميوه‌هاي آماده شده و حفاظت شده از فساد و آب آنها | AK5: روغن ها و چربي هاي حيواني و گياهي | AL5: لبنيات و محصولات لبني | AM5: انواع آرد و ساير محصولات از دانه هاي آسياب شده | AN5: انواع نشاسته و محصولات نشاسته اي | AO5: خوراك دام و طيور | AP5: انواع نان و ساير محصولات نانوايي و شیرینی پزی | AQ5: قند و شكر | AR5: كاكائو ؛ شكلات وساير شيريني ها | AS5: انواع ماكاروني و ساير فراورده هاي مشابه حاصل از آرد | AT5: چای و قهوه | AU5: ادویه و ساير محصولات غذايي | AV5: انواع نوشیدنی ها | AW5: انواع سيگار و ساير محصولات از توتون و تنباکو | AX5: انواع نخ و پارچه نساجي بافته شده | AY5: انواع فرش و سایر کفپوش ها | AZ5: انواع منسوجات به جز پوشاک و کف پوش ها | BA5: انواع پوشاك و كالاها از پوست خزدار | BB5: چرم ومحصولات چرمي به جز کفش | BC5: انواع کفش | BD5: محصولات چوبي | BE5: انواع كاغذ و محصولات كاغذي ، محصولات چاپي و اقلام مربوطه | BF5: بنزین | BG5: نفت سفيد | BH5: گازوييل (نفت گاز) | BI5: نفت كوره (نفت سیاه) | BJ5: گازهاي مايع (بوتان، پروپان، ...) | BK5: سایر فرآورده های نفتی (کک و نیمه کک و روغنهای سوختی) | BL5: محصولات شيميايي اساسي | BM5: ساير محصولات شيميايي؛ الياف نیمه مصنوعي | BN5: محصولات از لاستيك وپلاستيك | BO5: شيشه و محصولا ت شيشه اي | BP5: محصولات سراميكي غیر سازه ای | BQ5: محصولات نسوز و غیر نسوز سازه ای (انواع آجر ، بلوک و کاشي) | BR5: گچ، آهک و سيمان | BS5: ساير محصولات معدنی غيرفلزي | BT5: انواع مبلمان | BU5: ساير مصنوعات طبقه بندي نشده | BV5: فلزات اساسي | BW5: محصولات فلزي سازه اي، انواع مخزن و منبع فلزي و ژنراتورهای بخار و قطعات مربوط به آنها | BX5: ساير محصولات صنعتی فلزي ساخته شده | BY5: انواع ماشين آلات با کاربرد عام | BZ5: انواع ماشين آلات کشاورزي، ماشین ابزار، متالژی (ذوب فلز) و معدن کاری و قطعات آنها | CA5: انواع ماشين آلات فرآوری مواد غذايي ، توليد منسوجات و نظامي و قطعات آنها | CB5: انواع لوازم خانگي وسايرماشين آلات باکاربردخاص وقطعات آنها | CC5: ماشين آلات دفتري ، حسابداري و محاسباتي | CD5: موتورهاي الکتريکي ، ژنراتورها و ترانسفورماتورها و قطعات آنها | CE5: ساير ماشين آلات و تجهیزات صنعت برق | CF5: لوازم و دستگاههای رادیویی، تلویزیونی و ارتباطی | CG5: تجهیزات پزشکی و جراحی و تجهیزات ارتوپدی | CH5: انواع وسايل اندازه گيري ، ابزار اپتيکي ، ابزار دقيق و انواع ساعت | CI5: انواع وسيله نقليه موتوري (خودرو) ، تريلر و نيم تريلر؛ انواع کانتینر | CJ5: اجزاء و قطعات و لوازم الحاقي به وسايل نقليه موتوري | CK5: وسايل نقليه آبي،ريلي ،هوايي و قطعات آنها | CL5: ساير تجهيزات حمل و نقل و قطعات مربوط به آنها | CM5: ساختمان مسكوني | CN5: ساختمان غیر مسکونی و سازه های عمرانی و خدمات ساختمانی | CO5: خدمات عمده فروشي و خرده فروشی و حق العمل‌کاري | CP5: خدمات ارائه جا به مسافران (هتل ها و سایر اقامتگاهها) | CQ5: خدمات ارائه غذا و نوشیدنی (رستوران ها و محل های صرف غذا و نوشیدنی) | CR5: خدمات حمل و نقل جاده ای مسافر | CS5: خدمات حمل و نقل جاده ای بار | CT5: خدمات حمل و نقل ریلی مسافر | CU5: خدمات حمل و نقل ریلی بار | CV5: خدمات انتقال از طریق خط لوله | CW5: خدمات حمل و نقل دریایی | CX5: خدمات حمل و نقل هوایی و فضایی | CY5: خدمات پشتيبانی حمل و نقل (جابجایی بار، انبارداری، پایانه، پارکینگ و یدک کش) | CZ5: خدمات پست و پیک | DA5: خدمات مالی، بانکداری سرمایه گذاری و خدمات جانبی به غیر از بیمه و حقوق بازنشستگی | DB5: خدمات بيمه و مستمری، بیمه اتکایی، خدمات جانبی بیمه و مقرری بازنشستگی به جز تامين اجتماعی اجباری | DC5: خدمات اجاره واحدهاي مسكوني شخصي | DD5: خدمات واحدهاي مسكوني اجاري | DE5: خدمات واحدهاي غير مسكوني اجاري | DF5: خدمات معاملات ملکی (مستغلات) | DG5: خدمات كرايه ماشين آلات و تجهيزات بدون متصدی و كالاهای شخصی و خانگي | DH5: خدمات تحقیق و توسعه | DI5: خدمات مشاوره حقوقی و حسابداری، سایر خدمات تخصصی و فنی | DJ5: خدمات دامپزشکی | DK5: خدمات تبلیغات و بازاریابی | DL5: خدمات مخابراتی و اینترنتی | DM5: خدمات محتوای آنلاین، خبرگزاری ها، کتابخانه ها، پخش برنامه های رادیو تلویزیون | DN5: خدمات سرویس و تعمیر و نصب، نظافت و سایر خدمات پشتیبانی، تولیدی و انتشاراتی | DO5: خدمات اداری دولت (امور عمومی) | DP5: خدمات دفاعی و انتظامي (خدمات دفاعی دولت به کل جامعه) | DQ5: خدمات تامين اجتماعی اجباری | DR5: خدمات آموزش پیش دبستانی، ابتدایی خصوصی | DS5: خدمات آموزش پیش دبستانی، ابتدایی دولتی | DT5: خدمات آموزش متوسطه خصوصی | DU5: خدمات آموزش متوسط دولتی | DV5: خدمات آموزش عالی خصوصی | DW5: خدمات آموزش عالی دولتی | DX5: خدمات آموزش دوره های آمادگی، سایر خدمات آموزشی و پشتیبانی آموزشی | DY5: خدمات بهداشت، سلامت و مراقبت اجتماعی | DZ5: خدمات انتقال و تصفیه فاضلاب و دفع پسماند و تخلیه چاه | EA5: خدمات سازمان های عضویتی و مذهبی و سیاسی | EB5: خدمات تفريحی ، فرهنگی ، ورزشی | EC5: سایر خدمات شخصی خانگی و نهادهای برون مرزی | ED5: کاشت محصولات (زراعت و باغداري) | EE5: پرورش حيوانات | EF5: جنگلداری و بریدن درختان | EG5: ماهيگيری و آبزی پروری | EH5: استخراج نفت خام و گاز طبیعی | EI5: استخراج زغال سنگ و زغال قهوه ای | EJ5: استخراج کانه های فلزی | EK5: استخراج ساير معادن | EL5: فرآوری و نگهداری گوشت، ماهی، میوه و سبزیجات | EM5: توليد روغنها و چربيهاي گياهي و حيواني | EN5: توليد فراورده هاي لبني، آسياب غلات (دانه آسياب شده)، نشاسته و فراورده های نشاسته ای هاي نشاستهاي | EO5: تولید سایر فرآورده های غذایی و غذای آماده برای حیوانات | EP5: توليد انواع آشامیدنی ها | EQ5: توليد فرآورده های توتون و تنباکو (سیگار) | ER5: توليد منسوجات | ES5: توليد قالي و قاليچه | ET5: توليد پوشاک | EU5: توليدچرم و فرآورده های وابسته بجز کفش | EV5: تولید کفش و پاپوش | EW5: توليد چوب و فراورده هاي چوب و چوب پنبه، به جز مبلمان؛ توليد كالاها از حصير و مواد حصيربافي | EX5: توليدکاغذ و فرآورده های کاغذی | EY5: چاپ و تکثیر رسانه های ضبط شده | EZ5: توليد فراورده های نفتی (پالايشگاه ها) | FA5: توليد ساير فرآورده های حاصل از تصفيه نفت (غیر پالایشگاه ها) | FB5: توليد مواد شیمیایی و فرآورده های شیمیایی | FC5: توليد داروها و فرآورده های دارویی شیمیایی و گیاهی | FD5: توليد فرآورده های لاستیکی و پلاستیکی | FE5: توليد شيشه و محصولات شيشه اي | FF5: توليد محصولات کاني غير فلزي طبقه بندي نشده در جاي ديگر | FG5: توليد آهن و فولاد پايه | FH5: تولید محصولات اساسی مس و آلومنيوم | FI5: تولید سایر فلزات اساسی و ریخته گری | FJ5: توليد محصولات فلزی ساخته شده، به جز ماشین آلات و تجهیزات | FK5: تولید محصولات رایانه ای، الکترونیکی و نوری | FL5: توليد تجهیزات برقی | FM5: تولید ماشین آلات و تجهیزات طبقه بندی نشده در جای دیگر | FN5: تولید وسایل نقلیه موتوری، تریلر و نیم تریلر | FO5: تولید سایر تجهیزات حمل و نقل | FP5: تولید مبلمان | FQ5: تولید سایر مصنوعات | FR5: تعمیر و نصب ماشین آلات و تجهیزات | FS5: تولید، انتقال و توزیع برق | FT5: توليد گاز؛ توزيع سوختهاي گازي از طريق شاه لوله | FU5: جمع آوری، تصفیه و تامین آب | FV5: فاضلاب، فعالیت های جمع آوری، تصفیه و دفع پسماند؛ بازیافت مواد | FW5: ساختمان خصوصی | FX5: ساختمان دولتی | FY5: فروش، نگهداری و تعمیر وسایل نقلیه موتوری و موتور سیکلت | FZ5: عمده فروشی و خرده فروشی | GA5: حمل و نقل ریلی مسافر | GB5: حمل و نقل ریلی بار | GC5: حمل و نقل جاده ای مسافر | GD5: حمل و نقل جاده ای بار | GE5: حمل و نقل از طریق خطوط لوله | GF5: حمل و نقل آبی | GG5: حمل و نقل هوایی | GH5: انبارداری و ذخیره سازی | GI5: فعالیت های پشتیبانی حمل و نقل | GJ5: فعالیت های پست و پیک | GK5: فعالیت های خدماتی مربوط به تامین جا (هتل ) | GL5: فعالیت های خدماتی مربوط به غذا و آشامیدنی (رستوران ) | GM5: مخابرات | GN5: سایر فعالیت های اطلاعات و ارتباطات | GO5: فعالیت های خدمات مالی، بجز تامین وجوه بیمه و بازنشستگی | GP5: بیمه، بیمه اتکایی و تامین وجوه بازنشستگی بجز تامین اجتماعی اجباري | GQ5: فعالیت های جنبی خدمات مالی و فعالیت های بیمه | GR5: خدمات واحدهاي مسكوني شخصي | GS5: خدمات واحدهاي مسكوني اجاري | GT5: خدمات واحدهاي غير مسكوني | GU5: خدمات دلالان املاك و مستغلات | GV5: تحقیق و توسعه علمی | GW5: فعالیت های حقوقی و مهندسی | GX5: فعالیت دامپزشکی | GY5: فعالیت اجاره داری | GZ5: سایر فعالیت های پشتیبانی | HA5: اداره امور عمومی | HB5: خدمات شهري | HC5: دفاع و امنیت | HD5: فعالیت های تامين اجتماعی اجباری | HE5: آموزش زير ديپلم (پيش دبستان، ابتدايي و متوسطه) دولتي | HF5: آموزش زير ديپلم (پيش دبستان، ابتدايي و متوسطه) خصوصي | HG5: آموزش عالي دولتي | HH5: آموزش عالي خصوصي | HI5: ساير آموزش ها | HJ5: بهداشت عمومي | HK5: بهداشت خصوصي | HL5: مددکاري اجتماعي | HM5: فعاليت های سرگرمی، فرهنگی، تفريحی و ورزشی | HN5: ساير فعاليت های خدماتی و شخصی خانگی | HO5: مقيم داخل | HP5: مقيم خارج | IN5: کشاورزي | IO5: نفت و گاز | IP5: ساير معادن | IQ5: صنعت | IR5: برق،گاز و آب | IS5: ساختمان | IT5: حمل و نقل | IU5: ارتباطات | IV5: مستغلات | IW5: ساير خدمات
A6: عنوان | C6: كد | D6: 1 | E6: 2 | F6: 3 | G6: 4 | H6: 5 | I6: 6 | J6: 7 | K6: 8 | L6: 9 | M6: 10 | N6: 11 | O6: 12 | P6: 13 | Q6: 14 | R6: 15 | S6: 16 | T6: 17 | U6: 18 | V6: 19 | W6: 20 | X6: 21 | Y6: 22 | Z6: 23 | AA6: 24 | AB6: 25 | AC6: 26 | AD6: 27 | AE6: 28 | AF6: 29 | AG6: 30 | AH6: 31 | AI6: 32 | AJ6: 33 | AK6: 34 | AL6: 35 | AM6: 36 | AN6: 37 | AO6: 38 | AP6: 39 | AQ6: 40 | AR6: 41 | AS6: 42 | AT6: 43 | AU6: 44 | AV6: 45 | AW6: 46 | AX6: 47 | AY6: 48 | AZ6: 49 | BA6: 50 | BB6: 51 | BC6: 52 | BD6: 53 | BE6: 54 | BF6: 55 | BG6: 56 | BH6: 57 | BI6: 58 | BJ6: 59 | BK6: 60 | BL6: 61 | BM6: 62 | BN6: 63 | BO6: 64 | BP6: 65 | BQ6: 66 | BR6: 67 | BS6: 68 | BT6: 69 | BU6: 70 | BV6: 71 | BW6: 72 | BX6: 73 | BY6: 74 | BZ6: 75 | CA6: 76 | CB6: 77 | CC6: 78 | CD6: 79 | CE6: 80 | CF6: 81 | CG6: 82 | CH6: 83 | CI6: 84 | CJ6: 85 | CK6: 86 | CL6: 87 | CM6: 88 | CN6: 89 | CO6: 90 | CP6: 91 | CQ6: 92 | CR6: 93 | CS6: 94 | CT6: 95 | CU6: 96 | CV6: 97 | CW6: 98 | CX6: 99 | CY6: 100 | CZ6: 101 | DA6: 102 | DB6: 103 | DC6: 104 | DD6: 105 | DE6: 106 | DF6: 107 | DG6: 108 | DH6: 109 | DI6: 110 | DJ6: 111 | DK6: 112 | DL6: 113 | DM6: 114 | DN6: 115 | DO6: 116 | DP6: 117 | DQ6: 118 | DR6: 119 | DS6: 120 | DT6: 121 | DU6: 122 | DV6: 123 | DW6: 124 | DX6: 125 | DY6: 126 | DZ6: 127 | EA6: 128 | EB6: 129 | EC6: 130 | ED6: 1 | EE6: 2 | EF6: 3 | EG6: 4 | EH6: 5 | EI6: 6 | EJ6: 7 | EK6: 8 | EL6: 9 | EM6: 10 | EN6: 11 | EO6: 12 | EP6: 13 | EQ6: 14 | ER6: 15 | ES6: 16 | ET6: 17 | EU6: 18 | EV6: 19 | EW6: 20 | EX6: 21 | EY6: 22 | EZ6: 23 | FA6: 24 | FB6: 25 | FC6: 26 | FD6: 27 | FE6: 28 | FF6: 29 | FG6: 30 | FH6: 31 | FI6: 32 | FJ6: 33 | FK6: 34 | FL6: 35 | FM6: 36 | FN6: 37 | FO6: 38 | FP6: 39 | FQ6: 40 | FR6: 41 | FS6: 42 | FT6: 43 | FU6: 44 | FV6: 45 | FW6: 46 | FX6: 47 | FY6: 48 | FZ6: 49 | GA6: 50 | GB6: 51 | GC6: 52 | GD6: 53 | GE6: 54 | GF6: 55 | GG6: 56 | GH6: 57 | GI6: 58 | GJ6: 59 | GK6: 60 | GL6: 61 | GM6: 62 | GN6: 63 | GO6: 64 | GP6: 65 | GQ6: 66 | GR6: 67 | GS6: 68 | GT6: 69 | GU6: 70 | GV6: 71 | GW6: 72 | GX6: 73 | GY6: 74 | GZ6: 75 | HA6: 76 | HB6: 77 | HC6: 78 | HD6: 79 | HE6: 80 | HF6: 81 | HG6: 82 | HH6: 83 | HI6: 84 | HJ6: 85 | HK6: 86 | HL6: 87 | HM6: 88 | HN6: 89 | HO6: 2a | HP6: 2b | HQ6: 2c | HR6: 2d | HS6: 2e | HT6: 3a | HU6: 3b | HV6: 3c | HW6: 3d | HX6: 3e | HY6: 4a | HZ6: 4b | IA6: 4c | IB6: 4d | IC6: 4e | ID6: 5a | IE6: 5b | IF6: 5c | IG6: 5d | IH6: 5e | II6: 6a | IJ6: 6b | IK6: 6c | IL6: 6d | IM6: 6e | IN6: 1 | IO6: 2 | IP6: 3 | IQ6: 4 | IR6: 5 | IS6: 6 | IT6: 7 | IU6: 8 | IV6: 9 | IW6: 10 | IX6: 1 | IY6: 2 | IZ6: 3 | JA6: 4 | JB6: 5 | JC6: 6 | JD6: 7
A7: کالاها و خدمات | B7: گندم | C7: 1 | ED7: 23176.612 | EE7: 24424.242 | EF7: 0 | EG7: 294.01088 | EH7: 0 | EI7: 0 | EJ7: 0 | EK7: 0 | EL7: 0 | EM7: 0 | EN7: 76403.776 | EO7: 0 | EP7: 0 | EQ7: 0 | ER7: 0 | ES7: 0 | ET7: 0 | EU7: 0 | EV7: 0 | EW7: 0 | EX7: 0 | EY7: 0 | EZ7: 0 | FA7: 0 | FB7: 0 | FC7: 0 | FD7: 0 | FE7: 0 | FF7: 0 | FG7: 0 | FH7: 0 | FI7: 0 | FJ7: 0 | FK7: 0 | FL7: 0 | FM7: 0 | FN7: 0 | FO7: 0 | FP7: 0 | FQ7: 0 | FR7: 0 | FS7: 0 | FT7: 0 | FU7: 0 | FV7: 0 | FW7: 0 | FX7: 0 | FY7: 0 | FZ7: 0 | GA7: 0 | GB7: 0 | GC7: 0 | GD7: 0 | GE7: 0 | GF7: 0 | GG7: 0 | GH7: 0 | GI7: 0 | GJ7: 0 | GK7: 0 | GL7: 0 | GM7: 0 | GN7: 0 | GO7: 0 | GP7: 0 | GQ7: 0 | GR7: 0 | GS7: 0 | GT7: 0 | GU7: 0 | GV7: 0 | GW7: 0 | GX7: 0 | GY7: 0 | GZ7: 0 | HA7: 0 | HB7: 0 | HC7: 0 | HD7: 0 | HE7: 0 | HF7: 0 | HG7: 0 | HH7: 0 | HI7: 0 | HJ7: 0 | HK7: 0 | HL7: 0 | HM7: 0 | HN7: 0 | ID7: 1000.9419 | IE7: 0 | II7: 69689.648 | IJ7: 0 | IK7: 0 | IL7: 19409.841 | IM7: 0 | IN7: 0 | IO7: 0 | IP7: 0 | IQ7: 0 | IR7: 0 | IS7: 0 | IT7: 0 | IU7: 0 | IV7: 0 | IW7: 0 | JE7: 0.53912669 | JG7: 214399.61
B8: شلتوک و برنج | C8: 2 | ED8: 4692.6783 | EE8: 5587.5358 | EF8: 4.1416521 | EG8: 307.58668 | EH8: 881.71607 | EI8: 10.153336 | EJ8: 61.84016 | EK8: 76.173556 | EL8: 40.854526 | EM8: 8.9321174 | EN8: 44.485854 | EO8: 72.300546 | EP8: 18.750712 | EQ8: 1.1974715 | ER8: 16.733226 | ES8: 6.2658494 | ET8: 5.9323522 | EU8: 5.580291 | EV8: 0.021260247 | EW8: 25.720729 | EX8: 24.111738 | EY8: 19.337981 | EZ8: 217.37164 | FA8: 217.8913 | FB8: 162.19271 | FC8: 48.253215 | FD8: 63.981422 | FE8: 28.511842 | FF8: 166.01994 | FG8: 194.07919 | FH8: 34.480939 | FI8: 4.3076722 | FJ8: 165.45452 | FK8: 2.5090179 | FL8: 28.302861 | FM8: 40.237799 | FN8: 259.43911 | FO8: 9.8836848 | FP8: 39.82658 | FQ8: 9.8962936 | FR8: 10.983005 | FS8: 0 | FT8: 456.06888 | FU8: 71.320973 | FV8: 0 | FW8: 344.11523 | FX8: 557.04884 | FY8: 8.8636577 | FZ8: 76.658168 | GA8: 1.1815001 | GB8: 48.39146 | GC8: 122.25043 | GD8: 1.7579665 | GE8: 4.360213 | GF8: 50.197763 | GG8: 2.2794474 | GH8: 5.026103 | GI8: 55.503016 | GJ8: 0 | GK8: 549.05628 | GL8: 12567.444 | GM8: 17.365347 | GN8: 9.4752069 | GO8: 115.43272 | GP8: 28.857126 | GQ8: 0 | GR8: 0 | GS8: 0 | GT8: 0 | GU8: 0 | GV8: 25.976823 | GW8: 6.6030382 | GX8: 0 | GY8: 0.48150038 | GZ8: 1.1104903 | HA8: 80.129942 | HB8: 0 | HC8: 1364.6344 | HD8: 66.642129 | HE8: 0 | HF8: 0 | HG8: 1165.1633 | HH8: 345.56779 | HI8: 64.697865 | HJ8: 1805.3396 | HK8: 673.58937 | HL8: 118.05757 | HM8: 2.3307356 | HN8: 8.9599751 | ID8: 186166.19 | IE8: 0 | II8: 2034.2945 | IJ8: 0 | IK8: 0 | IL8: 566.58818 | IM8: 0 | IN8: 0 | IO8: 0 | IP8: 0 | IQ8: 0 | IR8: 0 | IS8: 0 | IT8: 0 | IU8: 0 | IV8: 0 | IW8: 0 | JE8: 263.90312 | JG8: 223468.59
B9: ساير غلات و حبوبات | C9: 3 | ED9: 3176.7012 | EE9: 23029.632 | EF9: 0.62448009 | EG9: 145.2876 | EH9: 0 | EI9: 0 | EJ9: 0 | EK9: 0 | EL9: 0 | EM9: 0 | EN9: 0 | EO9: 22967.234 | EP9: 0 | EQ9: 0 | ER9: 0 | ES9: 0 | ET9: 0 | EU9: 0 | EV9: 0 | EW9: 0 | EX9: 0 | EY9: 0 | EZ9: 0 | FA9: 0 | FB9: 0 | FC9: 0 | FD9: 0 | FE9: 0 | FF9: 0 | FG9: 0 | FH9: 0 | FI9: 0 | FJ9: 0 | FK9: 0 | FL9: 0 | FM9: 0 | FN9: 0 | FO9: 0 | FP9: 0 | FQ9: 0 | FR9: 0 | FS9: 0 | FT9: 0 | FU9: 0 | FV9: 0 | FW9: 0 | FX9: 0 | FY9: 0 | FZ9: 0 | GA9: 0 | GB9: 0 | GC9: 0 | GD9: 0 | GE9: 0 | GF9: 0 | GG9: 0 | GH9: 0 | GI9: 0 | GJ9: 0 | GK9: 0 | GL9: 0 | GM9: 0 | GN9: 0 | GO9: 0 | GP9: 0 | GQ9: 0 | GR9: 0 | GS9: 0 | GT9: 0 | GU9: 0 | GV9: 0 | GW9: 0.94130043 | GX9: 0 | GY9: 0.068640602 | GZ9: 0 | HA9: 24.082257 | HB9: 4.981644 | HC9: 37.576153 | HD9: 0 | HE9: 0 | HF9: 0 | HG9: 0 | HH9: 60.909116 | HI9: 0 | HJ9: 91.026385 | HK9: 0 | HL9: 0 | HM9: 0 | HN9: 0 | ID9: 547.42063 | IE9: 0 | II9: 57254.453 | IJ9: 0 | IK9: 0 | IL9: 15946.411 | IM9: 0 | IN9: 0 | IO9: 0 | IP9: 0 | IQ9: 0 | IR9: 0 | IS9: 0 | IT9: 0 | IU9: 0 | IV9: 0 | IW9: 0 | JE9: 0.91906636 | JG9: 123288.27
B10: سبزیجات | C10: 4 | ED10: 794.17531 | EE10: 885.75506 | EF10: 1.7173202 | EG10: 399.54089 | EH10: 125.69361 | EI10: 1.4474154 | EJ10: 8.8156644 | EK10: 10.858971 | EL10: 6768.0113 | EM10: 1.2733238 | EN10: 663.04188 | EO10: 3898.0709 | EP10: 2.67302 | EQ10: 0.17070634 | ER10: 2.385416 | ES10: 0.89323226 | ET10: 0.84569035 | EU10: 0.79550203 | EV10: 0.0030307685 | EW10: 3.6666354 | EX10: 3.4372646 | EY10: 2.7567385 | EZ10: 30.987556 | FA10: 31.061637 | FB10: 23.121488 | FC10: 6.8787687 | FD10: 9.1209134 | FE10: 4.0645244 | FF10: 23.667081 | FG10: 27.667086 | FH10: 4.9154528 | FI10: 0.61408303 | FJ10: 23.586477 | FK10: 0.35767469 | FL10: 4.0347328 | FM10: 5.7361258 | FN10: 36.984511 | FO10: 1.4089752 | FP10: 5.6775042 | FQ10: 1.4107726 | FR10: 1.5656895 | FS10: 0 | FT10: 65.015198 | FU10: 10.167208 | FV10: 0 | FW10: 51.365122 | FX10: 83.568297 | FY10: 1.2635645 | FZ10: 10.928055 | GA10: 0.16842952 | GB10: 6.8984762 | GC10: 17.427489 | GD10: 0.25060807 | GE10: 0.62157302 | GF10: 7.1559749 | GG10: 0.32494811 | GH10: 0.7164994 | GI10: 7.9122688 | GJ10: 0 | GK10: 78.271077 | GL10: 1791.5603 | GM10: 2.4755284 | GN10: 1.3507443 | GO10: 16.455587 | GP10: 4.1137464 | GQ10: 0 | GR10: 0 | GS10: 0 | GT10: 0 | GU10: 0 | GV10: 3.7031429 | GW10: 0 | GX10: 0 | GY10: 0 | GZ10: 0.15830667 | HA10: 66.226207 | HB10: 13.699521 | HC10: 103.33442 | HD10: 9.5002123 | HE10: 0 | HF10: 0 | HG10: 166.10062 | HH10: 167.50007 | HI10: 9.2230464 | HJ10: 250.32256 | HK10: 96.023973 | HL10: 16.829775 | HM10: 0.33225954 | HN10: 1.2772951 | ID10: 204125.79 | IE10: 0 | II10: 76864.969 | IJ10: 0 | IK10: 0 | IL10: 21408.299 | IM10: 0 | IN10: 0 | IO10: 0 | IP10: 0 | IQ10: 0 | IR10: 0 | IS10: 0 | IT10: 0 | IU10: 0 | IV10: 0 | IW10: 0 | JE10: 24281.416 | JG10: 343561.61
B11: انواع ميوه ها | C11: 5 | ED11: 4465.2992 | EE11: 199.36555 | EF11: 6.3354317 | EG11: 75.707259 | EH11: 30.807177 | EI11: 0.49186855 | EJ11: 10.780803 | EK11: 7.762582 | EL11: 11039.088 | EM11: 0.11169765 | EN11: 2627.357 | EO11: 21830.055 | EP11: 0.23448084 | EQ11: 0.014974585 | ER11: 0.20925183 | ES11: 0.078355511 | ET11: 0.074185072 | EU11: 0.069782487 | EV11: 0.000265863 | EW11: 0.32164209 | EX11: 0.30152138 | EY11: 0.24182473 | EZ11: 2.7182693 | FA11: 2.7247677 | FB11: 2.0282474 | FC11: 0.60341465 | FD11: 0.80009854 | FE11: 0.35654543 | FF11: 2.0761075 | FG11: 2.4269933 | FH11: 0.43119 | FI11: 0.053868173 | FJ11: 2.0690368 | FK11: 0.031375695 | FL11: 0.35393208 | FM11: 0.50318051 | FN11: 3.2443301 | FO11: 0.12359716 | FP11: 0.49803815 | FQ11: 0.12375483 | FR11: 0.13734435 | FS11: 1.0915548 | FT11: 5.7032188 | FU11: 15.30721 | FV11: 0 | FW11: 338.22421 | FX11: 247.51491 | FY11: 39.064096 | FZ11: 337.84947 | GA11: 1.123703 | GB11: 32.675084 | GC11: 10.651799 | GD11: 0.02198367 | GE11: 0.054525204 | GF11: 4.0977315 | GG11: 0.028504877 | GH11: 0.062852272 | GI11: 6.2937332 | GJ11: 0.58562605 | GK11: 6.8660421 | GL11: 157.15803 | GM11: 2.0133284 | GN11: 50.228798 | GO11: 1.4435058 | GP11: 2.1701983 | GQ11: 160.15017 | GR11: 0 | GS11: 0 | GT11: 0 | GU11: 0 | GV11: 28.979324 | GW11: 29.101047 | GX11: 0.6852893 | GY11: 2.1220785 | GZ11: 4.894176 | HA11: 912.82094 | HB11: 1.9986273 | HC11: 141.93673 | HD11: 0.83337114 | HE11: 356.4943 | HF11: 56.83854 | HG11: 79.398839 | HH11: 25.632336 | HI11: 6.8115213 | HJ11: 210.88878 | HK11: 8.4233494 | HL11: 62.916505 | HM11: 10.272067 | HN11: 39.488588 | ID11: 320101.11 | IE11: 0 | II11: 184577.28 | IJ11: 0 | IK11: 0 | IL11: 51408.145 | IM11: 0 | IN11: 0 | IO11: 0 | IP11: 0 | IQ11: 0 | IR11: 0 | IS11: 0 | IT11: 0 | IU11: 0 | IV11: 0 | IW11: 0 | JE11: 57670.927 | JG11: 657474.39
B12: دانه هاي روغني | C12: 6 | ED12: 934.33709 | EE12: 1868.6447 | EF12: 0 | EG12: 0 | EH12: 0 | EI12: 0 | EJ12: 0 | EK12: 0 | EL12: 0 | EM12: 39160.946 | EN12: 0 | EO12: 0 | EP12: 0 | EQ12: 0 | ER12: 0 | ES12: 0 | ET12: 0 | EU12: 0 | EV12: 0 | EW12: 0 | EX12: 0 | EY12: 0 | EZ12: 0 | FA12: 0 | FB12: 0 | FC12: 0 | FD12: 0 | FE12: 0 | FF12: 0 | FG12: 0 | FH12: 0 | FI12: 0 | FJ12: 0 | FK12: 0 | FL12: 0 | FM12: 0 | FN12: 0 | FO12: 0 | FP12: 0 | FQ12: 0 | FR12: 0 | FS12: 0 | FT12: 0 | FU12: 0 | FV12: 0 | FW12: 0 | FX12: 0 | FY12: 0 | FZ12: 0 | GA12: 0 | GB12: 0 | GC12: 0 | GD12: 0 | GE12: 0 | GF12: 0 | GG12: 0 | GH12: 0 | GI12: 0 | GJ12: 0 | GK12: 0 | GL12: 0 | GM12: 0 | GN12: 0 | GO12: 0 | GP12: 0 | GQ12: 0 | GR12: 0 | GS12: 0 | GT12: 0 | GU12: 0 | GV12: 0 | GW12: 0 | GX12: 0 | GY12: 0 | GZ12: 0 | HA12: 0 | HB12: 0.10112775 | HC12: 0 | HD12: 0 | HE12: 0 | HF12: 0 | HG12: 0 | HH12: 0 | HI12: 0 | HJ12: 0 | HK12: 0 | HL12: 0 | HM12: 0 | HN12: 0 | ID12: 3135.2652 | IE12: 0 | II12: 22242.217 | IJ12: 0 | IK12: 0 | IL12: 6194.864 | IM12: 0 | IN12: 0 | IO12: 0 | IP12: 0 | IQ12: 0 | IR12: 0 | IS12: 0 | IT12: 0 | IU12: 0 | IV12: 0 | IW12: 0 | JE12: 228.00463 | JG12: 73764.38
B13: ریشه ها و غده های خوراکی حاوی مقدار زیادی نشاسنه | C13: 7 | ED13: 1389.8068 | EE13: 6200.2854 | EF13: 0.27321004 | EG13: 63.563324 | EH13: 59.944433 | EI13: 0.69028566 | EJ13: 4.204271 | EK13: 5.1787427 | EL13: 11863.555 | EM13: 0.60725979 | EN13: 3.0244195 | EO13: 4.9154318 | EP13: 1.2747877 | EQ13: 0.081411413 | ER13: 1.1376267 | ES13: 0.42599064 | ET13: 0.40331747 | EU13: 0.3793822 | EV13: 0.0014454012 | EW13: 1.748652 | EX13: 1.6392629 | EY13: 1.3147138 | EZ13: 14.778249 | FA13: 14.813579 | FB13: 11.026849 | FC13: 3.2805477 | FD13: 4.3498471 | FE13: 1.9384089 | FF13: 11.287047 | FG13: 13.194687 | FH13: 2.3442244 | FI13: 0.29286181 | FJ13: 11.248607 | FK13: 0.17057833 | FL13: 1.924201 | FM13: 2.7356109 | FN13: 17.638252 | FO13: 0.67195314 | FP13: 2.7076537 | FQ13: 0.67281037 | FR13: 0.74669166 | FS13: 0 | FT13: 31.006343 | FU13: 4.8488345 | FV13: 0 | FW13: 34.243415 | FX13: 55.712198 | FY13: 0.60260548 | FZ13: 5.2116895 | GA13: 0.08032558 | GB13: 3.2899464 | GC13: 8.3113291 | GD13: 0.11951728 | GE13: 0.29643386 | GF13: 3.4127499 | GG13: 0.15497073 | GH13: 0.34170512 | GI13: 3.7734334 | GJ13: 0 | GK13: 37.328193 | GL13: 854.41148 | GM13: 1.1806021 | GN13: 0.64418232 | GO13: 7.8478199 | GP13: 1.9618833 | GQ13: 0 | GR13: 0 | GS13: 0 | GT13: 0 | GU13: 0 | GV13: 1.7660627 | GW13: 0.44891479 | GX13: 0 | GY13: 0.032735331 | GZ13: 0.075497901 | HA13: 10.535988 | HB13: 2.1794692 | HC13: 16.439567 | HD13: 4.5307382 | HE13: 0 | HF13: 0 | HG13: 79.214903 | HH13: 26.647738 | HI13: 4.5770762 | HJ13: 39.824043 | HK13: 45.794711 | HL13: 8.0262736 | HM13: 0.15845762 | HN13: 0.60915372 | ID13: 27596.717 | IE13: 0 | II13: -5703.3436 | IJ13: 0 | IK13: 0 | IL13: -1588.4854 | IM13: 0 | IN13: 0 | IO13: 0 | IP13: 0 | IQ13: 0 | IR13: 0 | IS13: 0 | IT13: 0 | IU13: 0 | IV13: 0 | IW13: 0 | JE13: 4191.2173 | JG13: 45512.025
B14: محصولات نوشیدنی، معطر و ادويه ای | C14: 8 | ED14: 45.104033 | EE14: 2.0137934 | EF14: 0.12929452 | EG14: 1.5450461 | EH14: 24.218071 | EI14: 0.2788814 | EJ14: 1.698562 | EK14: 2.092257 | EL14: 1.1221502 | EM14: 0.24533822 | EN14: 1.2218917 | EO14: 13890.262 | EP14: 0.5150253 | EQ14: 0.032890917 | ER14: 0.45961107 | ES14: 0.17210391 | ET14: 0.16294376 | EU14: 0.1532737 | EV14: 0.00058395463 | EW14: 0.70647057 | EX14: 0.66227646 | EY14: 0.53115579 | EZ14: 5.9705409 | FA14: 5.9848144 | FB14: 4.4549427 | FC14: 1680.7123 | FD14: 1.757376 | FE14: 0.783134 | FF14: 4.5600651 | FG14: 5.3307679 | FH14: 0.947087 | FI14: 0.11831871 | FJ14: 4.5445347 | FK14: 0.068915127 | FL14: 0.7773939 | FM14: 1.1052105 | FN14: 7.1260068 | FO14: 0.2714749 | FP14: 1.0939156 | FQ14: 0.27182123 | FR14: 0.30166991 | FS14: 0 | FT14: 12.526831 | FU14: 1.9589712 | FV14: 0 | FW14: 0 | FX14: 0 | FY14: 0.24345784 | FZ14: 2.1055678 | GA14: 0.032452231 | GB14: 1.3291669 | GC14: 3.3578491 | GD14: 0.048286019 | GE14: 0.11976185 | GF14: 1.3787806 | GG14: 0.062609519 | GH14: 0.13805183 | GI14: 1.5244998 | GJ14: 0 | GK14: 15.080914 | GL14: 345.18965 | GM14: 0.47697351 | GN14: 0.26025525 | GO14: 3.1705874 | GP14: 0.79261788 | GQ14: 0 | GR14: 0 | GS14: 0 | GT14: 0 | GU14: 0 | GV14: 0.71350468 | GW14: 0.18136547 | GX14: 0 | GY14: 0.013225358 | GZ14: 0.030501807 | HA14: 9.6251525 | HB14: 0.040788313 | HC14: 2.896668 | HD14: 1.8304575 | HE14: 7.275394 | HF14: 1.1599702 | HG14: 32.003508 | HH14: 0.52310891 | HI14: 1.8491785 | HJ14: 4.3038527 | HK14: 18.501461 | HL14: 3.2426842 | HM14: 0.064018252 | HN14: 0.24610339 | ID14: 4621.7625 | IE14: 0 | II14: 3357.6676 | IJ14: 0 | IK14: 0 | IL14: 935.1718 | IM14: 0 | IN14: 0 | IO14: 0 | IP14: 0 | IQ14: 0 | IR14: 0 | IS14: 0 | IT14: 0 | IU14: 0 | IV14: 0 | IW14: 0 | JE14: 12358.566 | JG14: 37446.974
B15: حبوبات خشک | C15: 9 | ED15: 595.63148 | EE15: 2657.2652 | EF15: 0.39030006 | EG15: 90.804749 | EH15: 47.133922 | EI15: 0.54276718 | EJ15: 3.3057913 | EK15: 4.0720121 | EL15: 2.1839616 | EM15: 0.47748447 | EN15: 2.3780816 | EO15: 3.8649724 | EP15: 1.0023574 | EQ15: 0.064013271 | ER15: 0.89450857 | ES15: 0.3349537 | ET15: 0.31712593 | EU15: 0.29830578 | EV15: 0.0011365097 | EW15: 1.3749538 | EX15: 1.2889419 | EY15: 1.033751 | EZ15: 11.620042 | FA15: 11.647822 | FB15: 8.6703406 | FC15: 2.5794736 | FD15: 3.4202568 | FE15: 1.5241584 | FF15: 8.8749328 | FG15: 10.374897 | FH15: 1.8432486 | FI15: 0.23027536 | FJ15: 8.8447071 | FK15: 0.13412465 | FL15: 1.5129869 | FM15: 2.1509932 | FN15: 13.868844 | FO15: 0.52835244 | FP15: 2.1290107 | FQ15: 0.52902647 | FR15: 0.58711885 | FS15: 0 | FT15: 24.380088 | FU15: 3.8126074 | FV15: 0 | FW15: 85.608536 | FX15: 139.28049 | FY15: 0.47382481 | FZ15: 4.097918 | GA15: 0.063159487 | GB15: 2.5868637 | GC15: 6.5351446 | GD15: 0.09397567 | GE15: 0.23308404 | GF15: 2.6834233 | GG15: 0.12185249 | GH15: 0.26868054 | GI15: 2.9670264 | GJ15: 0 | GK15: 29.350918 | GL15: 671.81825 | GM15: 0.92829987 | GN15: 0.50651642 | GO15: 6.1706903 | GP15: 1.5426162 | GQ15: 0 | GR15: 0 | GS15: 0 | GT15: 0 | GU15: 0 | GV15: 1.3886438 | GW15: 0.35297881 | GX15: 0 | GY15: 0.02573958 | GZ15: 0.059363514 | HA15: 15.051411 | HB15: 3.1135275 | HC15: 23.485096 | HD15: 3.5624903 | HE15: 0 | HF15: 0 | HG15: 62.286169 | HH15: 38.068198 | HI15: 3.5989256 | HJ15: 56.89149 | HK15: 36.008087 | HL15: 6.3110073 | HM15: 0.12459421 | HN15: 0.47897365 | ID15: 43043.129 | IE15: 0 | II15: 5773.7363 | IJ15: 0 | IK15: 0 | IL15: 1608.0911 | IM15: 0 | IN15: 0 | IO15: 0 | IP15: 0 | IQ15: 0 | IR15: 0 | IS15: 0 | IT15: 0 | IU15: 0 | IV15: 0 | IW15: 0 | JE15: 352.8638 | JG15: 55517.882
B16: چغندر قند ونيشكر | C16: 10 | ED16: 2448.0371 | EE16: 2430.3307 | EF16: 0 | EG16: 0 | EH16: 0 | EI16: 0 | EJ16: 0 | EK16: 0 | EL16: 0 | EM16: 0 | EN16: 0 | EO16: 16170.632 | EP16: 0 | EQ16: 0 | ER16: 0 | ES16: 0 | ET16: 0 | EU16: 0 | EV16: 0 | EW16: 0 | EX16: 0 | EY16: 0 | EZ16: 0 | FA16: 0 | FB16: 0 | FC16: 0 | FD16: 0 | FE16: 0 | FF16: 0 | FG16: 0 | FH16: 0 | FI16: 0 | FJ16: 0 | FK16: 0 | FL16: 0 | FM16: 0 | FN16: 0 | FO16: 0 | FP16: 0 | FQ16: 0 | FR16: 0 | FS16: 0 | FT16: 0 | FU16: 0 | FV16: 0 | FW16: 0 | FX16: 0 | FY16: 0 | FZ16: 0 | GA16: 0 | GB16: 0 | GC16: 0 | GD16: 0 | GE16: 0 | GF16: 0 | GG16: 0 | GH16: 0 | GI16: 0 | GJ16: 0 | GK16: 0 | GL16: 0 | GM16: 0 | GN16: 0 | GO16: 0 | GP16: 0 | GQ16: 0 | GR16: 0 | GS16: 0 | GT16: 0 | GU16: 0 | GV16: 0 | GW16: 0 | GX16: 0 | GY16: 0 | GZ16: 0 | HA16: 0 | HB16: 0 | HC16: 0 | HD16: 0 | HE16: 0 | HF16: 0 | HG16: 0 | HH16: 0 | HI16: 0 | HJ16: 0 | HK16: 0 | HL16: 0 | HM16: 0 | HN16: 0 | ID16: 0 | IE16: 0 | II16: 11802.207 | IJ16: 0 | IK16: 0 | IL16: 3287.1305 | IM16: 0 | IN16: 0 | IO16: 0 | IP16: 0 | IQ16: 0 | IR16: 0 | IS16: 0 | IT16: 0 | IU16: 0 | IV16: 0 | IW16: 0 | JE16: 1.502032 | JG16: 36139.84
B17: مواد خام گياهي | C17: 11 | ED17: 14401.173 | EE17: 56808.762 | EF17: 0.89769013 | EG17: 208.85092 | EH17: 125.69361 | EI17: 1.4474154 | EJ17: 8.8156644 | EK17: 10.858971 | EL17: 5.8240437 | EM17: 1.2733238 | EN17: 6.34171 | EO17: 4721.3781 | EP17: 2.67302 | EQ17: 1341.9014 | ER17: 5270.7189 | ES17: 497.69773 | ET17: 0.84569035 | EU17: 0.79550203 | EV17: 0.0030307685 | EW17: 3.6666354 | EX17: 3.4372646 | EY17: 2.7567385 | EZ17: 30.987556 | FA17: 31.061637 | FB17: 23.121488 | FC17: 6.8787687 | FD17: 9.1209134 | FE17: 4.0645244 | FF17: 23.667081 | FG17: 27.667086 | FH17: 4.9154528 | FI17: 0.61408303 | FJ17: 23.586477 | FK17: 0.35767469 | FL17: 4.0347328 | FM17: 5.7361258 | FN17: 36.984511 | FO17: 1.4089752 | FP17: 5.6775042 | FQ17: 1.4107726 | FR17: 1.5656895 | FS17: 0 | FT17: 65.015198 | FU17: 10.167208 | FV17: 0 | FW17: 0 | FX17: 0 | FY17: 1.2635645 | FZ17: 10.928055 | GA17: 0.16842952 | GB17: 6.8984762 | GC17: 17.427489 | GD17: 0.25060807 | GE17: 0.62157302 | GF17: 7.1559749 | GG17: 0.32494811 | GH17: 0.7164994 | GI17: 7.9122688 | GJ17: 0 | GK17: 78.271077 | GL17: 1791.5603 | GM17: 2.4755284 | GN17: 1.3507443 | GO17: 19.164219 | GP17: 4.1137464 | GQ17: 0 | GR17: 0 | GS17: 0 | GT17: 0 | GU17: 0 | GV17: 3.7031429 | GW17: 0.94130043 | GX17: 0 | GY17: 0.068640602 | GZ17: 0.15830667 | HA17: 34.618245 | HB17: 7.2155666 | HC17: 54.01572 | HD17: 9.5002123 | HE17: 0 | HF17: 0 | HG17: 166.10062 | HH17: 87.556855 | HI17: 9.5973755 | HJ17: 130.85043 | HK17: 96.023973 | HL17: 21.465454 | HM17: 0.33225954 | HN17: 1.2772951 | ID17: 3371.6411 | IE17: 0 | II17: 27877.715 | IJ17: 0 | IK17: 0 | IL17: 7764.4532 | IM17: 0 | IN17: 360.43 | IO17: 0 | IP17: 0 | IQ17: 0 | IR17: 0 | IS17: 0 | IT17: 0 | IU17: 0 | IV17: 0 | IW17: 0 | JE17: 1260.9443 | JG17: 126953.07
B18: گاو و گوسفند (گوشت قرمز) | C18: 12 | ED18: 0.072068886 | EE18: 10655.39 | EF18: 0.022045827 | EG18: 68.994831 | EH18: 0 | EI18: 0 | EJ18: 0 | EK18: 0 | EL18: 45990.608 | EM18: 0 | EN18: 0 | EO18: 0 | EP18: 0 | EQ18: 0 | ER18: 0 | ES18: 0 | ET18: 0 | EU18: 0 | EV18: 0 | EW18: 0 | EX18: 0 | EY18: 0 | EZ18: 0 | FA18: 0 | FB18: 0 | FC18: 0 | FD18: 0 | FE18: 0 | FF18: 0 | FG18: 0 | FH18: 0 | FI18: 0 | FJ18: 0 | FK18: 0 | FL18: 0 | FM18: 0 | FN18: 0 | FO18: 0 | FP18: 0 | FQ18: 0 | FR18: 0 | FS18: 0 | FT18: 0 | FU18: 0 | FV18: 0 | FW18: 0 | FX18: 0 | FY18: 0 | FZ18: 0 | GA18: 0 | GB18: 0 | GC18: 0 | GD18: 0 | GE18: 0 | GF18: 0 | GG18: 0 | GH18: 0 | GI18: 0 | GJ18: 0 | GK18: 0 | GL18: 0 | GM18: 0 | GN18: 0 | GO18: 0 | GP18: 0 | GQ18: 0 | GR18: 0 | GS18: 0 | GT18: 0 | GU18: 0 | GV18: 0 | GW18: 0 | GX18: 0 | GY18: 0 | GZ18: 0 | HA18: 0 | HB18: 0 | HC18: 0 | HD18: 0 | HE18: 0 | HF18: 0 | HG18: 0 | HH18: 0 | HI18: 0 | HJ18: 0 | HK18: 0 | HL18: 0 | HM18: 0 | HN18: 0 | ID18: 174243.19 | IE18: 0 | II18: 23099.082 | IJ18: 0 | IK18: 0 | IL18: 6433.5164 | IM18: 0 | IN18: 6775.7588 | IO18: 0 | IP18: 0 | IQ18: 0 | IR18: 0 | IS18: 0 | IT18: 0 | IU18: 0 | IV18: 0 | IW18: 0 | JE18: 7844.475 | JG18: 275111.11
B19: مرغ و ماکیان (گوشت سفید) و سایر حیوانات زنده | C19: 13 | ED19: 0.066043391 | EE19: 19477.258 | EF19: 0.020204944 | EG19: 11.514597 | EH19: 0 | EI19: 0 | EJ19: 0 | EK19: 0 | EL19: 17202.703 | EM19: 0 | EN19: 0 | EO19: 0 | EP19: 0 | EQ19: 0 | ER19: 0 | ES19: 0 | ET19: 0 | EU19: 0 | EV19: 0 | EW19: 0 | EX19: 0 | EY19: 0 | EZ19: 0 | FA19: 0 | FB19: 0 | FC19: 0 | FD19: 0 | FE19: 0 | FF19: 0 | FG19: 0 | FH19: 0 | FI19: 0 | FJ19: 0 | FK19: 0 | FL19: 0 | FM19: 0 | FN19: 0 | FO19: 0 | FP19: 0 | FQ19: 0 | FR19: 0 | FS19: 0 | FT19: 0 | FU19: 0 | FV19: 0 | FW19: 20.849709 | FX19: 33.803748 | FY19: 0 | FZ19: 0 | GA19: 0 | GB19: 0 | GC19: 0 | GD19: 0 | GE19: 0 | GF19: 0 | GG19: 0 | GH19: 0 | GI19: 0 | GJ19: 0 | GK19: 0 | GL19: 0 | GM19: 0 | GN19: 0 | GO19: 0 | GP19: 0 | GQ19: 0 | GR19: 0 | GS19: 0 | GT19: 0 | GU19: 0 | GV19: 0 | GW19: 0 | GX19: 0 | GY19: 0 | GZ19: 0 | HA19: 0 | HB19: 0 | HC19: 0 | HD19: 0 | HE19: 0 | HF19: 0 | HG19: 0 | HH19: 0 | HI19: 0 | HJ19: 0 | HK19: 0 | HL19: 0 | HM19: 0 | HN19: 0 | ID19: 95398.614 | IE19: 0 | II19: 31072.212 | IJ19: 0 | IK19: 0 | IL19: 8654.1789 | IM19: 0 | IN19: 391.82083 | IO19: 0 | IP19: 0 | IQ19: 0 | IR19: 0 | IS19: 0 | IT19: 0 | IU19: 0 | IV19: 0 | IW19: 2.4957171 | JE19: 348.8969 | JG19: 172614.43
... B95: ساختمان غیر مسکونی و سازه های عمرانی و خدمات ساختمانی | C95: 89 | ED95: 2267.904 | EE95: 1291.8422 | EF95: 1.5123523 | EG95: 113.5274 | EH95: 225.78471 | EI95: 2.325 | EJ95: 310.923 | EK95: 31.935 | EL95: 8.5010489 | EM95: 0.060190617 | EN95: 249.4646 | EO95: 63.340972 | EP95: 0.28802808 | EQ95: 0 | ER95: 7.8784625 | ES95: 1.197878 | ET95: 12.167229 | EU95: 0.1953665 | EV95: 0.41372215 | EW95: 2.9242908 | EX95: 5.7717109 | EY95: 9.6825176 | EZ95: 8.4043633 | FA95: 2.8127742 | FB95: 572.78683 | FC95: 4.8272171 | FD95: 5.3000158 | FE95: 0.40542384 | FF95: 18.061999 | FG95: 4.6015314 | FH95: 1.4769532 | FI95: 0.64898421 | FJ95: 6.4599027 | FK95: 3.1002087 | FL95: 2.9007386 | FM95: 62.503512 | FN95: 91.948452 | FO95: 27.559277 | FP95: 9.0614486 | FQ95: 14.281923 | FR95: 7.3429374 | FS95: 134.12801 | FT95: 11.366657 | FU95: 1017.8656 | FV95: 18.874062 | FW95: 9527.711 | FX95: 49557.531 | FY95: 76.649805 | FZ95: 2649.5466 | GA95: 3.0743853 | GB95: 4.1526004 | GC95: 19.952544 | GD95: 0.83023854 | GE95: 53.187115 | GF95: 68.069929 | GG95: 36.070241 | GH95: 34.619311 | GI95: 1862.4538 | GJ95: 225.41967 | GK95: 62.269156 | GL95: 373.25664 | GM95: 42.162696 | GN95: 234.94354 | GO95: 4980.5032 | GP95: 9.9107857 | GQ95: 177.98831 | GR95: 0 | GS95: 0 | GT95: 39418.262 | GU95: 108.41519 | GV95: 62.435844 | GW95: 92.279321 | GX95: 2.8321897 | GY95: 5.1869049 | GZ95: 32.079586 | HA95: 11338.849 | HB95: 70.695115 | HC95: 656.23668 | HD95: 595.98122 | HE95: 1093.8921 | HF95: 525.03154 | HG95: 219.34174 | HH95: 548.44476 | HI95: 24.52401 | HJ95: 1302.9105 | HK95: 99.656288 | HL95: 100.2411 | HM95: 29.79178 | HN95: 968.1385 | ID95: 0 | IE95: 0 | II95: 0 | IJ95: 0 | IK95: 0 | IL95: 0 | IM95: 0 | IN95: 46768.109 | IO95: 16927.516 | IP95: 200.40546 | IQ95: 6458.2079 | IR95: 58115.85 | IS95: 0 | IT95: 129416.05 | IU95: 539.54726 | IV95: 0 | IW95: 630674.94 | JE95: 0 | JG95: 1023030.5
B96: خدمات عمده فروشي و خرده فروشی و حق العمل‌کاري | C96: 90 | D96: 14553.69 | E96: 56295.714 | F96: 5895.9849 | G96: 62149.898 | H96: 101723.1 | I96: 5783.8239 | J96: 10674.098 | K96: 4620.8965 | L96: 12683.66 | M96: 2434.1597 | N96: 11011.702 | O96: 56784.715 | P96: 31167.59 | Q96: 19741.332 | R96: 12307.474 | S96: 4991.9528 | T96: 506.75209 | U96: 826.77219 | V96: 8320.2415 | W96: 409.45155 | X96: 0 | Y96: 0 | Z96: 20435.818 | AA96: 3989.8632 | AB96: 1091.1632 | AC96: 11701.983 | AD96: 11943.28 | AE96: 0 | AF96: 0 | AG96: 0 | AH96: 46240.731 | AI96: 8975.5909 | AJ96: 26290.468 | AK96: 24994.326 | AL96: 57276.914 | AM96: 7278.8719 | AN96: 716.37703 | AO96: 8617.7018 | AP96: 51212.745 | AQ96: 15097.108 | AR96: 6287.3877 | AS96: 3020.6033 | AT96: 9923.0899 | AU96: 14661.582 | AV96: 14908.697 | AW96: 9399.84 | AX96: 16191.628 | AY96: 13823.355 | AZ96: 9347.5932 | BA96: 73711.949 | BB96: 4777.3457 | BC96: 22862.107 | BD96: 17040.052 | BE96: 30980.984 | BF96: 63456.34 | BG96: 3052.1312 | BH96: 24717.023 | BI96: 14277.129 | BJ96: 73504.54 | BK96: 23722.207 | BL96: 92892.318 | BM96: 113029.37 | BN96: 43785.968 | BO96: 10938.298 | BP96: 8525.5193 | BQ96: 16407.541 | BR96: 18723.042 | BS96: 19524.934 | BT96: 20051.864 | BU96: 20968.689 | BV96: 120736.35 | BW96: 27410.258 | BX96: 24148.735 | BY96: 38584.82 | BZ96: 11986.917 | CA96: 14934.91 | CB96: 31362.489 | CC96: 9890.4497 | CD96: 8863.4885 | CE96: 21741.226 | CF96: 21116.769 | CG96: 9255.0343 | CH96: 14125.732 | CI96: 43350.57 | CJ96: 22805.362 | CK96: 3581.1599 | CL96: 1258.848 | CO96: -1958412.2 | ED96: 37.285879 | EE96: 3064.6673 | EF96: 0 | EG96: 553.52486 | EH96: 0 | EI96: 0 | EJ96: 0 | EK96: 0 | EL96: 71.373556 | EM96: 19.178037 | EN96: 342.12806 | EO96: 218.58902 | EP96: 23.332746 | EQ96: 0.003225201 | ER96: 26.497572 | ES96: 66.745493 | ET96: 32.86715 | EU96: 237.40252 | EV96: 94.164107 | EW96: 50.864692 | EX96: 248.38789 | EY96: 20.607438 | EZ96: 523.60479 | FA96: 77.953752 | FB96: 8634.1873 | FC96: 976.27624 | FD96: 269.63586 | FE96: 80.102205 | FF96: 329.70884 | FG96: 418.25562 | FH96: 73.454472 | FI96: 17.184164 | FJ96: 156.59887 | FK96: 22.187839 | FL96: 410.44802 | FM96: 232.73637 | FN96: 15049.133 | FO96: 110.33556 | FP96: 86.057729 | FQ96: 4.6510508 | FR96: 0 | FS96: 0 | FT96: 0 | FU96: 0 | FV96: 0 | FW96: 127.3521 | FX96: 48.65712 | FY96: 2391.2981 | FZ96: 42134.882 | GA96: 0 | GB96: 0 | GC96: 0 | GD96: 0 | GE96: 0 | GF96: 0 | GG96: 0 | GH96: 0 | GI96: 0 | GJ96: 1.5582048 | GK96: 34.111198 | GL96: 14.743563 | GM96: 0 | GN96: 0 | GO96: 0 | GP96: 0 | GQ96: 0 | GR96: 0 | GS96: 0 | GT96: 0 | GU96: 0 | GV96: 623.47243 | GW96: 0 | GX96: 0 | GY96: 0 | GZ96: 0 | HA96: 57.085095 | HB96: 1.5462223 | HC96: 1581.1223 | HD96: 0 | HE96: 0 | HF96: 0 | HG96: 0 | HH96: 0 | HI96: 0 | HJ96: 185.21699 | HK96: 0 | HL96: 2.7757737 | HM96: 0 | HN96: 0 | ID96: 0 | IE96: 0 | II96: 0 | IJ96: 0 | IK96: 0 | IL96: 0 | IM96: 0 | IN96: 0 | IO96: 0 | IP96: 0 | IQ96: 0 | IR96: 0 | IS96: 0 | IT96: 0 | IU96: 0 | IV96: 0 | IW96: 0 | JE96: 0 | JG96: 79783.953
B97: خدمات ارائه جا به مسافران (هتل ها و سایر اقامتگاهها) | C97: 91 | ED97: 8.3911251 | EE97: 128.60518 | EF97: 122.91329 | EG97: 18.868541 | EH97: 1851.7104 | EI97: 5.4404757 | EJ97: 231.63793 | EK97: 6.9945347 | EL97: 11.702987 | EM97: 26.790252 | EN97: 61.636681 | EO97: 17.032986 | EP97: 6.6740625 | EQ97: 0 | ER97: 2.5239634 | ES97: 1.1151533 | ET97: 0.21560989 | EU97: 0.33477808 | EV97: 0.087309775 | EW97: 1.670445 | EX97: 7.2318993 | EY97: 1.315907 | EZ97: 5.894733 | FA97: 0.29185774 | FB97: 586.04114 | FC97: 88.25796 | FD97: 75.452045 | FE97: 1.0827273 | FF97: 24.192869 | FG97: 87.636876 | FH97: 0.044704124 | FI97: 0.91975064 | FJ97: 25.505485 | FK97: 15.333301 | FL97: 129.47308 | FM97: 65.123643 | FN97: 61.130521 | FO97: 39.829508 | FP97: 2.0764685 | FQ97: 11.112444 | FR97: 10.621652 | FS97: 287.40352 | FT97: 138.70079 | FU97: 512.71368 | FV97: 0.19222554 | FW97: 1723.5213 | FX97: 1639.5682 | FY97: 66.86871 | FZ97: 253.57442 | GA97: 2.577866 | GB97: 44.419155 | GC97: 148.03596 | GD97: 6.9411791 | GE97: 111.96714 | GF97: 82.052794 | GG97: 223.94547 | GH97: 0.68065326 | GI97: 27.092957 | GJ97: 0.154147 | GK97: 5.8221352 | GL97: 14.469765 | GM97: 819.45167 | GN97: 17.724217 | GO97: 330.2663 | GP97: 129.24778 | GQ97: 73.002048 | GR97: 0 | GS97: 0 | GT97: 0 | GU97: 0 | GV97: 23.098261 | GW97: 861.75184 | GX97: 26.125676 | GY97: 0 | GZ97: 22438.39 | HA97: 4324.4485 | HB97: 0.40219734 | HC97: 0 | HD97: 173.06834 | HE97: 0 | HF97: 237.80319 | HG97: 1537.6529 | HH97: 378.50187 | HI97: 0 | HJ97: 828.11014 | HK97: 26.306472 | HL97: 182.14507 | HM97: 131.10462 | HN97: 747.73619 | ID97: 9893.3568 | IE97: 0 | II97: 0 | IJ97: 0 | IK97: 0 | IL97: 0 | IM97: 0 | IN97: 0 | IO97: 0 | IP97: 0 | IQ97: 0 | IR97: 0 | IS97: 0 | IT97: 0 | IU97: 0 | IV97: 0 | IW97: 0 | JE97: 16900.156 | JG97: 69113.466
B98: خدمات ارائه غذا و نوشیدنی (رستوران ها و محل های صرف غذا و نوشیدنی) | C98: 92 | ED98: 1785.7973 | EE98: 152.77316 | EF98: 58.368224 | EG98: 142.0744 | EH98: 6002.367 | EI98: 3.1311359 | EJ98: 139.85239 | EK98: 22.964822 | EL98: 30.235693 | EM98: 1.4183824 | EN98: 159.24377 | EO98: 44.006214 | EP98: 15.992867 | EQ98: 6.7874356 | ER98: 12.195169 | ES98: 7.8465353 | ET98: 0.38856363 | EU98: 1.0050044 | EV98: 0.26210411 | EW98: 3.490136 | EX98: 110.44052 | EY98: 3.0032244 | EZ98: 25.612305 | FA98: 1.7310131 | FB98: 215.34963 | FC98: 74.347746 | FD98: 72.659338 | FE98: 2.0402369 | FF98: 67.286398 | FG98: 66.306116 | FH98: 0.23173787 | FI98: 8.6026784 | FJ98: 158.9745 | FK98: 28.553846 | FL98: 50.562537 | FM98: 190.52453 | FN98: 427.52117 | FO98: 2.6274374 | FP98: 22.759736 | FQ98: 26.108193 | FR98: 24.9551 | FS98: 397.77832 | FT98: 537.11126 | FU98: 316.54763 | FV98: 44.577711 | FW98: 3020.9476 | FX98: 1927.7167 | FY98: 293.67434 | FZ98: 1487.6857 | GA98: 3.5800506 | GB98: 79.052519 | GC98: 284.19346 | GD98: 12.242868 | GE98: 295.2749 | GF98: 167.20692 | GG98: 3483.4659 | GH98: 8.6596894 | GI98: 357.98148 | GJ98: 1.7971026 | GK98: 71.898997 | GL98: 1191.9703 | GM98: 1510.3701 | GN98: 201.42653 | GO98: 307.67144 | GP98: 54.81981 | GQ98: 440.7086 | GR98: 0 | GS98: 0 | GT98: 0 | GU98: 0 | GV98: 278.8061 | GW98: 417.76894 | GX98: 13.556825 | GY98: 33.879503 | GZ98: 128.3318 | HA98: 12494.442 | HB98: 0 | HC98: 0 | HD98: 101.83618 | HE98: 121.86251 | HF98: 213.10612 | HG98: 751.64678 | HH98: 579.58583 | HI98: 25.232518 | HJ98: 5924.3727 | HK98: 311.82781 | HL98: 391.12866 | HM98: 615.35289 | HN98: 787.38654 | ID98: 191550.78 | IE98: 0 | II98: 0 | IJ98: 0 | IK98: 0 | IL98: 0 | IM98: 0 | IN98: 0 | IO98: 0 | IP98: 0 | IQ98: 0 | IR98: 0 | IS98: 0 | IT98: 0 | IU98: 0 | IV98: 0 | IW98: 0 | JE98: 53773.224 | JG98: 295182.88
B99: خدمات حمل و نقل جاده ای مسافر | C99: 93 | ED99: 2688.6562 | EE99: 359.19023 | EF99: 58.39503 | EG99: 412.94535 | EH99: 642.79075 | EI99: 1.2736802 | EJ99: 72.050672 | EK99: 2.4072526 | EL99: 53.476094 | EM99: 0.63666206 | EN99: 281.64511 | EO99: 77.831206 | EP99: 8.6874672 | EQ99: 0 | ER99: 17.14714 | ES99: 12.932145 | ET99: 11.503116 | EU99: 6.7792221 | EV99: 1.7680141 | EW99: 65.34915 | EX99: 81.365511 | EY99: 20.104412 | EZ99: 92.168728 | FA99: 5.2265275 | FB99: 85.966359 | FC99: 2.7030224 | FD99: 116.84216 | FE99: 30.404318 | FF99: 144.26296 | FG99: 51.55411 | FH99: 64.646822 | FI99: 5.7442351 | FJ99: 241.622 | FK99: 0.78791227 | FL99: 14.423891 | FM99: 12.465881 | FN99: 34.715672 | FO99: 0.74208866 | FP99: 25.867331 | FQ99: 0.2178172 | FR99: 0.2081971 | FS99: 19.848691 | FT99: 933.66109 | FU99: 168.06463 | FV99: 18.495052 | FW99: 2793.4497 | FX99: 4331.6875 | FY99: 849.49351 | FZ99: 21626.958 | GA99: 3.3867683 | GB99: 161.08965 | GC99: 2832.7781 | GD99: 72.492901 | GE99: 103.85772 | GF99: 107.42349 | GG99: 1078.3466 | GH99: 32.709152 | GI99: 1251.895 | GJ99: 1.1162088 | GK99: 0 | GL99: 0 | GM99: 1279.4686 | GN99: 934.38082 | GO99: 802.84157 | GP99: 146.98808 | GQ99: 192.0894 | GR99: 0 | GS99: 0 | GT99: 0 | GU99: 16.658774 | GV99: 302.15582 | GW99: 1287.806 | GX99: 11.904652 | GY99: 76.967056 | GZ99: 5164.7061 | HA99: 15584.288 | HB99: 147.22186 | HC99: 1032.5493 | HD99: 583.29844 | HE99: 110.97357 | HF99: 4732.9378 | HG99: 1312.6407 | HH99: 2603.4985 | HI99: 180.00791 | HJ99: 1326.0369 | HK99: 214.72382 | HL99: 1760.8024 | HM99: 139.43266 | HN99: 9068.23 | ID99: 189381.78 | IE99: 0 | II99: 0 | IJ99: 0 | IK99: 0 | IL99: 0 | IM99: 0 | IN99: 0 | IO99: 0 | IP99: 0 | IQ99: 0 | IR99: 0 | IS99: 0 | IT99: 0 | IU99: 0 | IV99: 0 | IW99: 0 | JE99: 1102.3618 | JG99: 281691.01
B100: خدمات حمل و نقل جاده ای بار | C100: 94 | D100: 3816.8412 | E100: 6816.08 | F100: 4543.7587 | G100: 37699.366 | H100: 18031.143 | I100: 1459.3873 | J100: 889.91751 | K100: 82.818928 | L100: 2296.2458 | M100: 385.75255 | N100: 4538.8514 | O100: 1412.2911 | P100: 1133.7631 | Q100: 1034.9819 | R100: 1120.3387 | S100: 1279.5114 | T100: 0.19228097 | U100: 7.1452559 | V100: 995.96221 | W100: 1042.9937 | X100: 0 | Y100: 0 | Z100: 14157.73 | AA100: 2015.6671 | AB100: 316.15903 | AC100: 19608.658 | AD100: 13720.396 | AE100: 0 | AF100: 0 | AG100: 0 | AH100: 1366.7382 | AI100: 338.29501 | AJ100: 4126.6118 | AK100: 12028.091 | AL100: 10611.901 | AM100: 2097.3433 | AN100: 380.28591 | AO100: 8628.1879 | AP100: 280.43409 | AQ100: 8634.0917 | AR100: 6243.6965 | AS100: 1254.2052 | AT100: 747.88498 | AU100: 8110.3201 | AV100: 10453.608 | AW100: 705.20076 | AX100: 8190.336 | AY100: 1384.9286 | AZ100: 2243.899 | BA100: 437.01522 | BB100: 397.80811 | BC100: 213.56012 | BD100: 14972.565 | BE100: 16996.691 | BF100: 1773.4284 | BG100: 380.97099 | BH100: 2582.4986 | BI100: 5223.6743 | BJ100: 784.08915 | BK100: 2916.5645 | BL100: 6583.0799 | BM100: 14872.307 | BN100: 23384.109 | BO100: 8713.7957 | BP100: 4422.7727 | BQ100: 20112.706 | BR100: 51255.374 | BS100: 12269.166 | BT100: 8461.5466 | BU100: 22569.992 | BV100: 106927.86 | BW100: 13960.597 | BX100: 17441.592 | BY100: 23221.876 | BZ100: 16069.07 | CA100: 3161.3048 | CB100: 15757.222 | CC100: 2022.9295 | CD100: 3971.1557 | CE100: 4070.0814 | CF100: 3085.966 | CG100: 3003.4731 | CH100: 3759.9977 | CI100: 34035.421 | CJ100: 25166.204 | CK100: 1690.7228 | CL100: 1679.9085 | CS100: -724581.11 | ED100: 17602.276 | EE100: 3696.3297 | EF100: 19.708335 | EG100: 222.18043 | EH100: 8661.4611 | EI100: 36.414 | EJ100: 4175.092 | EK100: 840.519 | EL100: 1297.8728 | EM100: 306.22126 | EN100: 1820.008 | EO100: 1404.3129 | EP100: 423.92001 | EQ100: 20.485104 | ER100: 157.19468 | ES100: 64.549146 | ET100: 285.90336 | EU100: 79.143161 | EV100: 49.788702 | EW100: 450.16747 | EX100: 341.98707 | EY100: 141.7275 | EZ100: 47.226213 | FA100: 109.05703 | FB100: 17192.811 | FC100: 186.86067 | FD100: 1439.1014 | FE100: 286.92662 | FF100: 3377.2154 | FG100: 4107.2603 | FH100: 1066.3118 | FI100: 127.99051 | FJ100: 1718.8376 | FK100: 87.99486 | FL100: 795.8547 | FM100: 763.27116 | FN100: 4847.1009 | FO100: 54.271178 | FP100: 419.84045 | FQ100: 83.069956 | FR100: 84.836007 | FS100: 0.63750031 | FT100: 1730.4662 | FU100: 86.971145 | FV100: 20.472606 | FW100: 6747.1541 | FX100: 5617.5184 | FY100: 99.564886 | FZ100: 15560.886 | GA100: 25.259945 | GB100: 157.04634 | GC100: 3.1026631 | GD100: 4143.0815 | GE100: 371 | GF100: 0.048100998 | GG100: 6.9503633 | GH100: 75.160941 | GI100: 362.10721 | GJ100: 100.50187 | GK100: 22.774676 | GL100: 871.32291 | GM100: 235.46253 | GN100: 21.084193 | GO100: 692.36218 | GP100: 14.105043 | GQ100: 13.847294 | GR100: 0 | GS100: 0 | GT100: 0 | GU100: 0.12803517 | GV100: 7.1900635 | GW100: 90.756511 | GX100: 0.27673668 | GY100: 3.7249879 | GZ100: 32.687063 | HA100: 812.37964 | HB100: 0 | HC100: 1565.9112 | HD100: 0.1138944 | HE100: 95.545311 | HF100: 112.75034 | HG100: 1.6111904 | HH100: 0 | HI100: 5.6045825 | HJ100: 120.38528 | HK100: 56.80436 | HL100: 36.510376 | HM100: 2.4668187 | HN100: 48.519026 | ID100: 2700.643 | IE100: 0 | II100: 0 | IJ100: 0 | IK100: 0 | IL100: 0 | IM100: 0 | IN100: 0 | IO100: 0 | IP100: 0 | IQ100: 0 | IR100: 0 | IS100: 0 | IT100: 0 | IU100: 0 | IV100: 0 | IW100: 0 | JE100: 75598.953 | JG100: 197164.95
B101: خدمات حمل و نقل ریلی مسافر | C101: 95 | ED101: 0 | EE101: 0 | EF101: 0 | EG101: 0 | EH101: 0 | EI101: 0 | EJ101: 0 | EK101: 0 | EL101: 3.0140194 | EM101: 5.936304e-05 | EN101: 15.87408 | EO101: 4.3867221 | EP101: 0 | EQ101: 0 | ER101: 1.5414038 | ES101: 0.19716562 | ET101: 0.0021128866 | EU101: 0.18427212 | EV101: 0.048057976 | EW101: 0.62197116 | EX101: 0 | EY101: 0.56615662 | EZ101: 0.96087593 | FA101: 0.047574517 | FB101: 2.9941912 | FC101: 0.011076109 | FD101: 2.5784343 | FE101: 0.0041594357 | FF101: 5.6929945 | FG101: 2.1540519 | FH101: 0 | FI101: 0.049163252 | FJ101: 10.675624 | FK101: 0 | FL101: 0.85550459 | FM101: 1.1860393 | FN101: 25.403017 | FO101: 0.31796254 | FP101: 8.1299242 | FQ101: 1.2004947 | FR101: 1.1474737 | FS101: 0.00013444529 | FT101: 0.002270175 | FU101: 0.017131156 | FV101: 0 | FW101: 0 | FX101: 31.554171 | FY101: 0 | FZ101: 0 | GA101: 1.4629506 | GB101: 25.208071 | GC101: 0.072839658 | GD101: 0.0007835778 | GE101: 0 | GF101: 0 | GG101: 0 | GH101: 0 | GI101: 0 | GJ101: 0 | GK101: 0 | GL101: 0 | GM101: 8.6356003 | GN101: 0 | GO101: 106.35409 | GP101: 9.4458311 | GQ101: 3.8476405 | GR101: 0 | GS101: 0 | GT101: 0 | GU101: 0 | GV101: 0.55969693 | GW101: 0 | GX101: 0 | GY101: 0 | GZ101: 613.7241 | HA101: 221.70645 | HB101: 0 | HC101: 0 | HD101: 0 | HE101: 0 | HF101: 0 | HG101: 0 | HH101: 29.054358 | HI101: 0 | HJ101: 4.8214713 | HK101: 0 | HL101: 43.679091 | HM101: 0 | HN101: 0 | ID101: 4847.1461 | IE101: 0 | II101: 0 | IJ101: 0 | IK101: 0 | IL101: 0 | IM101: 0 | IN101: 0 | IO101: 0 | IP101: 0 | IQ101: 0 | IR101: 0 | IS101: 0 | IT101: 0 | IU101: 0 | IV101: 0 | IW101: 0 | JE101: 768.18892 | JG101: 6805.3263
B102: خدمات حمل و نقل ریلی بار | C102: 96 | D102: 150.95604 | E102: 269.57591 | F102: 179.70562 | G102: 1491.0096 | H102: 713.13157 | I102: 57.718757 | J102: 35.196231 | K102: 3.275488 | L102: 90.816505 | M102: 15.25651 | N102: 179.51154 | O102: 55.856102 | P102: 44.840321 | Q102: 40.933527 | R102: 44.309388 | S102: 50.604667 | T102: 0.0076047108 | U102: 0.28259482 | V102: 39.390298 | W102: 41.250392 | X102: 0 | Y102: 0 | Z102: 559.93813 | AA102: 79.71962 | AB102: 12.504087 | AC102: 775.52228 | AD102: 542.64156 | AE102: 0 | AF102: 0 | AG102: 0 | AH102: 54.054486 | AI102: 13.379565 | AJ102: 163.20747 | AK102: 475.71093 | AL102: 419.70061 | AM102: 82.949912 | AN102: 15.040305 | AO102: 341.24476 | AP102: 11.091166 | AQ102: 341.47826 | AR102: 246.93815 | AS102: 49.603806 | AT102: 29.578845 | AU102: 320.7631 | AV102: 413.44011 | AW102: 27.890685 | AX102: 323.92773 | AY102: 54.773917 | AZ102: 88.746188 | BA102: 17.283949 | BB102: 15.733308 | BC102: 8.4463012 | BD102: 592.16483 | BE102: 672.21901 | BF102: 70.13908 | BG102: 15.0674 | BH102: 102.1378 | BI102: 206.59628 | BJ102: 31.01072 | BK102: 115.3501 | BL102: 260.36076 | BM102: 588.19961 | BN102: 924.84132 | BO102: 344.63055 | BP102: 174.92062 | BQ102: 795.45737 | BR102: 2027.1496 | BS102: 485.24544 | BT102: 334.6541 | BU102: 892.643 | BV102: 4228.9959 | BW102: 552.1415 | BX102: 689.81484 | BY102: 918.42501 | BZ102: 635.5316 | CA102: 125.02958 | CB102: 623.19802 | CC102: 80.006846 | CD102: 157.05918 | CE102: 160.97169 | CF102: 122.04993 | CG102: 118.78734 | CH102: 148.70788 | CI102: 1346.1007 | CJ102: 995.32317 | CK102: 66.868075 | CL102: 66.440367 | CU102: -28657.177 | ED102: 7.9254331 | EE102: 116.78824 | EF102: 0 | EG102: 2.4154506 | EH102: 0 | EI102: 0 | EJ102: 1116.77 | EK102: 3.334 | EL102: 29.822771 | EM102: 65.60853 | EN102: 41.812612 | EO102: 31.578903 | EP102: 2.6431789 | EQ102: 0 | ER102: 7.9242542 | ES102: 1.7094628 | ET102: 8.961911 | EU102: 1.7357157 | EV102: 1.0700777 | EW102: 2.1783313 | EX102: 5.0199468 | EY102: 0.81637064 | EZ102: 53.978934 | FA102: 7.2871631 | FB102: 2679.1008 | FC102: 25.362988 | FD102: 56.000502 | FE102: 0.8745065 | FF102: 142.1518 | FG102: 1.5337498 | FH102: 420.21828 | FI102: 1.953336 | FJ102: 356.95539 | FK102: 0.94738945 | FL102: 41.368678 | FM102: 8.4708392 | FN102: 155.4947 | FO102: 0.75346689 | FP102: 9.4810913 | FQ102: 3.1274018 | FR102: 3.2160188 | FS102: 6.8130768e-06 | FT102: 0 | FU102: 0.17499063 | FV102: 0.59618341 | FW102: 0 | FX102: 26.586814 | FY102: 22.082766 | FZ102: 2972.1278 | GA102: 141.22289 | GB102: 2374.3538 | GC102: 0 | GD102: 0 | GE102: 0 | GF102: 0 | GG102: 0 | GH102: 0 | GI102: 0 | GJ102: 7.6566094 | GK102: 0 | GL102: 0 | GM102: 259.8037 | GN102: 0 | GO102: 0 | GP102: 0 | GQ102: 0 | GR102: 0 | GS102: 0 | GT102: 0 | GU102: 0 | GV102: 0 | GW102: 0 | GX102: 0 | GY102: 0 | GZ102: 0 | HA102: 286.78719 | HB102: 72.307739 | HC102: 142.70756 | HD102: 0 | HE102: 0 | HF102: 0 | HG102: 0 | HH102: 25.581495 | HI102: 0 | HJ102: 0.31890526 | HK102: 0 | HL102: 0.49123965 | HM102: 0 | HN102: 0 | ID102: 55.730407 | IE102: 0 | II102: 0 | IJ102: 0 | IK102: 0 | IL102: 0 | IM102: 0 | IN102: 0 | IO102: 0 | IP102: 0 | IQ102: 0 | IR102: 0 | IS102: 0 | IT102: 0 | IU102: 0 | IV102: 0 | IW102: 0 | JE102: 1383.6226 | JG102: 13188.545
B103: خدمات انتقال از طریق خط لوله | C103: 97 | ED103: 0 | EE103: 0 | EF103: 0 | EG103: 0 | EH103: 0 | EI103: 0 | EJ103: 0 | EK103: 0 | EL103: 0 | EM103: 0 | EN103: 0 | EO103: 0 | EP103: 0 | EQ103: 0 | ER103: 0 | ES103: 0 | ET103: 0 | EU103: 0 | EV103: 0 | EW103: 0 | EX103: 0 | EY103: 0 | EZ103: 7517.16 | FA103: 0 | FB103: 36.342 | FC103: 0 | FD103: 0 | FE103: 0 | FF103: 0 | FG103: 0 | FH103: 0 | FI103: 0 | FJ103: 0 | FK103: 0 | FL103: 0 | FM103: 0 | FN103: 0 | FO103: 0 | FP103: 0 | FQ103: 0 | FR103: 0 | FS103: 0 | FT103: 0 | FU103: 0 | FV103: 0 | FW103: 0 | FX103: 0 | FY103: 0 | FZ103: 5272.746 | GA103: 0 | GB103: 0 | GC103: 0 | GD103: 0 | GE103: 0 | GF103: 0 | GG103: 0 | GH103: 0 | GI103: 0 | GJ103: 0 | GK103: 0 | GL103: 0 | GM103: 0 | GN103: 0 | GO103: 0 | GP103: 0 | GQ103: 0 | GR103: 0 | GS103: 0 | GT103: 0 | GU103: 0 | GV103: 0 | GW103: 0 | GX103: 0 | GY103: 0 | GZ103: 0 | HA103: 0 | HB103: 0 | HC103: 0 | HD103: 0 | HE103: 0 | HF103: 0 | HG103: 0 | HH103: 0 | HI103: 0 | HJ103: 0 | HK103: 0 | HL103: 0 | HM103: 0 | HN103: 0 | ID103: 0 | IE103: 0 | II103: 0 | IJ103: 0 | IK103: 0 | IL103: 0 | IM103: 0 | IN103: 0 | IO103: 0 | IP103: 0 | IQ103: 0 | IR103: 0 | IS103: 0 | IT103: 0 | IU103: 0 | IV103: 0 | IW103: 0 | JE103: 1139.271 | JG103: 13965.519
B104: خدمات حمل و نقل دریایی | C104: 98 | D104: 88.678159 | E104: 158.36065 | F104: 105.56692 | G104: 875.88407 | H104: 418.92458 | I104: 33.906514 | J104: 20.6758 | K104: 1.9241644 | L104: 53.349575 | M104: 8.9623393 | N104: 105.4529 | O104: 32.81231 | P104: 26.34116 | Q104: 24.046139 | R104: 26.029267 | S104: 29.727388 | T104: 0.0044673387 | U104: 0.16600852 | V104: 23.139578 | W104: 24.232279 | X104: 0 | Y104: 0 | Z104: 328.93207 | AA104: 46.830781 | AB104: 7.3454461 | AC104: 455.5756 | AD104: 318.77131 | AE104: 0 | AF104: 0 | AG104: 0 | AH104: 31.753962 | AI104: 7.8597398 | AJ104: 95.875181 | AK104: 279.45334 | AL104: 246.55044 | AM104: 48.728395 | AN104: 8.8353308 | AO104: 200.46205 | AP104: 6.5154345 | AQ104: 200.59922 | AR104: 145.06224 | AS104: 29.139439 | AT104: 17.375903 | AU104: 188.43023 | AV104: 242.87275 | AW104: 16.384204 | AX104: 190.28927 | AY104: 32.176587 | AZ104: 52.13338 | BA104: 10.153345 | BB104: 9.2424309 | BC104: 4.9617256 | BD104: 347.86344 | BE104: 394.89076 | BF104: 41.202754 | BG104: 8.8512475 | BH104: 60.000196 | BI104: 121.36366 | BJ104: 18.217049 | BK104: 67.76168 | BL104: 152.94726 | BM104: 345.5341 | BN104: 543.29211 | BO104: 202.45101 | BP104: 102.756 | BQ104: 467.28634 | BR104: 1190.8361 | BS104: 285.05433 | BT104: 196.59041 | BU104: 524.37742 | BV104: 2484.2966 | BW104: 324.35199 | BX104: 405.22732 | BY104: 539.5229 | BZ104: 373.33897 | CA104: 73.447827 | CB104: 366.09369 | CC104: 46.99951 | CD104: 92.26341 | CE104: 94.561788 | CF104: 71.697451 | CG104: 69.780861 | CH104: 87.357492 | CI104: 790.75821 | CJ104: 584.69623 | CK104: 39.281223 | CL104: 39.029969 | CW104: -16834.475 | ED104: 0 | EE104: 0 | EF104: 0.049006351 | EG104: 20.327618 | EH104: 34532.439 | EI104: 0 | EJ104: 0 | EK104: 0 | EL104: 6.9785111 | EM104: 0.59969105 | EN104: 9.784127 | EO104: 7.3894449 | EP104: 0 | EQ104: 0 | ER104: 0 | ES104: 1.3767791 | ET104: 0.02049852 | EU104: 0.47887012 | EV104: 0.2952259 | EW104: 0.41804004 | EX104: 0.10031517 | EY104: 0.10367171 | EZ104: 0.0504329 | FA104: 0.006808448 | FB104: 78.561229 | FC104: 29.578195 | FD104: 4.7788753 | FE104: 0 | FF104: 5.0722543 | FG104: 0.039905897 | FH104: 0.0069931283 | FI104: 0.10478036 | FJ104: 2.9808383 | FK104: 0.16841629 | FL104: 13.855676 | FM104: 5.7904322 | FN104: 20.759758 | FO104: 0.0090744112 | FP104: 2.214254 | FQ104: 0.0022726279 | FR104: 0.0023370243 | FS104: 0 | FT104: 0 | FU104: 1.7427852 | FV104: 0.88156033 | FW104: 0 | FX104: 0 | FY104: 0 | FZ104: 0 | GA104: 0 | GB104: 0 | GC104: 0 | GD104: 0 | GE104: 0 | GF104: 2882.1867 | GG104: 15.993084 | GH104: 0 | GI104: 99.525428 | GJ104: 0 | GK104: 0 | GL104: 0 | GM104: 0.37982998 | GN104: 0 | GO104: 0 | GP104: 0 | GQ104: 0.18850406 | GR104: 0 | GS104: 0 | GT104: 0 | GU104: 0 | GV104: 0 | GW104: 0 | GX104: 0 | GY104: 0 | GZ104: 0 | HA104: 1084.2407 | HB104: 133.19547 | HC104: 0 | HD104: 0 | HE104: 0 | HF104: 0 | HG104: 0.070225071 | HH104: 10.475029 | HI104: 0 | HJ104: 0 | HK104: 0 | HL104: 3.5822279 | HM104: 0 | HN104: 0 | ID104: 35.535128 | IE104: 0 | II104: 0 | IJ104: 0 | IK104: 0 | IL104: 0 | IM104: 0 | IN104: 0 | IO104: 0 | IP104: 0 | IQ104: 0 | IR104: 0 | IS104: 0 | IT104: 0 | IU104: 0 | IV104: 0 | IW104: 0 | JE104: 51875.815 | JG104: 90888.155
B105: خدمات حمل و نقل هوایی و فضایی | C105: 99 | D105: 20.799545 | E105: 37.143638 | F105: 24.760819 | G105: 205.43943 | H105: 98.259152 | I105: 7.9528047 | J105: 4.8495284 | K105: 0.45131457 | L105: 12.513193 | M105: 2.1021251 | N105: 24.734077 | O105: 7.6961579 | P105: 6.1783437 | Q105: 5.6400444 | R105: 6.1051889 | S105: 6.9725867 | T105: 0.0010478185 | U105: 0.038937453 | V105: 5.4274098 | W105: 5.6837037 | X105: 0 | Y105: 0 | Z105: 77.151325 | AA105: 10.984203 | AB105: 1.7228813 | AC105: 106.85568 | AD105: 74.76811 | AE105: 0 | AF105: 0 | AG105: 0 | AH105: 7.4479215 | AI105: 1.8435093 | AJ105: 22.487614 | AK105: 65.546043 | AL105: 57.828636 | AM105: 11.429291 | AN105: 2.0723351 | AO105: 47.018562 | AP105: 1.5282013 | AQ105: 47.050734 | AR105: 34.024483 | AS105: 6.8346826 | AT105: 4.0755344 | AU105: 44.196487 | AV105: 56.966031 | AW105: 3.8429304 | AX105: 44.632527 | AY105: 7.5470487 | AZ105: 12.227933 | BA105: 2.3814766 | BB105: 2.1678208 | BC105: 1.1637774 | BD105: 81.591696 | BE105: 92.621997 | BF105: 9.6641445 | BG105: 2.0760684 | BH105: 14.073102 | BI105: 28.46596 | BJ105: 4.2728259 | BK105: 15.893565 | BL105: 35.873923 | BM105: 81.045347 | BN105: 127.42967 | BO105: 47.485075 | BP105: 24.101516 | BQ105: 109.60245 | BR105: 279.31172 | BS105: 66.85976 | BT105: 46.110465 | BU105: 122.99321 | BV105: 582.69409 | BW105: 76.077064 | BX105: 95.046447 | BY105: 126.5456 | BZ105: 87.567006 | CA105: 17.227257 | CB105: 85.867618 | CC105: 11.023779 | CD105: 21.640469 | CE105: 22.179556 | CF105: 16.816704 | CG105: 16.367166 | CH105: 20.489782 | CI105: 185.47308 | CJ105: 137.14105 | CK105: 9.2134476 | CL105: 9.1545157 | CX105: -3948.542 | ED105: 69.647529 | EE105: 0 | EF105: 0 | EG105: 9.2075119 | EH105: 1664.1799 | EI105: 0.025208252 | EJ105: 1.0770079 | EK105: 0.3601406 | EL105: 6.9774549 | EM105: 0 | EN105: 36.748496 | EO105: 10.155262 | EP105: 0.35662595 | EQ105: 0 | ER105: 5.6714542 | ES105: 0.092920924 | ET105: 0.12962649 | EU105: 0.30023824 | EV105: 0.07830182 | EW105: 0.60599953 | EX105: 2.4903599 | EY105: 0.029168395 | EZ105: 32.493518 | FA105: 1.6088065 | FB105: 5.2136999 | FC105: 0.20131781 | FD105: 14.614186 | FE105: 0.18309896 | FF105: 15.446035 | FG105: 4.8287591 | FH105: 0.0040303354 | FI105: 0.17247527 | FJ105: 14.654723 | FK105: 14.063542 | FL105: 12.780502 | FM105: 6.3017804 | FN105: 2.3389733 | FO105: 0.42946203 | FP105: 0.036710324 | FQ105: 0.25300849 | FR105: 0.24183413 | FS105: 20.601622 | FT105: 309.32076 | FU105: 0.56667065 | FV105: 0 | FW105: 159.60068 | FX105: 254.62067 | FY105: 0 | FZ105: 0 | GA105: 0 | GB105: 0 | GC105: 7.5357581 | GD105: 13.132253 | GE105: 17.868802 | GF105: 0.85943688 | GG105: 817.51921 | GH105: 0 | GI105: 0.54625867 | GJ105: 0 | GK105: 2.4489193 | GL105: 0 | GM105: 6.6618726 | GN105: 3.5043321 | GO105: 101.11007 | GP105: 20.107057 | GQ105: 18.252147 | GR105: 0 | GS105: 0 | GT105: 0 | GU105: 0 | GV105: 3.3665433 | GW105: 0 | GX105: 0 | GY105: 0 | GZ105: 13168.898 | HA105: 7980.2366 | HB105: 396.7181 | HC105: 47.430903 | HD105: 29.21843 | HE105: 228.72466 | HF105: 0 | HG105: 16.206889 | HH105: 72.959514 | HI105: 0 | HJ105: 53.05499 | HK105: 0 | HL105: 349.01962 | HM105: 0 | HN105: 0 | ID105: 65619.004 | IE105: 0 | II105: 0 | IJ105: 0 | IK105: 0 | IL105: 0 | IM105: 0 | IN105: 0 | IO105: 0 | IP105: 0 | IQ105: 0 | IR105: 0 | IS105: 0 | IT105: 0 | IU105: 0 | IV105: 0 | IW105: 0 | JE105: 46324.888 | JG105: 137977.98
B106: خدمات پشتيبانی حمل و نقل (جابجایی بار، انبارداری، پایانه، پارکینگ و یدک کش) | C106: 100 | D106: 795.39616 | E106: 1420.4112 | F106: 946.87938 | G106: 7856.2166 | H106: 3757.5318 | I106: 304.12349 | J106: 185.45099 | K106: 17.258737 | L106: 478.51745 | M106: 80.387441 | N106: 945.85674 | O106: 294.30905 | P106: 236.26626 | Q106: 215.68114 | R106: 233.46875 | S106: 266.63894 | T106: 0.040069664 | U106: 1.4890086 | V106: 207.54977 | W106: 217.35072 | X106: 0 | Y106: 0 | Z106: 2950.3466 | AA106: 420.04732 | AB106: 65.884765 | AC106: 4086.2721 | AD106: 2859.21 | AE106: 0 | AF106: 0 | AG106: 0 | AH106: 284.81623 | AI106: 70.497707 | AJ106: 859.94965 | AK106: 2506.5486 | AL106: 2211.427 | AM106: 437.06792 | AN106: 79.248242 | AO106: 1798.0385 | AP106: 58.44 | AQ106: 1799.2688 | AR106: 1301.1315 | AS106: 261.36535 | AT106: 155.85266 | AU106: 1690.1194 | AV106: 2178.44 | AW106: 146.95764 | AX106: 1706.7941 | AY106: 288.60696 | AZ106: 467.60884 | BA106: 91.070132 | BB106: 82.899715 | BC106: 44.504053 | BD106: 3120.151 | BE106: 3541.9612 | BF106: 369.5669 | BG106: 79.391006 | BH106: 538.17001 | BI106: 1088.5678 | BJ106: 163.39729 | BK106: 607.78641 | BL106: 1371.856 | BM106: 3099.258 | BN106: 4873.0428 | BO106: 1815.8785 | BP106: 921.66696 | BQ106: 4191.3112 | BR106: 10681.169 | BS106: 2556.7865 | BT106: 1763.312 | BU106: 4703.388 | BV106: 22282.826 | BW106: 2909.2657 | BX106: 3634.6746 | BY106: 4839.2349 | BZ106: 3348.653 | CA106: 658.78815 | CB106: 3283.6667 | CC106: 421.56073 | CD106: 827.55396 | CE106: 848.1692 | CF106: 643.0882 | CG106: 625.8974 | CH106: 783.55048 | CI106: 7092.6828 | CJ106: 5244.4158 | CK106: 352.33178 | CL106: 350.07817 | CY106: -150996.34 | ED106: 47.256252 | EE106: 1057.5708 | EF106: 0.60804063 | EG106: 93.961312 | EH106: 2.2102706 | EI106: 0 | EJ106: 0 | EK106: 0 | EL106: 55.579012 | EM106: 0 | EN106: 77.923802 | EO106: 58.851816 | EP106: 81.802498 | EQ106: 0 | ER106: 28.376217 | ES106: 5.1524911 | ET106: 33.857038 | EU106: 4.2539882 | EV106: 2.6226056 | EW106: 31.493354 | EX106: 12.57167 | EY106: 28.609664 | EZ106: 747.48059 | FA106: 2.6204275 | FB106: 156.74218 | FC106: 0.3234368 | FD106: 157.67587 | FE106: 21.343667 | FF106: 26.877545 | FG106: 1.4496693 | FH106: 0.1086821 | FI106: 30.82626 | FJ106: 15.649025 | FK106: 4.7091863 | FL106: 12.766826 | FM106: 14.079839 | FN106: 215.2191 | FO106: 0.36569877 | FP106: 21.347579 | FQ106: 1.7469173 | FR106: 1.7964174 | FS106: 140.93482 | FT106: 80.180305 | FU106: 70.860177 | FV106: 59.135522 | FW106: 5493.2458 | FX106: 867.59829 | FY106: 1300.8157 | FZ106: 23544.919 | GA106: 1136.1964 | GB106: 15637.975 | GC106: 932.28092 | GD106: 4902.5922 | GE106: 0.52189864 | GF106: 6971.3335 | GG106: 4530.7095 | GH106: 113.11464 | GI106: 11649.02 | GJ106: 219.5461 | GK106: 10.208065 | GL106: 877.18299 | GM106: 40.963013 | GN106: 550.16312 | GO106: 4.5496198 | GP106: 27.867735 | GQ106: 0.47752778 | GR106: 0 | GS106: 0 | GT106: 0 | GU106: 0.30696594 | GV106: 2.0182679 | GW106: 633.55287 | GX106: 2.1066715 | GY106: 207.73844 | GZ106: 3.9616576 | HA106: 3804.6973 | HB106: 286.6791 | HC106: 18.171732 | HD106: 0.017128346 | HE106: 61.393345 | HF106: 24.145649 | HG106: 1013.2183 | HH106: 161.84345 | HI106: 0 | HJ106: 246.07018 | HK106: 87.285017 | HL106: 50.901914 | HM106: 30.832242 | HN106: 2369.8755 | ID106: 800.59116 | IE106: 0 | II106: 0 | IJ106: 0 | IK106: 0 | IL106: 0 | IM106: 0 | IN106: 0 | IO106: 0 | IP106: 0 | IQ106: 0 | IR106: 0 | IS106: 0 | IT106: 0 | IU106: 0 | IV106: 0 | IW106: 0 | JE106: 17397.947 | JG106: 109421.57
B107: خدمات پست و پیک | C107: 101 | ED107: 198.49085 | EE107: 171.48041 | EF107: 3.9887025 | EG107: 3.5826909 | EH107: 161.48853 | EI107: 0.59399798 | EJ107: 277.221 | EK107: 9.9719783 | EL107: 5.6781909 | EM107: 1.1614482 | EN107: 9.9279863 | EO107: 10.02073 | EP107: 4.0242165 | EQ107: 11.150632 | ER107: 5.0668637 | ES107: 3.487743 | ET107: 11.25694 | EU107: 1.9854866 | EV107: 0.44018805 | EW107: 1.5860053 | EX107: 7.507763 | EY107: 9.0888059 | EZ107: 0.58584561 | FA107: 15.071593 | FB107: 404.5507 | FC107: 8.3776192 | FD107: 3.8777843 | FE107: 14.84785 | FF107: 22.453767 | FG107: 47.697617 | FH107: 9.0441089 | FI107: 3.0464736 | FJ107: 177.6739 | FK107: 66.617663 | FL107: 81.148555 | FM107: 157.42212 | FN107: 136.03096 | FO107: 27.001307 | FP107: 2.6642035 | FQ107: 1.4826955 | FR107: 1.2182953 | FS107: 19.097291 | FT107: 273.0293 | FU107: 12.910471 | FV107: 0.64459009 | FW107: 0.87496428 | FX107: 163.73102 | FY107: 88.031066 | FZ107: 1113.7967 | GA107: 0.039451349 | GB107: 0.41158908 | GC107: 23.800242 | GD107: 2.126181 | GE107: 1.9712269 | GF107: 3411.2179 | GG107: 2.1830272 | GH107: 0.25943803 | GI107: 195.37173 | GJ107: 1457.0565 | GK107: 2.3600679 | GL107: 11.072228 | GM107: 7.2194141 | GN107: 20.261203 | GO107: 161.79059 | GP107: 50.70286 | GQ107: 85.339816 | GR107: 0 | GS107: 0 | GT107: 0 | GU107: 6.6857205 | GV107: 8.4622174 | GW107: 192.31269 | GX107: 8.0273093 | GY107: 6.8093734 | GZ107: 31.8498 | HA107: 6874.852 | HB107: 57.216779 | HC107: 198.63285 | HD107: 205.11799 | HE107: 37.883895 | HF107: 171.10224 | HG107: 34.095264 | HH107: 46.793017 | HI107: 46.411483 | HJ107: 131.32801 | HK107: 112.11951 | HL107: 43.101473 | HM107: 64.095843 | HN107: 346.67774 | ID107: 1438.4854 | IE107: 0 | II107: 0 | IJ107: 0 | IK107: 0 | IL107: 0 | IM107: 0 | IN107: 0 | IO107: 0 | IP107: 0 | IQ107: 0 | IR107: 0 | IS107: 0 | IT107: 0 | IU107: 0 | IV107: 0 | IW107: 0 | JE107: 108.5868 | JG107: 19365.961
B108: خدمات مالی، بانکداری سرمایه گذاری و خدمات جانبی به غیر از بیمه و حقوق بازنشستگی | C108: 102 | ED108: 18352.986 | EE108: 10675.493 | EF108: 108.37238 | EG108: 1506.55 | EH108: 15915.819 | EI108: 76.58814 | EJ108: 1489.6108 | EK108: 406.00804 | EL108: 2238.989 | EM108: 2415.3878 | EN108: 3494.1009 | EO108: 3573.9935 | EP108: 541.04964 | EQ108: 81.861129 | ER108: 1008.5859 | ES108: 456.46117 | ET108: 278.07268 | EU108: 164.72931 | EV108: 151.72186 | EW108: 447.52639 | EX108: 992.90979 | EY108: 426.24185 | EZ108: 12119.693 | FA108: 1177.5661 | FB108: 14431.676 | FC108: 1725.6957 | FD108: 4189.7449 | FE108: 745.67847 | FF108: 4175.663 | FG108: 7398.0132 | FH108: 1655.8752 | FI108: 209.28507 | FJ108: 3265.7459 | FK108: 337.39144 | FL108: 2352.8185 | FM108: 2069.8183 | FN108: 9306.5768 | FO108: 790.27688 | FP108: 305.11277 | FQ108: 375.34661 | FR108: 284.29149 | FS108: 3858.6718 | FT108: 7178.0411 | FU108: 649.51747 | FV108: 131.97198 | FW108: 23318.643 | FX108: 18056.264 | FY108: 2069.6578 | FZ108: 41295.938 | GA108: 113.94779 | GB108: 853.85875 | GC108: 5670.1753 | GD108: 19179.24 | GE108: 334.21472 | GF108: 1434.5527 | GG108: 1558.2636 | GH108: 126.38635 | GI108: 3031.1947 | GJ108: 344.70919 | GK108: 613.82468 | GL108: 3893.0262 | GM108: 4778.0514 | GN108: 397.57148 | GO108: 107964.99 | GP108: 893.36904 | GQ108: 12168.22 | GR108: 21131.696 | GS108: 9272.9965 | GT108: 3509.3326 | GU108: 691.82532 | GV108: 1599.5634 | GW108: 2880.9216 | GX108: 87.699346 | GY108: 158.16535 | GZ108: 649.49485 | HA108: 14292.532 | HB108: 3143.0642 | HC108: 10343.546 | HD108: 2042.2228 | HE108: 3847.4074 | HF108: 990.47879 | HG108: 5069.8243 | HH108: 1358.6446 | HI108: 710.62731 | HJ108: 5013.6455 | HK108: 6462.7637 | HL108: 1410.8557 | HM108: 1545.4767 | HN108: 2348.703 | ID108: 35607.073 | IE108: 0 | II108: 0 | IJ108: 0 | IK108: 0 | IL108: 0 | IM108: 0 | IN108: 0 | IO108: 0 | IP108: 0 | IQ108: 0 | IR108: 0 | IS108: 0 | IT108: 0 | IU108: 0 | IV108: 0 | IW108: 0 | JE108: 4014.5517 | JG108: 529816.74
B109: خدمات بيمه و مستمری، بیمه اتکایی، خدمات جانبی بیمه و مقرری بازنشستگی به جز تامين اجتماعی اجباری | C109: 103 | ED109: 290.69411 | EE109: 100.82927 | EF109: 6.8121569 | EG109: 29.422079 | EH109: 2.8753559 | EI109: 7.4604873 | EJ109: 24.014659 | EK109: 28.949137 | EL109: 5.1691239 | EM109: 0.19938174 | EN109: 7.969066 | EO109: 8.3998263 | EP109: 0.82663869 | EQ109: 1.838972 | ER109: 5.683456 | ES109: 3.857512 | ET109: 5.8887824 | EU109: 0.77639396 | EV109: 0.71667134 | EW109: 4.5063602 | EX109: 2.7689029 | EY109: 1.9898398 | EZ109: 4.0887032 | FA109: 0.35944643 | FB109: 856.85222 | FC109: 1.7201908 | FD109: 7.1994506 | FE109: 1.1917314 | FF109: 23.689941 | FG109: 3.1539283 | FH109: 55.885896 | FI109: 1.749344 | FJ109: 11.857715 | FK109: 27.968898 | FL109: 5.7295911 | FM109: 31.228428 | FN109: 18.760695 | FO109: 1.2544927 | FP109: 4.2300013 | FQ109: 1.3818132 | FR109: 21.181017 | FS109: 27.126142 | FT109: 69.45282 | FU109: 4.6159384 | FV109: 2.9199565 | FW109: 1108.5006 | FX109: 3873.9016 | FY109: 17.843347 | FZ109: 564.63552 | GA109: 1.1044032 | GB109: 5.798117 | GC109: 255.9647 | GD109: 537.5821 | GE109: 8.9007324 | GF109: 103.80117 | GG109: 77.23897 | GH109: 1.3409926 | GI109: 32.183822 | GJ109: 2.8438227 | GK109: 8.7914799 | GL109: 6.8279078 | GM109: 12.82289 | GN109: 2.2799243 | GO109: 241.18003 | GP109: 23273.432 | GQ109: 9.705276 | GR109: 11.007136 | GS109: 3.44227 | GT109: 47.993976 | GU109: 5.5488481 | GV109: 6.4398934 | GW109: 5.0020233 | GX109: 0.2735566 | GY109: 0.2985121 | GZ109: 1.2354921 | HA109: 22.179799 | HB109: 0.044179129 | HC109: 0.54109389 | HD109: 6.989076 | HE109: 0 | HF109: 7.3973997 | HG109: 9.7740053 | HH109: 15.209003 | HI109: 4.3964986 | HJ109: 14.027865 | HK109: 28.047977 | HL109: 4.4088628 | HM109: 18.962211 | HN109: 5.4757809 | ID109: 14051.598 | IE109: 0 | II109: 0 | IJ109: 0 | IK109: 0 | IL109: 0 | IM109: 0 | IN109: 0 | IO109: 0 | IP109: 0 | IQ109: 0 | IR109: 0 | IS109: 0 | IT109: 0 | IU109: 0 | IV109: 0 | IW109: 0 | JE109: 2396.0217 | JG109: 48538.241
B110: خدمات اجاره واحدهاي مسكوني شخصي | C110: 104 | ED110: 0 | EE110: 0 | EF110: 0 | EG110: 0 | EH110: 0 | EI110: 0 | EJ110: 0 | EK110: 0 | EL110: 0 | EM110: 0 | EN110: 0 | EO110: 0 | EP110: 0 | EQ110: 0 | ER110: 0 | ES110: 0 | ET110: 0 | EU110: 0 | EV110: 0 | EW110: 0 | EX110: 0 | EY110: 0 | EZ110: 0 | FA110: 0 | FB110: 0 | FC110: 0 | FD110: 0 | FE110: 0 | FF110: 0 | FG110: 0 | FH110: 0 | FI110: 0 | FJ110: 0 | FK110: 0 | FL110: 0 | FM110: 0 | FN110: 0 | FO110: 0 | FP110: 0 | FQ110: 0 | FR110: 0 | FS110: 0 | FT110: 0 | FU110: 0 | FV110: 0 | FW110: 0 | FX110: 0 | FY110: 0 | FZ110: 0 | GA110: 0 | GB110: 0 | GC110: 0 | GD110: 0 | GE110: 0 | GF110: 0 | GG110: 0 | GH110: 0 | GI110: 0 | GJ110: 0 | GK110: 0 | GL110: 0 | GM110: 0 | GN110: 0 | GO110: 0 | GP110: 0 | GQ110: 0 | GR110: 0 | GS110: 0 | GT110: 0 | GU110: 0 | GV110: 0 | GW110: 0 | GX110: 0 | GY110: 0 | GZ110: 0 | HA110: 0 | HB110: 0 | HC110: 0 | HD110: 0 | HE110: 0 | HF110: 0 | HG110: 0 | HH110: 0 | HI110: 0 | HJ110: 0 | HK110: 0 | HL110: 0 | HM110: 0 | HN110: 0 | ID110: 1420643.1 | IE110: 0 | II110: 0 | IJ110: 0 | IK110: 0 | IL110: 0 | IM110: 0 | IN110: 0 | IO110: 0 | IP110: 0 | IQ110: 0 | IR110: 0 | IS110: 0 | IT110: 0 | IU110: 0 | IV110: 0 | IW110: 0 | JE110: 0 | JG110: 1420643.1
B111: خدمات واحدهاي مسكوني اجاري | C111: 105 | ED111: 0 | EE111: 0 | EF111: 0 | EG111: 0 | EH111: 0 | EI111: 0 | EJ111: 0 | EK111: 0 | EL111: 0 | EM111: 0 | EN111: 0 | EO111: 0 | EP111: 0 | EQ111: 0 | ER111: 0 | ES111: 0 | ET111: 0 | EU111: 0 | EV111: 0 | EW111: 0 | EX111: 0 | EY111: 0 | EZ111: 0 | FA111: 0 | FB111: 0 | FC111: 0 | FD111: 0 | FE111: 0 | FF111: 0 | FG111: 0 | FH111: 0 | FI111: 0 | FJ111: 0 | FK111: 0 | FL111: 0 | FM111: 0 | FN111: 0 | FO111: 0 | FP111: 0 | FQ111: 0 | FR111: 0 | FS111: 0 | FT111: 0 | FU111: 0 | FV111: 0 | FW111: 0 | FX111: 0 | FY111: 0 | FZ111: 0 | GA111: 0 | GB111: 0 | GC111: 0 | GD111: 0 | GE111: 0 | GF111: 0 | GG111: 0 | GH111: 0 | GI111: 0 | GJ111: 0 | GK111: 0 | GL111: 0 | GM111: 0 | GN111: 0 | GO111: 0 | GP111: 0 | GQ111: 0 | GR111: 0 | GS111: 0 | GT111: 0 | GU111: 0 | GV111: 0 | GW111: 0 | GX111: 0 | GY111: 0 | GZ111: 0 | HA111: 0 | HB111: 0 | HC111: 0 | HD111: 0 | HE111: 0 | HF111: 0 | HG111: 0 | HH111: 0 | HI111: 0 | HJ111: 0 | HK111: 0 | HL111: 0 | HM111: 0 | HN111: 0 | ID111: 473805.39 | IE111: 0 | II111: 0 | IJ111: 0 | IK111: 0 | IL111: 0 | IM111: 0 | IN111: 0 | IO111: 0 | IP111: 0 | IQ111: 0 | IR111: 0 | IS111: 0 | IT111: 0 | IU111: 0 | IV111: 0 | IW111: 0 | JE111: 0 | JG111: 473805.39
B112: خدمات واحدهاي غير مسكوني اجاري | C112: 106 | ED112: 5754.992 | EE112: 3309.1912 | EF112: 0.57749296 | EG112: 311.68161 | EH112: 752.17079 | EI112: 2.696 | EJ112: 249.193 | EK112: 25.931 | EL112: 313.77541 | EM112: 21.2091 | EN112: 355.12151 | EO112: 329.28302 | EP112: 159.77824 | EQ112: 16.144953 | ER112: 86.221511 | ES112: 44.275268 | ET112: 1150.991 | EU112: 13.903004 | EV112: 65.397526 | EW112: 137.21204 | EX112: 79.371764 | EY112: 196.96158 | EZ112: 11.185126 | FA112: 21.813523 | FB112: 2096.591 | FC112: 169.0765 | FD112: 355.85385 | FE112: 21.318982 | FF112: 402.92015 | FG112: 53.968085 | FH112: 106.33567 | FI112: 28.804368 | FJ112: 494.26951 | FK112: 54.666952 | FL112: 218.70363 | FM112: 221.29937 | FN112: 273.49053 | FO112: 93.837408 | FP112: 960.93745 | FQ112: 73.031247 | FR112: 87.597373 | FS112: 86.672266 | FT112: 1795.7034 | FU112: 36.633412 | FV112: 2.9976085 | FW112: 1734.5563 | FX112: 2112.9584 | FY112: 13382.24 | FZ112: 149887.57 | GA112: 114.21835 | GB112: 51.213484 | GC112: 22.480475 | GD112: 122.21486 | GE112: 34.743937 | GF112: 11.894356 | GG112: 29.142858 | GH112: 205.90947 | GI112: 1267.2981 | GJ112: 1213.4147 | GK112: 285.35301 | GL112: 9958.933 | GM112: 3763.7439 | GN112: 815.23549 | GO112: 7964.7726 | GP112: 397.47156 | GQ112: 1345.6456 | GR112: 0 | GS112: 0 | GT112: 0 | GU112: 4114.7737 | GV112: 98.690063 | GW112: 10269.886 | GX112: 146.6079 | GY112: 1526.9072 | GZ112: 3248.0597 | HA112: 2299.8535 | HB112: 231.80798 | HC112: 0 | HD112: 113.05971 | HE112: 1753.9077 | HF112: 1560.5098 | HG112: 703.74938 | HH112: 1617.2569 | HI112: 4253.9105 | HJ112: 60.638964 | HK112: 1373.1517 | HL112: 90.211239 | HM112: 4362.3943 | HN112: 11371.993 | ID112: 7583.7635 | IE112: 0 | II112: 0 | IJ112: 0 | IK112: 0 | IL112: 0 | IM112: 0 | IN112: 0 | IO112: 0 | IP112: 0 | IQ112: 0 | IR112: 0 | IS112: 0 | IT112: 0 | IU112: 0 | IV112: 0 | IW112: 0 | JE112: 0 | JG112: 272545.93
B113: خدمات معاملات ملکی (مستغلات) | C113: 107 | ED113: 0 | EE113: 0 | EF113: 0 | EG113: 0 | EH113: 0 | EI113: 0 | EJ113: 0 | EK113: 0 | EL113: 2.5311052 | EM113: 0 | EN113: 4.4254902 | EO113: 4.4668314 | EP113: 0 | EQ113: 0 | ER113: 0.47167646 | ES113: 0.39293596 | ET113: 41.815694 | EU113: 0 | EV113: 0 | EW113: 0.17240344 | EX113: 0 | EY113: 0 | EZ113: 2.1260884 | FA113: 4.970217 | FB113: 12.829239 | FC113: 0 | FD113: 0.040323113 | FE113: 0 | FF113: 0.2108165 | FG113: 0 | FH113: 0 | FI113: 0.062500787 | FJ113: 18.619154 | FK113: 1.6912381 | FL113: 0.54472965 | FM113: 4.5742717 | FN113: 16.644521 | FO113: 0 | FP113: 0.029669184 | FQ113: 0 | FR113: 0 | FS113: 0 | FT113: 0 | FU113: 0 | FV113: 0 | FW113: 48.049911 | FX113: 0 | FY113: 413.88372 | FZ113: 4635.6981 | GA113: 0 | GB113: 0 | GC113: 0 | GD113: 0 | GE113: 0 | GF113: 0 | GG113: 0 | GH113: 0 | GI113: 0 | GJ113: 0 | GK113: 0 | GL113: 308.00824 | GM113: 116.40445 | GN113: 0 | GO113: 34.52454 | GP113: 13.700609 | GQ113: 0 | GR113: 0 | GS113: 7057.9131 | GT113: 4824.2791 | GU113: 4739.9033 | GV113: 0 | GW113: 0 | GX113: 0 | GY113: 0 | GZ113: 0 | HA113: 0 | HB113: 274.98349 | HC113: 0 | HD113: 0 | HE113: 0 | HF113: 0 | HG113: 0 | HH113: 0 | HI113: 131.56424 | HJ113: 0 | HK113: 42.46861 | HL113: 0 | HM113: 0 | HN113: 0 | ID113: 7197.8759 | IE113: 0 | II113: 0 | IJ113: 0 | IK113: 0 | IL113: 0 | IM113: 0 | IN113: 0 | IO113: 0 | IP113: 0 | IQ113: 0 | IR113: 0 | IS113: 0 | IT113: 0 | IU113: 0 | IV113: 0 | IW113: 0 | JE113: 0 | JG113: 29955.876
B114: خدمات كرايه ماشين آلات و تجهيزات بدون متصدی و كالاهای شخصی و خانگي | C114: 108 | ED114: 5404.9229 | EE114: 108.20086 | EF114: 7.3728897 | EG114: 2.0727757 | EH114: 13.685382 | EI114: 39.228 | EJ114: 751.635 | EK114: 972.386 | EL114: 24.49489 | EM114: 8.0760037 | EN114: 82.124886 | EO114: 410.77014 | EP114: 7.500313 | EQ114: 0 | ER114: 11.524461 | ES114: 9.5063035 | ET114: 1.0284446 | EU114: 0.73678629 | EV114: 0.25825775 | EW114: 105.23628 | EX114: 49.547659 | EY114: 45.247705 | EZ114: 2.4659936 | FA114: 207.20028 | FB114: 655.3512 | FC114: 30.972471 | FD114: 121.75963 | FE114: 9.4354512 | FF114: 1396.5714 | FG114: 741.46306 | FH114: 803.97558 | FI114: 42.070831 | FJ114: 373.9265 | FK114: 2.0070635 | FL114: 43.910273 | FM114: 43.879695 | FN114: 161.55909 | FO114: 91.054911 | FP114: 1.6811181 | FQ114: 6.5831525 | FR114: 52.244774 | FS114: 1273.5121 | FT114: 0 | FU114: 64.752833 | FV114: 59.347276 | FW114: 1586.6103 | FX114: 963.6308 | FY114: 0 | FZ114: 0 | GA114: 775.219 | GB114: 934.00537 | GC114: 214.86654 | GD114: 0.06532795 | GE114: 1.3157294 | GF114: 599.08288 | GG114: 78.340686 | GH114: 27.73178 | GI114: 318.63944 | GJ114: 0 | GK114: 0 | GL114: 0 | GM114: 6767.826 | GN114: 36.954818 | GO114: 458.78685 | GP114: 12.066088 | GQ114: 0.081091263 | GR114: 0 | GS114: 0 | GT114: 0 | GU114: 0 | GV114: 1.8855965 | GW114: 0 | GX114: 0 | GY114: 0 | GZ114: 0 | HA114: 2522.925 | HB114: 1185.3356 | HC114: 31.882845 | HD114: 7.7298479 | HE114: 0 | HF114: 46.427584 | HG114: 320.27274 | HH114: 148.02109 | HI114: 0 | HJ114: 28.004635 | HK114: 5.1932531 | HL114: 6.4233416 | HM114: 0 | HN114: 0 | ID114: 1707.6947 | IE114: 0 | II114: 0 | IJ114: 0 | IK114: 0 | IL114: 0 | IM114: 0 | IN114: 0 | IO114: 0 | IP114: 0 | IQ114: 0 | IR114: 0 | IS114: 0 | IT114: 0 | IU114: 0 | IV114: 0 | IW114: 0 | JE114: 468.36437 | JG114: 33496.664
B115: خدمات تحقیق و توسعه | C115: 109 | ED115: 0 | EE115: 0 | EF115: 0 | EG115: 0 | EH115: 0 | EI115: 0 | EJ115: 0 | EK115: 0 | EL115: 0 | EM115: 0 | EN115: 0 | EO115: 0 | EP115: 0 | EQ115: 0 | ER115: 0 | ES115: 0 | ET115: 0 | EU115: 0 | EV115: 0 | EW115: 0 | EX115: 0 | EY115: 0 | EZ115: 0 | FA115: 0 | FB115: 0 | FC115: 0 | FD115: 0 | FE115: 0 | FF115: 0 | FG115: 0 | FH115: 0 | FI115: 0 | FJ115: 0 | FK115: 0 | FL115: 0 | FM115: 0 | FN115: 0 | FO115: 0 | FP115: 0 | FQ115: 0 | FR115: 0 | FS115: 0 | FT115: 0 | FU115: 0 | FV115: 0 | FW115: 0 | FX115: 0 | FY115: 0 | FZ115: 0 | GA115: 0 | GB115: 0 | GC115: 0 | GD115: 0 | GE115: 0 | GF115: 0 | GG115: 0 | GH115: 0 | GI115: 0 | GJ115: 0 | GK115: 0 | GL115: 0 | GM115: 0 | GN115: 0 | GO115: 0 | GP115: 0 | GQ115: 0 | GR115: 0 | GS115: 0 | GT115: 0 | GU115: 0 | GV115: 2770.3909 | GW115: 0 | GX115: 0 | GY115: 0 | GZ115: 0 | HA115: 4732.7442 | HB115: 0 | HC115: 1181.4176 | HD115: 0 | HE115: 0 | HF115: 0 | HG115: 5650.362 | HH115: 0 | HI115: 0 | HJ115: 2973.3811 | HK115: 0 | HL115: 0 | HM115: 0 | HN115: 0 | ID115: 0 | IE115: 0 | II115: 0 | IJ115: 0 | IK115: 0 | IL115: 0 | IM115: 0 | IN115: 0 | IO115: 0 | IP115: 0 | IQ115: 0 | IR115: 0 | IS115: 0 | IT115: 0 | IU115: 0 | IV115: 0 | IW115: 89851.528 | JE115: 0 | JG115: 107159.82
B116: خدمات مشاوره حقوقی و حسابداری، سایر خدمات تخصصی و فنی | C116: 110 | ED116: 798.34168 | EE116: 223.69126 | EF116: 3.3609221 | EG116: 42.125074 | EH116: 2814.1336 | EI116: 3.1399714 | EJ116: 339.3436 | EK116: 136.84511 | EL116: 239.12532 | EM116: 77.898517 | EN116: 299.82927 | EO116: 478.15317 | EP116: 156.13795 | EQ116: 9.2281064 | ER116: 102.9425 | ES116: 45.395677 | ET116: 104.86365 | EU116: 42.526384 | EV116: 17.231068 | EW116: 131.97365 | EX116: 89.712136 | EY116: 55.498707 | EZ116: 908.11875 | FA116: 566.02428 | FB116: 2377.8451 | FC116: 559.96568 | FD116: 485.18501 | FE116: 122.81085 | FF116: 705.20365 | FG116: 457.87766 | FH116: 136.20947 | FI116: 56.822576 | FJ116: 1153.1219 | FK116: 54.210335 | FL116: 392.63188 | FM116: 418.44885 | FN116: 1034.896 | FO116: 184.67425 | FP116: 113.21942 | FQ116: 69.754776 | FR116: 42.495795 | FS116: 4162.0489 | FT116: 180.60523 | FU116: 375.98016 | FV116: 4.1246921 | FW116: 37576.187 | FX116: 4289.3521 | FY116: 266.20282 | FZ116: 1422.5598 | GA116: 1120.9397 | GB116: 1401.416 | GC116: 1020.4378 | GD116: 225.84698 | GE116: 521.10758 | GF116: 381.46983 | GG116: 369.601 | GH116: 2.4998294 | GI116: 710.99509 | GJ116: 110.8313 | GK116: 57.384799 | GL116: 0 | GM116: 3414.3974 | GN116: 5510.9517 | GO116: 10338.769 | GP116: 728.4674 | GQ116: 504.90886 | GR116: 0 | GS116: 0 | GT116: 0 | GU116: 41.372302 | GV116: 999.77275 | GW116: 1015.4796 | GX116: 13.337889 | GY116: 2.505383 | GZ116: 184.42569 | HA116: 7267.923 | HB116: 1397.6906 | HC116: 1.4615264 | HD116: 1310.879 | HE116: 3344.2186 | HF116: 328.83286 | HG116: 3737.264 | HH116: 426.88331 | HI116: 108.94523 | HJ116: 106.73313 | HK116: 459.99967 | HL116: 781.85612 | HM116: 105.13269 | HN116: 625.71353 | ID116: 26202.592 | IE116: 1928.7718 | II116: 0 | IJ116: 0 | IK116: 0 | IL116: 0 | IM116: 0 | IN116: 0 | IO116: 0 | IP116: 0 | IQ116: 0 | IR116: 0 | IS116: 0 | IT116: 0 | IU116: 0 | IV116: 0 | IW116: 3326.0047 | JE116: 21672.149 | JG116: 166138.04
B117: خدمات دامپزشکی | C117: 111 | ED117: 0 | EE117: 2217.6853 | EF117: 0 | EG117: 76.764859 | EH117: 0 | EI117: 0 | EJ117: 0 | EK117: 0 | EL117: 0 | EM117: 0 | EN117: 0 | EO117: 0 | EP117: 0 | EQ117: 0 | ER117: 0 | ES117: 0 | ET117: 0 | EU117: 0 | EV117: 0 | EW117: 0 | EX117: 0 | EY117: 0 | EZ117: 0 | FA117: 0 | FB117: 0 | FC117: 0 | FD117: 0 | FE117: 0 | FF117: 0 | FG117: 0 | FH117: 0 | FI117: 0 | FJ117: 0 | FK117: 0 | FL117: 0 | FM117: 0 | FN117: 0 | FO117: 0 | FP117: 0 | FQ117: 0 | FR117: 0 | FS117: 0 | FT117: 0 | FU117: 0 | FV117: 0 | FW117: 0 | FX117: 0 | FY117: 0 | FZ117: 0 | GA117: 0 | GB117: 0 | GC117: 0 | GD117: 0 | GE117: 0 | GF117: 0 | GG117: 0 | GH117: 0 | GI117: 0 | GJ117: 0 | GK117: 0 | GL117: 0 | GM117: 0 | GN117: 0 | GO117: 0 | GP117: 0 | GQ117: 0 | GR117: 0 | GS117: 0 | GT117: 0 | GU117: 0 | GV117: 0 | GW117: 0 | GX117: 0 | GY117: 0 | GZ117: 0 | HA117: 0 | HB117: 0.52298903 | HC117: 0 | HD117: 0 | HE117: 0 | HF117: 0 | HG117: 0 | HH117: 0 | HI117: 0 | HJ117: 0 | HK117: 0 | HL117: 0 | HM117: 0 | HN117: 0 | ID117: 312.99113 | IE117: 1036.7106 | II117: 0 | IJ117: 0 | IK117: 0 | IL117: 0 | IM117: 0 | IN117: 0 | IO117: 0 | IP117: 0 | IQ117: 0 | IR117: 0 | IS117: 0 | IT117: 0 | IU117: 0 | IV117: 0 | IW117: 0 | JE117: 0 | JG117: 3644.6748
B118: خدمات تبلیغات و بازاریابی | C118: 112 | ED118: 38.714856 | EE118: 64.061754 | EF118: 104.77044 | EG118: 7.0135437 | EH118: 431.46315 | EI118: 1.0224 | EJ118: 88.9731 | EK118: 18.0018 | EL118: 1371.6435 | EM118: 234.55211 | EN118: 723.68505 | EO118: 1198.2312 | EP118: 517.46541 | EQ118: 1.2691166 | ER118: 54.480315 | ES118: 304.72852 | ET118: 661.2037 | EU118: 61.671315 | EV118: 63.411996 | EW118: 164.62662 | EX118: 463.85279 | EY118: 76.769897 | EZ118: 35.833357 | FA118: 25.308196 | FB118: 5408.5041 | FC118: 1589.1634 | FD118: 1076.9983 | FE118: 77.754117 | FF118: 792.48086 | FG118: 544.38186 | FH118: 104.61515 | FI118: 30.407575 | FJ118: 1043.9777 | FK118: 176.57031 | FL118: 902.03256 | FM118: 417.48163 | FN118: 2905.4779 | FO118: 315.02963 | FP118: 386.32094 | FQ118: 181.60383 | FR118: 39.234979 | FS118: 1119.4661 | FT118: 126.98367 | FU118: 563.38868 | FV118: 102.57213 | FW118: 0 | FX118: 0 | FY118: 357.36369 | FZ118: 2019.9938 | GA118: 3.61421 | GB118: 4.5640002 | GC118: 11.502772 | GD118: 19.629921 | GE118: 7.5353734 | GF118: 48.309633 | GG118: 170.72023 | GH118: 3.6121278 | GI118: 201.08688 | GJ118: 0.372165 | GK118: 99.439824 | GL118: 404.80035 | GM118: 3846.89 | GN118: 74.967067 | GO118: 9177.1594 | GP118: 827.29946 | GQ118: 214.18451 | GR118: 0 | GS118: 0 | GT118: 0 | GU118: 21.236678 | GV118: 8.95431 | GW118: 1605.3633 | GX118: 31.013666 | GY118: 117.60967 | GZ118: 707.98851 | HA118: 7180.5542 | HB118: 847.63375 | HC118: 26.527731 | HD118: 1.5469055 | HE118: 5.966427 | HF118: 557.32469 | HG118: 285.82504 | HH118: 763.94148 | HI118: 526.20002 | HJ118: 58.920334 | HK118: 85.724343 | HL118: 271.16959 | HM118: 556.00847 | HN118: 365.79056 | ID118: 74.001218 | IE118: 0 | II118: 0 | IJ118: 0 | IK118: 0 | IL118: 0 | IM118: 0 | IN118: 0 | IO118: 0 | IP118: 0 | IQ118: 0 | IR118: 0 | IS118: 0 | IT118: 0 | IU118: 0 | IV118: 0 | IW118: 0 | JE118: 3064.4411 | JG118: 59273.987
... B136: سایر خدمات شخصی خانگی و نهادهای برون مرزی | C136: 130 | ED136: 0 | EE136: 0 | EF136: 0 | EG136: 0 | EH136: 0 | EI136: 0 | EJ136: 0 | EK136: 0 | EL136: 0 | EM136: 0 | EN136: 0 | EO136: 0 | EP136: 0 | EQ136: 0 | ER136: 1.4845654 | ES136: 10.42494 | ET136: 0 | EU136: 0.25538444 | EV136: 0.05661946 | EW136: 0 | EX136: 0.23641627 | EY136: 0.019392601 | EZ136: 0 | FA136: 0.22915857 | FB136: 5.5316594 | FC136: 143.27533 | FD136: 1.2697228 | FE136: 1.1625292 | FF136: 5.8216015 | FG136: 7.8228926 | FH136: 93.322421 | FI136: 0.23504522 | FJ136: 5.6906279 | FK136: 0 | FL136: 47.062817 | FM136: 2.2410746 | FN136: 17.604648 | FO136: 0 | FP136: 57.4968 | FQ136: 0.075104745 | FR136: 0.061711765 | FS136: 0.23743605 | FT136: 0 | FU136: 0 | FV136: 0 | FW136: 0.022300997 | FX136: 0.051187879 | FY136: 0 | FZ136: 109.69924 | GA136: 0 | GB136: 0 | GC136: 0 | GD136: 0 | GE136: 0 | GF136: 0 | GG136: 0 | GH136: 0 | GI136: 0 | GJ136: 0 | GK136: 0 | GL136: 0 | GM136: 0 | GN136: 0 | GO136: 0 | GP136: 0 | GQ136: 0 | GR136: 0 | GS136: 0 | GT136: 0 | GU136: 0 | GV136: 0 | GW136: 0 | GX136: 0 | GY136: 0 | GZ136: 0 | HA136: 849.52825 | HB136: 0 | HC136: 67.682296 | HD136: 0 | HE136: 0 | HF136: 91.992223 | HG136: 0 | HH136: 0 | HI136: 0 | HJ136: 70.188717 | HK136: 4.8295807 | HL136: 0 | HM136: 0 | HN136: 245.33118 | ID136: 68557.56 | IE136: 0 | II136: 0 | IJ136: 0 | IK136: 0 | IL136: 0 | IM136: 0 | IN136: 0 | IO136: 0 | IP136: 0 | IQ136: 0 | IR136: 0 | IS136: 0 | IT136: 0 | IU136: 0 | IV136: 0 | IW136: 0 | JE136: 1472.0023 | JG136: 71870.505
A137: توليد | B137: کاشت محصولات (زراعت و باغداري) | C137: 1 | D137: 181376.34 | E137: 105135.62 | F137: 45497.165 | G137: 228953.49 | H137: 504794.92 | I137: 18494.021 | J137: 33536.785 | K137: 27538.801 | L137: 30992.924 | M137: 31957.774 | N137: 94669.592 | O137: 0 | P137: 0 | Q137: 0 | R137: 0 | S137: 0 | T137: 0 | U137: 0 | V137: 0 | W137: 0 | X137: 0 | Y137: 0 | Z137: 0 | AA137: 0 | AB137: 0 | AC137: 0 | AD137: 0 | AE137: 0 | AF137: 0 | AG137: 0 | AH137: 0 | AI137: 0 | AJ137: 0 | AK137: 0 | AL137: 0 | AM137: 0 | AN137: 0 | AO137: 0 | AP137: 0 | AQ137: 0 | AR137: 0 | AS137: 0 | AT137: 0 | AU137: 0 | AV137: 0 | AW137: 0 | AX137: 0 | AY137: 0 | AZ137: 0 | BA137: 0 | BB137: 0 | BC137: 0 | BD137: 0 | BE137: 0 | BF137: 0 | BG137: 0 | BH137: 0 | BI137: 0 | BJ137: 0 | BK137: 0 | BL137: 28.026979 | BM137: 0 | BN137: 0 | BO137: 0 | BP137: 0 | BQ137: 0 | BR137: 0 | BS137: 0 | BT137: 0 | BU137: 0 | BV137: 0 | BW137: 0 | BX137: 0 | BY137: 0 | BZ137: 0 | CA137: 0 | CB137: 0 | CC137: 0 | CD137: 0 | CE137: 0 | CF137: 0 | CG137: 0 | CH137: 0 | CI137: 0 | CJ137: 0 | CK137: 0 | CL137: 0 | CM137: 0 | CN137: 339.72553 | CO137: 763.99831 | CP137: 0 | CQ137: 0 | CR137: 0 | CS137: 0 | CT137: 0 | CU137: 0 | CV137: 0 | CW137: 0 | CX137: 0 | CY137: 0 | CZ137: 0 | DA137: 0 | DB137: 0 | DC137: 0 | DD137: 0 | DE137: 0 | DF137: 0 | DG137: 1807.4909 | DH137: 0 | DI137: 0 | DJ137: 0 | DK137: 0 | DL137: 0 | DM137: 0 | DN137: 17969.777 | DO137: 0 | DP137: 0 | DQ137: 0 | DR137: 0 | DS137: 0 | DT137: 0 | DU137: 0 | DV137: 0 | DW137: 0 | DX137: 0 | DY137: 0 | DZ137: 0 | EA137: 0 | EB137: 0 | EC137: 0 | JG137: 1323856.4
B138: پرورش حيوانات | C138: 2 | D138: 0 | E138: 0 | F138: 0 | G138: 0 | H138: 0 | I138: 0 | J138: 0 | K138: 0 | L138: 0 | M138: 0 | N138: 0 | O138: 213473.95 | P138: 139138.54 | Q138: 210085.79 | R138: 34207.942 | S138: 22473.893 | T138: 0 | U138: 0 | V138: 0 | W138: 0 | X138: 0 | Y138: 0 | Z138: 0 | AA138: 0 | AB138: 0 | AC138: 0 | AD138: 0 | AE138: 0 | AF138: 0 | AG138: 0 | AH138: 19773.856 | AI138: 0 | AJ138: 0 | AK138: 0 | AL138: 52521.446 | AM138: 0 | AN138: 0 | AO138: 0 | AP138: 0 | AQ138: 0 | AR138: 0 | AS138: 0 | AT138: 0 | AU138: 0 | AV138: 0 | AW138: 0 | AX138: 0 | AY138: 0 | AZ138: 0 | BA138: 0 | BB138: 0 | BC138: 0 | BD138: 0 | BE138: 0 | BF138: 0 | BG138: 0 | BH138: 0 | BI138: 0 | BJ138: 0 | BK138: 0 | BL138: 12722.039 | BM138: 0 | BN138: 0 | BO138: 0 | BP138: 0 | BQ138: 0 | BR138: 0 | BS138: 0 | BT138: 0 | BU138: 0 | BV138: 0 | BW138: 0 | BX138: 0 | BY138: 0 | BZ138: 0 | CA138: 0 | CB138: 0 | CC138: 0 | CD138: 0 | CE138: 0 | CF138: 0 | CG138: 0 | CH138: 0 | CI138: 0 | CJ138: 0 | CK138: 0 | CL138: 0 | CM138: 0 | CN138: 549.61845 | CO138: 292.10476 | CP138: 0 | CQ138: 0 | CR138: 0 | CS138: 0 | CT138: 0 | CU138: 0 | CV138: 0 | CW138: 0 | CX138: 0 | CY138: 0 | CZ138: 0 | DA138: 0 | DB138: 0 | DC138: 0 | DD138: 0 | DE138: 0 | DF138: 0 | DG138: 16.511323 | DH138: 0 | DI138: 0 | DJ138: 0 | DK138: 0 | DL138: 0 | DM138: 0 | DN138: 14859.271 | DO138: 0 | DP138: 0 | DQ138: 0 | DR138: 0 | DS138: 0 | DT138: 0 | DU138: 0 | DV138: 0 | DW138: 0 | DX138: 0 | DY138: 0 | DZ138: 0 | EA138: 0 | EB138: 0 | EC138: 0 | JG138: 720114.96
B139: جنگلداری و بریدن درختان | C139: 3 | D139: 0 | E139: 0 | F139: 0 | G139: 0 | H139: 0 | I139: 0 | J139: 0 | K139: 0 | L139: 0 | M139: 0 | N139: 0 | O139: 0 | P139: 0 | Q139: 0 | R139: 0 | S139: 0 | T139: 3565.6327 | U139: 1339.4624 | V139: 0 | W139: 0 | X139: 0 | Y139: 0 | Z139: 0 | AA139: 0 | AB139: 0 | AC139: 0 | AD139: 0 | AE139: 0 | AF139: 0 | AG139: 0 | AH139: 0 | AI139: 0 | AJ139: 0 | AK139: 0 | AL139: 0 | AM139: 0 | AN139: 0 | AO139: 0 | AP139: 0 | AQ139: 0 | AR139: 0 | AS139: 0 | AT139: 0 | AU139: 0 | AV139: 0 | AW139: 0 | AX139: 0 | AY139: 0 | AZ139: 0 | BA139: 0 | BB139: 0 | BC139: 0 | BD139: 0 | BE139: 0 | BF139: 0 | BG139: 0 | BH139: 0 | BI139: 0 | BJ139: 0 | BK139: 0 | BL139: 0 | BM139: 0 | BN139: 0 | BO139: 0 | BP139: 0 | BQ139: 0 | BR139: 0 | BS139: 0 | BT139: 0 | BU139: 0 | BV139: 0 | BW139: 0 | BX139: 0 | BY139: 0 | BZ139: 0 | CA139: 0 | CB139: 0 | CC139: 0 | CD139: 0 | CE139: 0 | CF139: 0 | CG139: 0 | CH139: 0 | CI139: 0 | CJ139: 0 | CK139: 0 | CL139: 0 | CM139: 0 | CN139: 5.545863 | CO139: 0 | CP139: 0 | CQ139: 0 | CR139: 0 | CS139: 0 | CT139: 0 | CU139: 0 | CV139: 0 | CW139: 0 | CX139: 0 | CY139: 0 | CZ139: 0 | DA139: 0 | DB139: 0 | DC139: 0 | DD139: 0 | DE139: 0 | DF139: 0 | DG139: 11.244428 | DH139: 0 | DI139: 0 | DJ139: 0 | DK139: 0 | DL139: 0 | DM139: 0 | DN139: 856.20688 | DO139: 692.73694 | DP139: 0 | DQ139: 0 | DR139: 0 | DS139: 0 | DT139: 0 | DU139: 0 | DV139: 0 | DW139: 0 | DX139: 0 | DY139: 0 | DZ139: 0 | EA139: 0 | EB139: 0 | EC139: 0 | JG139: 6470.8292
B140: ماهيگيری و آبزی پروری | C140: 4 | D140: 0 | E140: 0 | F140: 0 | G140: 0 | H140: 0 | I140: 0 | J140: 0 | K140: 0 | L140: 0 | M140: 0 | N140: 0 | O140: 0 | P140: 0 | Q140: 0 | R140: 0 | S140: 0 | T140: 0 | U140: 0 | V140: 86879.08 | W140: 0 | X140: 0 | Y140: 0 | Z140: 0 | AA140: 0 | AB140: 0 | AC140: 0 | AD140: 0 | AE140: 0 | AF140: 0 | AG140: 0 | AH140: 0 | AI140: 21719.77 | AJ140: 0 | AK140: 0 | AL140: 0 | AM140: 0 | AN140: 0 | AO140: 0 | AP140: 0 | AQ140: 0 | AR140: 0 | AS140: 0 | AT140: 0 | AU140: 0 | AV140: 0 | AW140: 0 | AX140: 0 | AY140: 0 | AZ140: 0 | BA140: 0 | BB140: 0 | BC140: 0 | BD140: 0 | BE140: 0 | BF140: 0 | BG140: 0 | BH140: 0 | BI140: 0 | BJ140: 0 | BK140: 0 | BL140: 0 | BM140: 0 | BN140: 0 | BO140: 0 | BP140: 0 | BQ140: 0 | BR140: 0 | BS140: 0 | BT140: 0 | BU140: 1093.3447 | BV140: 0 | BW140: 0 | BX140: 0 | BY140: 0 | BZ140: 0 | CA140: 0 | CB140: 0 | CC140: 0 | CD140: 0 | CE140: 0 | CF140: 0 | CG140: 0 | CH140: 0 | CI140: 0 | CJ140: 0 | CK140: 0 | CL140: 0 | CM140: 0 | CN140: 70.196721 | CO140: 275.17373 | CP140: 0 | CQ140: 0 | CR140: 0 | CS140: 0 | CT140: 0 | CU140: 0 | CV140: 0 | CW140: 0 | CX140: 0 | CY140: 124.38172 | CZ140: 0 | DA140: 0 | DB140: 0 | DC140: 0 | DD140: 0 | DE140: 0 | DF140: 0 | DG140: 16.032754 | DH140: 0 | DI140: 0 | DJ140: 0 | DK140: 0 | DL140: 0 | DM140: 0 | DN140: 403.37687 | DO140: 521.54894 | DP140: 0 | DQ140: 0 | DR140: 0 | DS140: 0 | DT140: 0 | DU140: 0 | DV140: 0 | DW140: 0 | DX140: 0 | DY140: 0 | DZ140: 0 | EA140: 0 | EB140: 0 | EC140: 0 | JG140: 111102.91
B141: استخراج نفت خام و گاز طبیعی | C141: 5 | D141: 0 | E141: 0 | F141: 0 | G141: 0 | H141: 0 | I141: 0 | J141: 0 | K141: 0 | L141: 0 | M141: 0 | N141: 0 | O141: 0 | P141: 0 | Q141: 0 | R141: 0 | S141: 0 | T141: 0 | U141: 0 | V141: 0 | W141: 0 | X141: 1196996.7 | Y141: 14189.628 | Z141: 0 | AA141: 0 | AB141: 0 | AC141: 0 | AD141: 0 | AE141: 0 | AF141: 0 | AG141: 0 | AH141: 0 | AI141: 0 | AJ141: 0 | AK141: 0 | AL141: 0 | AM141: 0 | AN141: 0 | AO141: 0 | AP141: 0 | AQ141: 0 | AR141: 0 | AS141: 0 | AT141: 0 | AU141: 0 | AV141: 0 | AW141: 0 | AX141: 0 | AY141: 0 | AZ141: 0 | BA141: 0 | BB141: 0 | BC141: 0 | BD141: 0 | BE141: 0 | BF141: 0 | BG141: 0 | BH141: 0 | BI141: 0 | BJ141: 428647.5 | BK141: 8899 | BL141: 0 | BM141: 0 | BN141: 0 | BO141: 0 | BP141: 0 | BQ141: 0 | BR141: 0 | BS141: 0 | BT141: 0 | BU141: 0 | BV141: 0 | BW141: 0 | BX141: 0 | BY141: 0 | BZ141: 0 | CA141: 0 | CB141: 0 | CC141: 0 | CD141: 0 | CE141: 0 | CF141: 0 | CG141: 0 | CH141: 0 | CI141: 0 | CJ141: 0 | CK141: 0 | CL141: 0 | CM141: 0 | CN141: 0 | CO141: 0 | CP141: 0 | CQ141: 0 | CR141: 0 | CS141: 0 | CT141: 0 | CU141: 0 | CV141: 0 | CW141: 0 | CX141: 0 | CY141: 0 | CZ141: 0 | DA141: 0 | DB141: 0 | DC141: 0 | DD141: 0 | DE141: 0 | DF141: 0 | DG141: 0 | DH141: 0 | DI141: 0 | DJ141: 0 | DK141: 0 | DL141: 0 | DM141: 0 | DN141: 75689 | DO141: 0 | DP141: 0 | DQ141: 0 | DR141: 0 | DS141: 0 | DT141: 0 | DU141: 0 | DV141: 0 | DW141: 0 | DX141: 0 | DY141: 0 | DZ141: 0 | EA141: 0 | EB141: 0 | EC141: 0 | JG141: 1724421.8
B142: استخراج زغال سنگ و زغال قهوه ای | C142: 6 | D142: 0 | E142: 0 | F142: 0 | G142: 0 | H142: 0 | I142: 0 | J142: 0 | K142: 0 | L142: 0 | M142: 0 | N142: 0 | O142: 0 | P142: 0 | Q142: 0 | R142: 0 | S142: 0 | T142: 0 | U142: 0 | V142: 0 | W142: 6169.183 | X142: 0 | Y142: 0 | Z142: 0 | AA142: 0 | AB142: 0 | AC142: 0 | AD142: 0 | AE142: 7.169 | AF142: 0 | AG142: 0 | AH142: 0 | AI142: 0 | AJ142: 0 | AK142: 0 | AL142: 0 | AM142: 0 | AN142: 0 | AO142: 0 | AP142: 0 | AQ142: 0 | AR142: 0 | AS142: 0 | AT142: 0 | AU142: 0 | AV142: 0 | AW142: 0 | AX142: 0 | AY142: 0 | AZ142: 0 | BA142: 0 | BB142: 0 | BC142: 0 | BD142: 0 | BE142: 0 | BF142: 0 | BG142: 0 | BH142: 0 | BI142: 0 | BJ142: 0 | BK142: 0 | BL142: 0 | BM142: 0 | BN142: 0 | BO142: 0 | BP142: 0 | BQ142: 0 | BR142: 0 | BS142: 0 | BT142: 0 | BU142: 0 | BV142: 0 | BW142: 0 | BX142: 0 | BY142: 0 | BZ142: 0 | CA142: 0 | CB142: 0 | CC142: 0 | CD142: 0 | CE142: 0 | CF142: 0 | CG142: 0 | CH142: 0 | CI142: 0 | CJ142: 0 | CK142: 0 | CL142: 0 | CM142: 0 | CN142: 8.117 | CO142: 0 | CP142: 0 | CQ142: 78.379 | CR142: 0 | CS142: 0 | CT142: 0 | CU142: 0 | CV142: 0 | CW142: 0 | CX142: 0 | CY142: 0 | CZ142: 0 | DA142: 0 | DB142: 0 | DC142: 0 | DD142: 0 | DE142: 0 | DF142: 0 | DG142: 0 | DH142: 0 | DI142: 0.40942 | DJ142: 0 | DK142: 0 | DL142: 0 | DM142: 0 | DN142: 31.5648 | DO142: 0 | DP142: 0 | DQ142: 0 | DR142: 0 | DS142: 0 | DT142: 0 | DU142: 0 | DV142: 0 | DW142: 0 | DX142: 0 | DY142: 0 | DZ142: 0 | EA142: 0 | EB142: 0 | EC142: 0 | JG142: 6294.8222
B143: استخراج کانه های فلزی | C143: 7 | D143: 0 | E143: 0 | F143: 0 | G143: 0 | H143: 0 | I143: 0 | J143: 0 | K143: 0 | L143: 0 | M143: 0 | N143: 0 | O143: 0 | P143: 0 | Q143: 0 | R143: 0 | S143: 0 | T143: 0 | U143: 0 | V143: 0 | W143: 0 | X143: 0 | Y143: 0 | Z143: 125765.12 | AA143: 0 | AB143: 0 | AC143: 0 | AD143: 0 | AE143: 195.164 | AF143: 0 | AG143: 0 | AH143: 0 | AI143: 0 | AJ143: 0 | AK143: 0 | AL143: 0 | AM143: 0 | AN143: 0 | AO143: 0 | AP143: 0 | AQ143: 0 | AR143: 0 | AS143: 0 | AT143: 0 | AU143: 0 | AV143: 0 | AW143: 0 | AX143: 0 | AY143: 0 | AZ143: 0 | BA143: 0 | BB143: 0 | BC143: 0 | BD143: 0 | BE143: 0 | BF143: 0 | BG143: 0 | BH143: 0 | BI143: 0 | BJ143: 0 | BK143: 0 | BL143: 0 | BM143: 0 | BN143: 0 | BO143: 0 | BP143: 0 | BQ143: 0 | BR143: 0 | BS143: 0 | BT143: 0 | BU143: 0 | BV143: 0 | BW143: 0 | BX143: 0 | BY143: 0 | BZ143: 0 | CA143: 0 | CB143: 0 | CC143: 0 | CD143: 0 | CE143: 0 | CF143: 0 | CG143: 0 | CH143: 0 | CI143: 0 | CJ143: 0 | CK143: 0 | CL143: 0 | CM143: 0 | CN143: 61.021 | CO143: 0 | CP143: 0 | CQ143: 396.146 | CR143: 0 | CS143: 10.404 | CT143: 0 | CU143: 0 | CV143: 0 | CW143: 0 | CX143: 0 | CY143: 0 | CZ143: 0 | DA143: 0 | DB143: 0 | DC143: 0 | DD143: 0 | DE143: 1.287 | DF143: 0 | DG143: 31.182 | DH143: 0 | DI143: 110.8586 | DJ143: 0 | DK143: 0 | DL143: 0 | DM143: 0 | DN143: 1071.9934 | DO143: 0 | DP143: 0 | DQ143: 0 | DR143: 0 | DS143: 0 | DT143: 0 | DU143: 0 | DV143: 0 | DW143: 0 | DX143: 0 | DY143: 0 | DZ143: 0 | EA143: 0 | EB143: 0 | EC143: 0 | JG143: 127643.18
B144: استخراج ساير معادن | C144: 8 | D144: 0 | E144: 0 | F144: 0 | G144: 0 | H144: 0 | I144: 0 | J144: 0 | K144: 0 | L144: 0 | M144: 0 | N144: 0 | O144: 0 | P144: 0 | Q144: 0 | R144: 0 | S144: 0 | T144: 0 | U144: 0 | V144: 0 | W144: 0 | X144: 0 | Y144: 0 | Z144: 0 | AA144: 13128.872 | AB144: 10292.407 | AC144: 5587.667 | AD144: 4716.234 | AE144: 274.378 | AF144: 0 | AG144: 0 | AH144: 0 | AI144: 0 | AJ144: 0 | AK144: 0 | AL144: 0 | AM144: 0 | AN144: 0 | AO144: 0 | AP144: 0 | AQ144: 0 | AR144: 0 | AS144: 0 | AT144: 0 | AU144: 0 | AV144: 0 | AW144: 0 | AX144: 0 | AY144: 0 | AZ144: 0 | BA144: 0 | BB144: 0 | BC144: 0 | BD144: 0 | BE144: 0 | BF144: 0 | BG144: 0 | BH144: 0 | BI144: 0 | BJ144: 0 | BK144: 0 | BL144: 0 | BM144: 0 | BN144: 0 | BO144: 0 | BP144: 0 | BQ144: 0 | BR144: 0 | BS144: 0 | BT144: 0 | BU144: 0 | BV144: 0 | BW144: 0 | BX144: 0 | BY144: 0 | BZ144: 0 | CA144: 0 | CB144: 0 | CC144: 0 | CD144: 0 | CE144: 0 | CF144: 0 | CG144: 0 | CH144: 0 | CI144: 0 | CJ144: 0 | CK144: 0 | CL144: 0 | CM144: 0 | CN144: 78.447 | CO144: 0 | CP144: 0 | CQ144: 513.083 | CR144: 0 | CS144: 144.063 | CT144: 0 | CU144: 0 | CV144: 0 | CW144: 0 | CX144: 0 | CY144: 0 | CZ144: 0 | DA144: 0 | DB144: 0 | DC144: 0 | DD144: 0 | DE144: 0.436 | DF144: 0 | DG144: 33.015 | DH144: 0 | DI144: 23.7916 | DJ144: 0 | DK144: 0 | DL144: 0 | DM144: 0 | DN144: 710.9484 | DO144: 0 | DP144: 0 | DQ144: 0 | DR144: 0 | DS144: 0 | DT144: 0 | DU144: 0 | DV144: 0 | DW144: 0 | DX144: 0 | DY144: 0 | DZ144: 0 | EA144: 0 | EB144: 0 | EC144: 0 | JG144: 35503.342
B145: فرآوری و نگهداری گوشت، ماهی، میوه و سبزیجات | C145: 9 | D145: 0 | E145: 0 | F145: 0 | G145: 0 | H145: 0 | I145: 0 | J145: 0 | K145: 0 | L145: 0 | M145: 0 | N145: 0 | O145: 0 | P145: 0 | Q145: 0 | R145: 0 | S145: 0 | T145: 0 | U145: 0 | V145: 0 | W145: 0 | X145: 0 | Y145: 0 | Z145: 0 | AA145: 0 | AB145: 0 | AC145: 0 | AD145: 0 | AE145: 1.8416717 | AF145: 0 | AG145: 7.0653223 | AH145: 93873.794 | AI145: 19371.644 | AJ145: 93381.15 | AK145: 0 | AL145: 0 | AM145: 18676.23 | AN145: 0 | AO145: 0 | AP145: 0 | AQ145: 0 | AR145: 0 | AS145: 0 | AT145: 0 | AU145: 12450.82 | AV145: 0 | AW145: 0 | AX145: 0 | AY145: 0 | AZ145: 0 | BA145: 0 | BB145: 0 | BC145: 0 | BD145: 0 | BE145: 0 | BF145: 0 | BG145: 0 | BH145: 0 | BI145: 0 | BJ145: 0 | BK145: 0 | BL145: 13.859045 | BM145: 37.058527 | BN145: 0 | BO145: 0 | BP145: 0 | BQ145: 0 | BR145: 0 | BS145: 0 | BT145: 0 | BU145: 584.37173 | BV145: 0 | BW145: 1.7672607 | BX145: 2.6508911 | BY145: 4.4181518 | BZ145: 0 | CA145: 240.75858 | CB145: 0 | CC145: 6.3286536 | CD145: 0 | CE145: 0 | CF145: 0.014882195 | CG145: 0 | CH145: 0 | CI145: 0 | CJ145: 10.741225 | CK145: 0 | CL145: 0 | CM145: 0 | CN145: 68.350203 | CO145: 426.267 | CP145: 0 | CQ145: 299.14701 | CR145: 0 | CS145: 3.3794413 | CT145: 0 | CU145: 0 | CV145: 0 | CW145: 0 | CX145: 0 | CY145: 3.0794315 | CZ145: 0 | DA145: 0 | DB145: 0 | DC145: 0 | DD145: 0 | DE145: 145.0549 | DF145: 0 | DG145: 2.9317925 | DH145: 83.554534 | DI145: 0 | DJ145: 0 | DK145: 0 | DL145: 0 | DM145: 0 | DN145: 7772.1968 | DO145: 0 | DP145: 0 | DQ145: 0 | DR145: 0 | DS145: 0 | DT145: 0 | DU145: 0 | DV145: 0 | DW145: 0 | DX145: 0.037205489 | DY145: 0 | DZ145: 0 | EA145: 0 | EB145: 0 | EC145: 0 | JG145: 247468.51
B146: توليد روغنها و چربيهاي گياهي و حيواني | C146: 10 | D146: 0 | E146: 0 | F146: 0 | G146: 0 | H146: 0 | I146: 0 | J146: 0 | K146: 0 | L146: 0 | M146: 0 | N146: 0 | O146: 0 | P146: 0 | Q146: 0 | R146: 0 | S146: 0 | T146: 0 | U146: 0 | V146: 0 | W146: 0 | X146: 0 | Y146: 0 | Z146: 0 | AA146: 0 | AB146: 0 | AC146: 0 | AD146: 0 | AE146: 0 | AF146: 0 | AG146: 1.4574912 | AH146: 0 | AI146: 0 | AJ146: 0 | AK146: 91923.052 | AL146: 0 | AM146: 0 | AN146: 0 | AO146: 0 | AP146: 0 | AQ146: 0 | AR146: 0 | AS146: 0 | AT146: 0 | AU146: 4991.7459 | AV146: 0 | AW146: 0 | AX146: 0 | AY146: 0 | AZ146: 0 | BA146: 0 | BB146: 0 | BC146: 0 | BD146: 0 | BE146: 0 | BF146: 0 | BG146: 0 | BH146: 0 | BI146: 0 | BJ146: 0 | BK146: 0 | BL146: 0 | BM146: 0 | BN146: 0 | BO146: 0 | BP146: 0 | BQ146: 0 | BR146: 0 | BS146: 0 | BT146: 0 | BU146: 73.764558 | BV146: 0 | BW146: 8.5444978 | BX146: 12.816747 | BY146: 21.361245 | BZ146: 0 | CA146: 111.41612 | CB146: 0 | CC146: 1.9635151 | CD146: 0 | CE146: 0 | CF146: 0.0097997577 | CG146: 0 | CH146: 0 | CI146: 0 | CJ146: 12.947262 | CK146: 0 | CL146: 0 | CM146: 0 | CN146: 25.869579 | CO146: 154.15464 | CP146: 0 | CQ146: 72.309739 | CR146: 0 | CS146: 0 | CT146: 0 | CU146: 0 | CV146: 0 | CW146: 0 | CX146: 0 | CY146: 0 | CZ146: 0 | DA146: 0 | DB146: 0 | DC146: 0 | DD146: 0 | DE146: 34.388241 | DF146: 0 | DG146: 211.59993 | DH146: 18.725027 | DI146: 0 | DJ146: 0 | DK146: 0 | DL146: 0 | DM146: 0 | DN146: 214.07214 | DO146: 0 | DP146: 0 | DQ146: 0 | DR146: 0 | DS146: 0 | DT146: 0 | DU146: 0 | DV146: 0 | DW146: 0 | DX146: 0 | DY146: 0 | DZ146: 0 | EA146: 0 | EB146: 0 | EC146: 0 | JG146: 97890.199
B147: توليد فراورده هاي لبني، آسياب غلات (دانه آسياب شده)، نشاسته و فراورده های نشاسته ای هاي نشاستهاي | C147: 11 | D147: 0 | E147: 0 | F147: 0 | G147: 0 | H147: 0 | I147: 0 | J147: 0 | K147: 0 | L147: 0 | M147: 0 | N147: 0 | O147: 0 | P147: 0 | Q147: 0 | R147: 0 | S147: 0 | T147: 0 | U147: 0 | V147: 0 | W147: 0 | X147: 0 | Y147: 0 | Z147: 0 | AA147: 0 | AB147: 0 | AC147: 0 | AD147: 0 | AE147: 0 | AF147: 0 | AG147: 2.1455745 | AH147: 0 | AI147: 0 | AJ147: 0 | AK147: 0 | AL147: 154840.8 | AM147: 108371 | AN147: 6534.6805 | AO147: 0 | AP147: 182.13784 | AQ147: 0 | AR147: 0 | AS147: 0 | AT147: 0 | AU147: 0 | AV147: 0 | AW147: 0 | AX147: 0 | AY147: 0 | AZ147: 0 | BA147: 0 | BB147: 0 | BC147: 0 | BD147: 0 | BE147: 0 | BF147: 0 | BG147: 0 | BH147: 0 | BI147: 0 | BJ147: 0 | BK147: 0 | BL147: 0 | BM147: 0 | BN147: 0 | BO147: 0 | BP147: 0 | BQ147: 0 | BR147: 0 | BS147: 0 | BT147: 0 | BU147: 907.36368 | BV147: 0 | BW147: 0.73373349 | BX147: 1.1006002 | BY147: 1.8343337 | BZ147: 0 | CA147: 535.01019 | CB147: 0 | CC147: 1.3003482 | CD147: 0 | CE147: 0 | CF147: 0.0084281825 | CG147: 0 | CH147: 0 | CI147: 0 | CJ147: 1.94089 | CK147: 0 | CL147: 0 | CM147: 0 | CN147: 4967.9007 | CO147: 484.54705 | CP147: 0 | CQ147: 369.5144 | CR147: 0 | CS147: 4.2920271 | CT147: 0 | CU147: 0 | CV147: 0 | CW147: 0 | CX147: 0 | CY147: 3.9110025 | CZ147: 0 | DA147: 0 | DB147: 0 | DC147: 0 | DD147: 0 | DE147: 39.734064 | DF147: 0 | DG147: 27.34584 | DH147: 182.0713 | DI147: 0.022876495 | DJ147: 0 | DK147: 0 | DL147: 0 | DM147: 0 | DN147: 2021.7765 | DO147: 0 | DP147: 0 | DQ147: 0 | DR147: 0 | DS147: 0 | DT147: 0 | DU147: 0 | DV147: 0 | DW147: 0 | DX147: 0.63331771 | DY147: 0 | DZ147: 0 | EA147: 0 | EB147: 0 | EC147: 0 | JG147: 279481.81
B148: تولید سایر فرآورده های غذایی و غذای آماده برای حیوانات | C148: 12 | D148: 0 | E148: 0 | F148: 0 | G148: 0 | H148: 0 | I148: 0 | J148: 0 | K148: 0 | L148: 0 | M148: 0 | N148: 0 | O148: 0 | P148: 0 | Q148: 0 | R148: 0 | S148: 0 | T148: 0 | U148: 0 | V148: 0 | W148: 0 | X148: 0 | Y148: 0 | Z148: 0 | AA148: 0 | AB148: 0 | AC148: 0 | AD148: 0 | AE148: 4.847468 | AF148: 0 | AG148: 13.351066 | AH148: 0 | AI148: 0 | AJ148: 0 | AK148: 3308.5276 | AL148: 0 | AM148: 0 | AN148: 0 | AO148: 43282.103 | AP148: 113374.41 | AQ148: 61380 | AR148: 16879.088 | AS148: 11558.716 | AT148: 23159.693 | AU148: 24670.548 | AV148: 0 | AW148: 0 | AX148: 0 | AY148: 0 | AZ148: 0 | BA148: 0 | BB148: 0 | BC148: 0 | BD148: 0 | BE148: 0 | BF148: 0 | BG148: 0 | BH148: 0 | BI148: 0 | BJ148: 0 | BK148: 0 | BL148: 0 | BM148: 0 | BN148: 0 | BO148: 0 | BP148: 0 | BQ148: 0 | BR148: 0 | BS148: 0 | BT148: 0 | BU148: 303.05708 | BV148: 0 | BW148: 5.5941069 | BX148: 8.3911603 | BY148: 13.985267 | BZ148: 0 | CA148: 745.03574 | CB148: 0 | CC148: 7.9527784 | CD148: 0 | CE148: 0 | CF148: 0.39669141 | CG148: 0 | CH148: 0 | CI148: 0 | CJ148: 5.6484309 | CK148: 0 | CL148: 0 | CM148: 0 | CN148: 1045.9262 | CO148: 622.56295 | CP148: 0 | CQ148: 537.73921 | CR148: 0 | CS148: 2.1225192 | CT148: 0 | CU148: 0 | CV148: 0 | CW148: 0 | CX148: 0 | CY148: 1.9340926 | CZ148: 0 | DA148: 0 | DB148: 0 | DC148: 0 | DD148: 0 | DE148: 66.375064 | DF148: 0 | DG148: 3.0813068 | DH148: 171.57927 | DI148: 1.7194172 | DJ148: 0 | DK148: 0 | DL148: 0 | DM148: 0 | DN148: 2963.866 | DO148: 0 | DP148: 0 | DQ148: 0 | DR148: 0 | DS148: 0 | DT148: 0 | DU148: 0 | DV148: 0 | DW148: 0 | DX148: 0 | DY148: 0 | DZ148: 0 | EA148: 0 | EB148: 0 | EC148: 0 | JG148: 304138.26
B149: توليد انواع آشامیدنی ها | C149: 13 | D149: 0 | E149: 0 | F149: 0 | G149: 0 | H149: 0 | I149: 0 | J149: 0 | K149: 0 | L149: 0 | M149: 0 | N149: 0 | O149: 0 | P149: 0 | Q149: 0 | R149: 0 | S149: 0 | T149: 0 | U149: 0 | V149: 0 | W149: 0 | X149: 0 | Y149: 0 | Z149: 0 | AA149: 0 | AB149: 0 | AC149: 0 | AD149: 0 | AE149: 0 | AF149: 0 | AG149: 0.9623661 | AH149: 0 | AI149: 0 | AJ149: 1151.0969 | AK149: 0 | AL149: 2061.4415 | AM149: 0 | AN149: 0 | AO149: 0 | AP149: 0 | AQ149: 0 | AR149: 0 | AS149: 0 | AT149: 0 | AU149: 248.2758 | AV149: 34156.731 | AW149: 0 | AX149: 0 | AY149: 0 | AZ149: 0 | BA149: 0 | BB149: 0 | BC149: 0 | BD149: 0 | BE149: 0 | BF149: 0 | BG149: 0 | BH149: 0 | BI149: 0 | BJ149: 0 | BK149: 0 | BL149: 2.4374556 | BM149: 0 | BN149: 67.204132 | BO149: 0 | BP149: 0 | BQ149: 0 | BR149: 0 | BS149: 0 | BT149: 0 | BU149: 190.4381 | BV149: 0 | BW149: 1.0759634 | BX149: 1.6139452 | BY149: 2.6899086 | BZ149: 0 | CA149: 54.152411 | CB149: 0 | CC149: 2.2448519 | CD149: 0 | CE149: 0 | CF149: 0.050175501 | CG149: 0 | CH149: 0 | CI149: 0 | CJ149: 20.848924 | CK149: 0 | CL149: 0 | CM149: 0 | CN149: 19.446017 | CO149: 340.67158 | CP149: 0 | CQ149: 124.12516 | CR149: 0 | CS149: 1.00351 | CT149: 0 | CU149: 0 | CV149: 0 | CW149: 0 | CX149: 0 | CY149: 0 | CZ149: 0 | DA149: 0 | DB149: 0 | DC149: 0 | DD149: 0 | DE149: 21.629655 | DF149: 0 | DG149: 5.7802177 | DH149: 146.82419 | DI149: 0 | DJ149: 0 | DK149: 0 | DL149: 0 | DM149: 0 | DN149: 110.46136 | DO149: 0 | DP149: 0 | DQ149: 0 | DR149: 0 | DS149: 0 | DT149: 0 | DU149: 0 | DV149: 0 | DW149: 0 | DX149: 0 | DY149: 0 | DZ149: 0 | EA149: 0 | EB149: 0 | EC149: 0 | JG149: 38731.205
... B225: ساير فعاليت های خدماتی و شخصی خانگی | C225: 89 | D225: 0 | E225: 0 | F225: 0 | G225: 0 | H225: 0 | I225: 0 | J225: 0 | K225: 0 | L225: 0 | M225: 0 | N225: 0 | O225: 0 | P225: 0 | Q225: 0 | R225: 0 | S225: 0 | T225: 0 | U225: 0 | V225: 0 | W225: 0 | X225: 0 | Y225: 0 | Z225: 0 | AA225: 0 | AB225: 0 | AC225: 0 | AD225: 0 | AE225: 0 | AF225: 0 | AG225: 14.062186 | AH225: 0 | AI225: 0 | AJ225: 0 | AK225: 0 | AL225: 0 | AM225: 0 | AN225: 0 | AO225: 0 | AP225: 0 | AQ225: 0 | AR225: 0 | AS225: 0 | AT225: 0 | AU225: 0 | AV225: 0 | AW225: 0 | AX225: 0 | AY225: 0 | AZ225: 0 | BA225: 0 | BB225: 0 | BC225: 0 | BD225: 0 | BE225: 0 | BF225: 0 | BG225: 0 | BH225: 0 | BI225: 0 | BJ225: 0 | BK225: 0 | BL225: 0 | BM225: 0 | BN225: 0 | BO225: 0 | BP225: 0 | BQ225: 0 | BR225: 0 | BS225: 0 | BT225: 0 | BU225: 76.982448 | BV225: 0 | BW225: 0 | BX225: 0 | BY225: 0 | BZ225: 0 | CA225: 0 | CB225: 0 | CC225: 0 | CD225: 0 | CE225: 0 | CF225: 0 | CG225: 0 | CH225: 0 | CI225: 0 | CJ225: 0 | CK225: 0 | CL225: 0 | CM225: 0 | CN225: 565.53856 | CO225: 3927.1834 | CP225: 8.5213731 | CQ225: 40.909588 | CR225: 128.53214 | CS225: 121.4159 | CT225: 0 | CU225: 0 | CV225: 0 | CW225: 0 | CX225: 0 | CY225: 23.228281 | CZ225: 0 | DA225: 0 | DB225: 0 | DC225: 0 | DD225: 0 | DE225: 183.28143 | DF225: 0 | DG225: 777.21447 | DH225: 0 | DI225: 8041.0969 | DJ225: 0 | DK225: 0 | DL225: 138.78101 | DM225: 0 | DN225: 25535.535 | DO225: 0 | DP225: 0 | DQ225: 0 | DR225: 0 | DS225: 0 | DT225: 0 | DU225: 0 | DV225: 0 | DW225: 0 | DX225: 906.7622 | DY225: 0 | DZ225: 0 | EA225: 16771.801 | EB225: 0 | EC225: 64589.392 | JG225: 121850.24
A226: ايجاد درآمد | B226: درآمد نيروي كار(مقيم داخل) | C226: 2a | ED226: 62796.535 | EE226: 65191.557 | EF226: 2764.588 | EG226: 25591.236 | EH226: 67408.567 | EI226: 1428.949 | EJ226: 7575.115 | EK226: 5936.616 | EL226: 20402.044 | EM226: 8416.3802 | EN226: 32377.632 | EO226: 42226.281 | EP226: 3832.0856 | EQ226: 1280.5223 | ER226: 17650.604 | ES226: 6747.0395 | ET226: 29824.681 | EU226: 5881.7538 | EV226: 9629.9014 | EW226: 23507.676 | EX226: 9017.1033 | EY226: 11793.179 | EZ226: 17682.376 | FA226: 4388.1549 | FB226: 57177.064 | FC226: 13612.355 | FD226: 21136.476 | FE226: 7928.4869 | FF226: 66835.232 | FG226: 48551.515 | FH226: 14360.516 | FI226: 4877.8274 | FJ226: 69797.387 | FK226: 2991.045 | FL226: 21306.057 | FM226: 25745.884 | FN226: 71365.971 | FO226: 17353.102 | FP226: 24427.401 | FQ226: 9081.7455 | FR226: 7957.4022 | FS226: 35417.8 | FT226: 25430.19 | FU226: 21702.328 | FV226: 6798.4635 | FW226: 255155.42 | FX226: 198131 | FY226: 22337.03 | FZ226: 234004 | GA226: 1017.3383 | GB226: 12109.459 | GC226: 40807.78 | GD226: 36428.167 | GE226: 5735.65 | GF226: 11653.212 | GG226: 16640.334 | GH226: 2504.9402 | GI226: 24653.247 | GJ226: 9272.8858 | GK226: 6774.3271 | GL226: 28243.023 | GM226: 29196.475 | GN226: 22224.524 | GO226: 257832.77 | GP226: 14147.597 | GQ226: 1844.0949 | GR226: 0 | GS226: 0 | GT226: 0 | GU226: 3434.2698 | GV226: 31126.67 | GW226: 36893.222 | GX226: 512.71261 | GY226: 1258.0137 | GZ226: 12632.639 | HA226: 556593.03 | HB226: 89626.54 | HC226: 267451.28 | HD226: 80940.36 | HE226: 266890.51 | HF226: 17986.809 | HG226: 64145.702 | HH226: 41434.683 | HI226: 18057.354 | HJ226: 224055.06 | HK226: 52808.812 | HL226: 49594.442 | HM226: 15323.139 | HN226: 18465.392 | JG226: 4137148.8
B227: درآمد نيروي كار(مقيم خارج) | C227: 2b | JE227: 15049.72 | JG227: 15049.72
B228: درآمد مختلط | C228: 2c | ED228: 207550.74 | EE228: 234065.64 | EF228: 478.18087 | EG228: 20777.983 | EH228: 0 | EI228: 0 | EJ228: 173.0412 | EK228: 455.94931 | EL228: 5430.0831 | EM228: 2240.0522 | EN228: 8617.4323 | EO228: 11238.688 | EP228: 17.907015 | EQ228: 0 | ER228: 11477.076 | ES228: 1202.892 | ET228: 14327.546 | EU228: 2099.8687 | EV228: 3438.0101 | EW228: 18800.681 | EX228: 465.46175 | EY228: 3226.7926 | EZ228: 0 | FA228: 152.59142 | FB228: 2602.8304 | FC228: 200.3659 | FD228: 2482.722 | FE228: 1141.9294 | FF228: 9626.1895 | FG228: 1915.9518 | FH228: 566.69821 | FI228: 192.49002 | FJ228: 56518.755 | FK228: 408.55274 | FL228: 3932.0405 | FM228: 1790.1233 | FN228: 2945.2709 | FO228: 956.49854 | FP228: 11862.129 | FQ228: 6465.7297 | FR228: 3770.5613 | FS228: 398.99033 | FT228: 257.94636 | FU228: 789.6543 | FV228: 2424.8768 | FW228: 62755.948 | FX228: 0 | FY228: 35966.455 | FZ228: 443137.92 | GA228: 0 | GB228: 0 | GC228: 118689.78 | GD228: 81678.028 | GE228: 0 | GF228: 872.34788 | GG228: 0 | GH228: 331.31332 | GI228: 1688.5981 | GJ228: 1141.993 | GK228: 690.87007 | GL228: 18049.185 | GM228: 3671.8818 | GN228: 1723.3978 | GO228: 2691.9841 | GP228: 0 | GQ228: 863.91585 | GR228: 0 | GS228: 0 | GT228: 0 | GU228: 8834.3429 | GV228: 1021.2086 | GW228: 24762.898 | GX228: 344.13503 | GY228: 844.38453 | GZ228: 2130.6309 | HA228: 0 | HB228: 868.58652 | HC228: 412.25211 | HD228: 0 | HE228: 0 | HF228: 640.20595 | HG228: 0 | HH228: 2052.7022 | HI228: 2796.5658 | HJ228: 0 | HK228: 12752.928 | HL228: 1735.0074 | HM228: 6912.3304 | HN228: 20783.188 | JG228: 1518331.9
B229: مازاد عملياتي ناخالص | C229: 2d | ED229: 625681.2 | EE229: 29827.38 | EF229: 2276.1454 | EG229: 21773.356 | EH229: 1538093.7 | EI229: 4086.4797 | EJ229: 82260.017 | EK229: 19940.624 | EL229: 49341.675 | EM229: 7918.4112 | EN229: 53762.5 | EO229: 55439.443 | EP229: 6143.2407 | EQ229: 2025.0689 | ER229: 10031.377 | ES229: 12048.188 | ET229: 8694.0624 | EU229: 4975.357 | EV229: 4094.9668 | EW229: 25108.989 | EX229: 15180.593 | EY229: 3982.6294 | EZ229: 334008.25 | FA229: 4042.5687 | FB229: 262225.45 | FC229: 37061.056 | FD229: 27899.205 | FE229: 22247.424 | FF229: 76021.122 | FG229: 92378.623 | FH229: 49989.068 | FI229: 596.33357 | FJ229: 17849.39 | FK229: 9807.0059 | FL229: 25184.849 | FM229: 24887.165 | FN229: 108249.2 | FO229: 9225.0718 | FP229: 5825.4864 | FQ229: 3155.6391 | FR229: 2349.3776 | FS229: 78415.733 | FT229: 194877.4 | FU229: -1765.5857 | FV229: 15651.482 | FW229: 37217.057 | FX229: -9698.2748 | FY229: 62569.278 | FZ229: 859815.79 | GA229: 449.62305 | GB229: 9296.8785 | GC229: 33884.83 | GD229: 524372.55 | GE229: 2211.6275 | GF229: 22371.722 | GG229: 27918.931 | GH229: 2261.8614 | GI229: 94618.248 | GJ229: 3411.7429 | GK229: 13893.807 | GL229: 40327.281 | GM229: 143599.3 | GN229: 4876.1231 | GO229: 20822.996 | GP229: 2976.9105 | GQ229: 24014.905 | GR229: 1244739 | GS229: 394991.45 | GT229: 149809.31 | GU229: 4093.4148 | GV229: 7017.1346 | GW229: 69215.871 | GX229: 1245.2153 | GY229: 7077.4857 | GZ229: 15069.519 | HA229: 100517.79 | HB229: 14105.144 | HC229: 61523.26 | HD229: 13423.385 | HE229: 38101.07 | HF229: 4133.7936 | HG229: 34305.453 | HH229: 13254.246 | HI229: 6917.713 | HJ229: 45217.14 | HK229: 155684.07 | HL229: 12919.067 | HM229: 2363.4031 | HN229: 28136.784 | JG229: 8327940.6
B230: خالص ساير مالياتها ي بر توليد | C230: 2e | ED230: 407.5699 | EE230: 149.68829 | EF230: 2.5103481 | EG230: 30.995513 | EH230: 456.13292 | EI230: 1.8252035 | EJ230: 29.786122 | EK230: 8.7143596 | EL230: 90.225939 | EM230: 22.294106 | EN230: 113.73098 | EO230: 130.71047 | EP230: 11.99419 | EQ230: 3.9674736 | ER230: 46.99992 | ES230: 24.002365 | ET230: 63.427763 | EU230: 15.55137 | EV230: 20.599421 | EW230: 80.916398 | EX230: 29.601491 | EY230: 22.807514 | EZ230: 422.11004 | FA230: 10.301962 | FB230: 386.48085 | FC230: 61.060292 | FD230: 61.833993 | FE230: 37.588647 | FF230: 183.0143 | FG230: 171.44833 | FH230: 77.914544 | FI230: 6.801291 | FJ230: 173.03196 | FK230: 15.850977 | FL230: 60.519191 | FM230: 62.919924 | FN230: 219.11472 | FO230: 33.047971 | FP230: 50.547755 | FQ230: 22.44806 | FR230: 16.896063 | FS230: 41.319767 | FT230: 79.782153 | FU230: 5.3664604 | FV230: 6.4405672 | FW230: 197.22786 | FX230: 104.64998 | FY230: 24.555341 | FZ230: 312.23346 | GA230: 0.45885557 | GB230: 6.6957574 | GC230: 60.488702 | GD230: 200.963 | GE230: 2.4858546 | GF230: 10.915634 | GG230: 13.937836 | GH230: 1.5946558 | GI230: 37.835498 | GJ230: 4.3248737 | GK230: 7.1387532 | GL230: 28.950561 | GM230: 50.042367 | GN230: 8.1738682 | GO230: 100.36691 | GP230: 6.1089305 | GQ230: 9.5330297 | GR230: 135187.05 | GS230: 42898.733 | GT230: 16270.3 | GU230: 1777.0265 | GV230: 9.0217586 | GW230: 30.14669 | GX230: 0.48421544 | GY230: 2.1146092 | GZ230: 3.3219206 | HA230: 175.8415 | HB230: 27.990817 | HC230: 88.143229 | HD230: 25.251544 | HE230: 97.873135 | HF230: 7.3040431 | HG230: 31.593407 | HH230: 18.208638 | HI230: 8.9120387 | HJ230: 69.574024 | HK230: 57.165059 | HL230: 16.600406 | HM230: 10.611731 | HN230: 29.069437 | JG230: 202000.91
A231: تخصيص درآمد اوليه | B231: خانوار | C231: 3a | HO231: 4120453.4 | HP231: 15049.72 | HQ231: 1518331.9 | HR231: 1639730.5 | HU231: 1019.6659 | HV231: 290.46034 | HW231: 332282.65 | HX231: 857650.7 | JG231: 8484809
B232: دولت عمومي | C232: 3b | D232: -101.58951 | E232: 7691.9691 | F232: 3572.3596 | G232: 779.95061 | H232: 4016.5676 | I232: 2585.732 | J232: 122.32708 | K232: 1718.1707 | L232: 725.70635 | M232: 23.936488 | N232: 259.79806 | O232: 1202.8172 | P232: 526.76817 | Q232: 383.29383 | R232: 182.91892 | S232: 87.750097 | T232: 53.962447 | U232: 154.98372 | V232: 157.98379 | W232: 102.94807 | X232: 0 | Y232: 0 | Z232: 682.74971 | AA232: 153.38664 | AB232: 32.762667 | AC232: 87.595531 | AD232: 353.79298 | AE232: -19849.168 | AF232: 100.83379 | AG232: -3.5740924 | AH232: 3868.1625 | AI232: 1862.6527 | AJ232: 4788.5442 | AK232: 10156.065 | AL232: 3151.1047 | AM232: -74703.002 | AN232: 113.153 | AO232: 564.49926 | AP232: 3873.9021 | AQ232: 2810.6381 | AR232: 1411.2802 | AS232: 581.74211 | AT232: 2029.3555 | AU232: 3458.4222 | AV232: 3102.0414 | AW232: 5485.9112 | AX232: 5105.566 | AY232: 1814.8238 | AZ232: 3296.263 | BA232: 15935.238 | BB232: 859.79172 | BC232: 4756.2301 | BD232: 2545.0528 | BE232: 4207.1099 | BF232: 20608.338 | BG232: 988.15858 | BH232: 1661.7642 | BI232: -74.942041 | BJ232: 24868.639 | BK232: 8553.1991 | BL232: 4124.1933 | BM232: 21087.509 | BN232: 8453.5996 | BO232: 2738.4448 | BP232: 1465.8264 | BQ232: 1155.803 | BR232: 478.05563 | BS232: 1497.2496 | BT232: 5079.5828 | BU232: 5064.6505 | BV232: 15919.928 | BW232: 6840.0088 | BX232: 7610.0533 | BY232: 27526.309 | BZ232: 9105.6256 | CA232: 4866.7947 | CB232: 11385.219 | CC232: 4515.7302 | CD232: 3510.5494 | CE232: 6514.2001 | CF232: 13207.618 | CG232: 3999.5636 | CH232: 7406.7131 | CI232: 68659.881 | CJ232: 25089.614 | CK232: 1862.1223 | CL232: 1623.6765 | CM232: 28694.347 | CN232: 27086.1 | CO232: 9768.3978 | CP232: 663.62726 | CQ232: 8136.9877 | CR232: -13501.638 | CS232: 4155.0211 | CT232: 34.438881 | CU232: 201.38675 | CV232: 0 | CW232: 299.45796 | CX232: 1354.8243 | CY232: 1259.6124 | CZ232: 190.3608 | DA232: 2999.4413 | DB232: 1049.6573 | DC232: 8104.0655 | DD232: 2702.8252 | DE232: 1554.7397 | DF232: 573.73359 | DG232: 283.98623 | DH232: 0 | DI232: 3060.803 | DJ232: 32.394608 | DK232: 324.2835 | DL232: 10745.903 | DM232: 33.878781 | DN232: 8982.245 | DO232: 505.31171 | DP232: 2869.2302 | DQ232: 0 | DR232: 96.577796 | DS232: -416.42393 | DT232: 106.63073 | DU232: 0 | DV232: 410.36338 | DW232: 0 | DX232: 263.05044 | DY232: -2425.9009 | DZ232: 538.13869 | EA232: 179.22544 | EB232: 630.96477 | EC232: 4238.609 | HR232: 297494.97 | HS232: 202000.91 | HT232: 0 | HV232: 1277424 | HW232: 136570.5 | HX232: 50121.339 | JG232: 2423673.3
B233: نفت و گاز | C233: 3c | HR233: 1872102 | HW233: 625.1496 | HX233: 7326.7256 | JG233: 1880053.8
B234: شركتهاي غيرمالي | C234: 3d | HR234: 4470798.4 | HU234: 4735.3975 | HV234: 1348.9175 | HW234: 760879.25 | HX234: 750960.81 | JG234: 5988722.8
B235: شركتهاي مالي | C235: 3e | HR235: 47814.812 | HT235: 482510.34 | HU235: 129202.4 | HV235: 31239.719 | HW235: 1090129.9 | HX235: 18869.242 | JE235: 70511.4 | JG235: 1870277.8
A236: توزيع ثانويه درآمد | B236: خانوار | C236: 4a | HT236: 8002298.7 | HY236: 54460.597 | HZ236: 744181.85 | IC236: 195574.4 | JE236: 33182.391 | JG236: 9029697.9
B237: دولت عمومي | C237: 4b | HU237: 2288715.8 | HY237: 1202166.4 | HZ237: 0 | IA237: 1333 | IB237: 303168.76 | IC237: 44756.878 | JG237: 3840140.9
B238: نفت و گاز | C238: 4c | HV238: 569750.75 | JG238: 569750.75
B239: شركتهاي غيرمالي | C239: 4d | HW239: 3637923.2 | IC239: 29854.315 | JG239: 3667777.5
B240: شركتهاي مالي | C240: 4e | HX240: 163418.78 | HY240: 228602.28 | HZ240: 14381.907 | IB240: 55976.11 | JG240: 462379.07
A241: مصرف درآمد | B241: خانوار | C241: 5a | HY241: 7533363.1 | JG241: 7533363.1
B242: دولت عمومي | C242: 5b | HZ242: 3080357.9 | JG242: 3080357.9
B243: نفت و گاز | C243: 5c | IA243: 568417.75 | JG243: 568417.75
B244: شركتهاي غيرمالي | C244: 5d | IB244: 3308632.6 | JG244: 3308632.6
B245: شركتهاي مالي | C245: 5e | IC245: 192193.48 | JG245: 192193.48
A246: سرمايه(تغيير در موجودي انبار) | B246: خانوار | C246: 6a | ID246: 458444.11 | II246: 307804.77 | IY246: 0 | IZ246: 0 | JA246: 378368.19 | JB246: 0 | JC246: 0 | JD246: 1274566.2 | JG246: 2419183.3
B247: دولت عمومي | C247: 6b | IE247: 806534.81 | II247: 1401.0753 | IY247: 0 | IZ247: 177447.94 | JA247: 126163.28 | JB247: 0 | JC247: 0 | JD247: 644899.58 | JG247: 1756446.7
B248: نفت و گاز | C248: 6c | IF248: 568417.75 | IY248: 0 | IZ248: -44243 | JA248: 322274 | JB248: 217059 | JC248: 0 | JD248: 227802 | JG248: 1291309.8
B249: شركتهاي غيرمالي | C249: 6d | IG249: 3308632.6 | II249: -2512809 | IJ249: 728634.28 | IK249: -58468.271 | IL249: -113445.56 | IM249: 368804.4 | IY249: 0 | IZ249: 98736.071 | JA249: 1401319.1 | JB249: 118231.27 | JC249: 0 | JD249: -982935.47 | JG249: 2356699.4
B250: شركتهاي مالي | C250: 6e | IH250: 192193.48 | IY250: 2302102.5 | IZ250: 1420.7698 | JA250: 50866.766 | JB250: 1097304.5 | JC250: 89621.37 | JD250: 189136.29 | JG250: 3922645.7
A251: تشکيل سرمايه ثابت ناخالص | B251: کشاورزي | C251: 1 | II251: 117194.07 | IJ251: 0 | IK251: 0 | IL251: 32640.69 | IM251: 0 | JG251: 149834.76
B252: نفت و گاز | C252: 2 | II252: 0 | IJ252: 0 | IK252: 33256.549 | IL252: 0 | IM252: 0 | JG252: 33256.549
B253: ساير معادن | C253: 3 | II253: 191.74815 | IJ253: 0 | IK253: 0 | IL253: 9837.0815 | IM253: 0 | JG253: 10028.83
B254: صنعت | C254: 4 | II254: 128047.99 | IJ254: 0 | IK254: 0 | IL254: 274052.64 | IM254: 0 | JG254: 402100.63
B255: برق،گاز و آب | C255: 5 | II255: 1440.3354 | IJ255: 0 | IK255: 0 | IL255: 110971.75 | IM255: 0 | JG255: 112412.09
B256: ساختمان | C256: 6 | II256: 7792.0251 | IJ256: 0 | IK256: 0 | IL256: 21818.536 | IM256: 0 | JG256: 29610.561
B257: حمل و نقل | C257: 7 | II257: 381845.79 | IJ257: 0 | IK257: 0 | IL257: 195411.21 | IM257: 0 | JG257: 577257
B258: ارتباطات | C258: 8 | II258: 2999.5604 | IJ258: 0 | IK258: 0 | IL258: 38681.608 | IM258: 0 | JG258: 41681.169
B259: مستغلات | C259: 9 | II259: 919221.89 | IJ259: 0 | IK259: 0 | IL259: 33629.763 | IM259: 0 | JG259: 952851.65
B260: ساير خدمات | C260: 10 | II260: 298684.2 | IJ260: 457999.86 | IK260: 0 | IL260: 382104.3 | IM260: 114522.48 | JG260: 1253310.8
A261: مالي | B261: طلاي پولي و حق برداشت مخصوص | C261: 1 | IL261: 0 | IM261: 9051.3807 | JF261: -6480.4996 | JG261: 2570.8811
B262: پول نقد و سپرده ها | C262: 2 | II262: 752330.51 | IJ262: -191028.46 | IK262: 57988.058 | IL262: 1116550.3 | IM262: 573941.01 | JF262: -36556.036 | JG262: 2273225.4
B263: اوراق بهادار بجز سهام | C263: 3 | II263: 10323.883 | IJ263: 0 | IK263: 0 | IL263: 51453.303 | IM263: 165309.49 | JF263: 0 | JG263: 227086.68
B264: وام ها | C264: 4 | II264: 0 | IJ264: 345576.62 | IK264: -6 | IL264: 313963.7 | IM264: 1916360.9 | JF264: -225991.95 | JG264: 2349903.2
B265: سهام و داراييهاي مشابه | C265: 5 | II265: 888205.35 | IJ265: 461371.11 | IK265: 16153 | IL265: -130846.58 | IM265: 209432.42 | JF265: 168.73195 | JG265: 1444484
B266: خالص دارايي خانوارها از ذخاير بيمه عمر و صندوق هاي بازنشستگي | C266: 6 | II266: 65238.257 | IJ266: 2487.3972 | IK266: 0 | IL266: 8127.3952 | IM266: 13768.321 | JF266: 0 | JG266: 89621.37
B267: ساير حسابهاي دريافتني/پرداختني | C267: 7 | II267: 73705.809 | IJ267: -52686.795 | IK267: 1203322.2 | IL267: -598001.54 | IM267: 551455.35 | JF267: -75109.693 | JG267: 1102685.4
A268: دنياي خارج | B268: جاري | C268: 1 | D268: 13698.503 | E268: 45643.72 | F268: 62522.087 | G268: 3550.3529 | H268: 23919.759 | I268: 45037.714 | J268: 42.724249 | K268: 3463.3778 | L268: 8184.1489 | M268: 1231.5092 | N268: 15217.569 | O268: 1846.666 | P268: 334.14449 | Q268: 0 | R268: 82.784533 | S268: 532.22262 | T268: 87.237002 | U268: 165.33606 | V268: 289.39223 | W268: 1930.9091 | X268: 0 | Y268: 0 | Z268: 1755.9798 | AA268: 140.54598 | AB268: 0.206157 | AC268: 108.5489 | AD268: 2016.5708 | AE268: 4431.288 | AF268: 18462.384 | AG268: 0 | AH268: 14168.15 | AI268: 6313.5085 | AJ268: 3598.1637 | AK268: 55465.024 | AL268: 11988.295 | AM268: 157.0285 | AN268: 985.8711 | AO268: 1976.8024 | AP268: 4343.9757 | AQ268: 11631.864 | AR268: 23551.196 | AS268: 27.529228 | AT268: 20195.309 | AU268: 12963.363 | AV268: 4516.9127 | AW268: 20459.573 | AX268: 37590.568 | AY268: 176.4107 | AZ268: 11700.595 | BA268: 167938.17 | BB268: 398.99881 | BC268: 21652.34 | BD268: 24263.202 | BE268: 40478.657 | BF268: 56664.474 | BG268: 0 | BH268: 5649.0661 | BI268: 0 | BJ268: 0 | BK268: 4716.8359 | BL268: 103395.42 | BM268: 154767.71 | BN268: 37301.722 | BO268: 5215.8586 | BP268: 2998.8835 | BQ268: 3611.2457 | BR268: 183.56495 | BS268: 4223.7334 | BT268: 1796.2911 | BU268: 58168.107 | BV268: 139517.93 | BW268: 2875.1762 | BX268: 22267.577 | BY268: 137705.06 | BZ268: 58832.923 | CA268: 153235.37 | CB268: 51861.726 | CC268: 46311.085 | CD268: 15909.388 | CE268: 33326.7 | CF268: 91071.437 | CG268: 46265.369 | CH268: 54123.092 | CI268: 78250.085 | CJ268: 111935.01 | CK268: 25318.827 | CL268: 5647.7849 | CM268: 0 | CN268: 0 | CO268: 0 | CP268: 40411.64 | CQ268: 82117.916 | CR268: 2762.5637 | CS268: 4199.0092 | CT268: 932.57631 | CU268: 0 | CV268: 0 | CW268: 36905.806 | CX268: 77971.444 | CY268: 29179.341 | CZ268: 115.08453 | DA268: 13674.668 | DB268: 1248.7516 | DC268: 0 | DD268: 0 | DE268: 0 | DF268: 0 | DG268: 4558.2228 | DH268: 419.60481 | DI268: 14092.855 | DJ268: 0 | DK268: 5247.3708 | DL268: 4555.3317 | DM268: 942.03271 | DN268: 29014.918 | DO268: 12983.355 | DP268: 14890.194 | DQ268: 0 | DR268: 0 | DS268: 0 | DT268: 0 | DU268: 0 | DV268: 5968.5727 | DW268: 0 | DX268: 0 | DY268: 6974.6925 | DZ268: 0 | EA268: 0 | EB268: 5962.608 | EC268: 3042.4957 | HO268: 16695.308 | HW268: 30312.227 | HX268: 21930.175 | HY268: 11105.584 | HZ268: 1219.2 | JG268: 2743818.2
...

Sheet ماتریس اصلی با دهکها
D1: ماتريس حسابداري اجتماعي اقتصاد ايران - سال 1395 (ارقام به ميليارد ريال)
A3: ماتریس حسابداری اجتماعی مالی اقتصاد ايران سال 1395 به تفکیک دهک به قیمت جاری (میلیارد ریال) | C3: عنوان | D3: کالاها و خدمات | ED3: توليد | HO3: ايجاد درآمد | HT3: تخصيص درآمد اوليه | HY3: توزيع ثانويه درآمد | ID3: مصرف درآمد | JC3: سرمايه (تغيير در موجودي انبار) | JH3: سرمايه (تشكيل سرمايه ثابت ناخالص) | JR3: مالي | JY3: دنياي خارج | KA3: جمع
HO4: درآمد نيروي كار | HQ4: درآمد مختلط | HR4: مازاد عملياتي | HS4: خالص ساير مالياتهاي بر توليد | HT4: خانوار | HU4: دولت عمومي | HV4: نفت و گاز | HW4: شركتهاي غيرمالي | HX4: شركتهاي مالي | HY4: خانوار | HZ4: دولت عمومي | IA4: نفت و گاز | IB4: شركتهاي غيرمالي | IC4: شرکتهاي مالي | ID4: خانوار شهری | IN4: خانوار روستایی | IX4: موسسات غیر انتفاعی در خدمت خانوار | IY4: دولت عمومي | IZ4: نفت و گاز | JA4: شركتهاي غيرمالي | JB4: شركتهاي مالي | JC4: خانوار | JD4: دولت عمومي | JE4: نفت و گاز | JF4: شركتهاي غيرمالي | JG4: شركتهاي مالي | JR4: طلاي پولي و حق برداشت مخصوص | JS4: پول نقد و سپرده ها | JT4: اوراق بهادار بجز سهام | JU4: وام ها | JV4: سهام و داراييهاي مشابه | JW4: خالص دارايي خانوارها از ذخاير بيمه عمر و صندوق هاي بازنشستگي | JX4: ساير حسابهاي دريافتني / پرداختني | JY4: جاري | JZ4: سرمايه
D5: گندم | E5: شلتوک و برنج | F5: ساير غلات و حبوبات | G5: سبزیجات | H5: انواع ميوه ها | I5: دانه هاي روغني | J5: ریشه ها و غده های خوراکی حاوی مقدار زیادی نشاسنه | K5: محصولات نوشیدنی، معطر و ادويه ای | L5: حبوبات خشک | M5: چغندر قند ونيشكر | N5: مواد خام گياهي | O5: گاو و گوسفند (گوشت قرمز) | P5: مرغ و ماکیان (گوشت سفید) و سایر حیوانات زنده | Q5: شیر دامها و سایر انواع شیرهای طبقه بندی نشده در جای دیگر | R5: انواع تخم حیوانات | S5: سایر محصولات دامی | T5: چوبهاي جنگلي و غير جنگلي | U5: ساير محصولات جنگلداري و قطع اشجار | V5: ماهي و سايرفرآورده های دریایی | W5: زغال سنگ و لینیت | X5: نفت خام | Y5: گاز طبیعی | Z5: سنگهاي فلزي ؛ مس ؛ آلومينيم ونيكل | AA5: سنگهاي تزئینی و ساختماني و مجسمه سازي | AB5: سنگ گچ و آهك | AC5: شن، ماسه، ريگ؛ خاك رس | AD5: ساير محصولات معدني (سایر کانی ها) | AE5: برق | AF5: گاز تصفيه و توزيع شده | AG5: آب | AH5: انواع گوشت و فراورده هاي گوشتي | AI5: ماهي و فراورده هاي حاصل از آبزيان | AJ5: سبزي ها و ميوه‌هاي آماده شده و حفاظت شده از فساد و آب آنها | AK5: روغن ها و چربي هاي حيواني و گياهي | AL5: لبنيات و محصولات لبني | AM5: انواع آرد و ساير محصولات از دانه هاي آسياب شده | AN5: انواع نشاسته و محصولات نشاسته اي | AO5: خوراك دام و طيور | AP5: انواع نان و ساير محصولات نانوايي و شیرینی پزی | AQ5: قند و شكر | AR5: كاكائو ؛ شكلات وساير شيريني ها | AS5: انواع ماكاروني و ساير فراورده هاي مشابه حاصل از آرد | AT5: چای و قهوه | AU5: ادویه و ساير محصولات غذايي | AV5: انواع نوشیدنی ها | AW5: انواع سيگار و ساير محصولات از توتون و تنباکو | AX5: انواع نخ و پارچه نساجي بافته شده | AY5: انواع فرش و سایر کفپوش ها | AZ5: انواع منسوجات به جز پوشاک و کف پوش ها | BA5: انواع پوشاك و كالاها از پوست خزدار | BB5: چرم ومحصولات چرمي به جز کفش | BC5: انواع کفش | BD5: محصولات چوبي | BE5: انواع كاغذ و محصولات كاغذي ، محصولات چاپي و اقلام مربوطه | BF5: بنزین | BG5: نفت سفيد | BH5: گازوييل (نفت گاز) | BI5: نفت كوره (نفت سیاه) | BJ5: گازهاي مايع (بوتان، پروپان، ...) | BK5: سایر فرآورده های نفتی (کک و نیمه کک و روغنهای سوختی) | BL5: محصولات شيميايي اساسي | BM5: ساير محصولات شيميايي؛ الياف نیمه مصنوعي | BN5: محصولات از لاستيك وپلاستيك | BO5: شيشه و محصولا ت شيشه اي | BP5: محصولات سراميكي غیر سازه ای | BQ5: محصولات نسوز و غیر نسوز سازه ای (انواع آجر ، بلوک و کاشي) | BR5: گچ، آهک و سيمان | BS5: ساير محصولات معدنی غيرفلزي | BT5: انواع مبلمان | BU5: ساير مصنوعات طبقه بندي نشده | BV5: فلزات اساسي | BW5: محصولات فلزي سازه اي، انواع مخزن و منبع فلزي و ژنراتورهای بخار و قطعات مربوط به آنها | BX5: ساير محصولات صنعتی فلزي ساخته شده | BY5: انواع ماشين آلات با کاربرد عام | BZ5: انواع ماشين آلات کشاورزي، ماشین ابزار، متالژی (ذوب فلز) و معدن کاری و قطعات آنها | CA5: انواع ماشين آلات فرآوری مواد غذايي ، توليد منسوجات و نظامي و قطعات آنها | CB5: انواع لوازم خانگي وسايرماشين آلات باکاربردخاص وقطعات آنها | CC5: ماشين آلات دفتري ، حسابداري و محاسباتي | CD5: موتورهاي الکتريکي ، ژنراتورها و ترانسفورماتورها و قطعات آنها | CE5: ساير ماشين آلات و تجهیزات صنعت برق | CF5: لوازم و دستگاههای رادیویی، تلویزیونی و ارتباطی | CG5: تجهیزات پزشکی و جراحی و تجهیزات ارتوپدی | CH5: انواع وسايل اندازه گيري ، ابزار اپتيکي ، ابزار دقيق و انواع ساعت | CI5: انواع وسيله نقليه موتوري (خودرو) ، تريلر و نيم تريلر؛ انواع کانتینر | CJ5: اجزاء و قطعات و لوازم الحاقي به وسايل نقليه موتوري | CK5: وسايل نقليه آبي،ريلي ،هوايي و قطعات آنها | CL5: ساير تجهيزات حمل و نقل و قطعات مربوط به آنها | CM5: ساختمان مسكوني | CN5: ساختمان غیر مسکونی و سازه های عمرانی و خدمات ساختمانی | CO5: خدمات عمده فروشي و خرده فروشی و حق العمل‌کاري | CP5: خدمات ارائه جا به مسافران (هتل ها و سایر اقامتگاهها) | CQ5: خدمات ارائه غذا و نوشیدنی (رستوران ها و محل های صرف غذا و نوشیدنی) | CR5: خدمات حمل و نقل جاده ای مسافر | CS5: خدمات حمل و نقل جاده ای بار | CT5: خدمات حمل و نقل ریلی مسافر | CU5: خدمات حمل و نقل ریلی بار | CV5: خدمات انتقال از طریق خط لوله | CW5: خدمات حمل و نقل دریایی | CX5: خدمات حمل و نقل هوایی و فضایی | CY5: خدمات پشتيبانی حمل و نقل (جابجایی بار، انبارداری، پایانه، پارکینگ و یدک کش) | CZ5: خدمات پست و پیک | DA5: خدمات مالی، بانکداری سرمایه گذاری و خدمات جانبی به غیر از بیمه و حقوق بازنشستگی | DB5: خدمات بيمه و مستمری، بیمه اتکایی، خدمات جانبی بیمه و مقرری بازنشستگی به جز تامين اجتماعی اجباری | DC5: خدمات اجاره واحدهاي مسكوني شخصي | DD5: خدمات واحدهاي مسكوني اجاري | DE5: خدمات واحدهاي غير مسكوني اجاري | DF5: خدمات معاملات ملکی (مستغلات) | DG5: خدمات كرايه ماشين آلات و تجهيزات بدون متصدی و كالاهای شخصی و خانگي | DH5: خدمات تحقیق و توسعه | DI5: خدمات مشاوره حقوقی و حسابداری، سایر خدمات تخصصی و فنی | DJ5: خدمات دامپزشکی | DK5: خدمات تبلیغات و بازاریابی | DL5: خدمات مخابراتی و اینترنتی | DM5: خدمات محتوای آنلاین، خبرگزاری ها، کتابخانه ها، پخش برنامه های رادیو تلویزیون | DN5: خدمات سرویس و تعمیر و نصب، نظافت و سایر خدمات پشتیبانی، تولیدی و انتشاراتی | DO5: خدمات اداری دولت (امور عمومی) | DP5: خدمات دفاعی و انتظامي (خدمات دفاعی دولت به کل جامعه) | DQ5: خدمات تامين اجتماعی اجباری | DR5: خدمات آموزش پیش دبستانی، ابتدایی خصوصی | DS5: خدمات آموزش پیش دبستانی، ابتدایی دولتی | DT5: خدمات آموزش متوسطه خصوصی | DU5: خدمات آموزش متوسط دولتی | DV5: خدمات آموزش عالی خصوصی | DW5: خدمات آموزش عالی دولتی | DX5: خدمات آموزش دوره های آمادگی، سایر خدمات آموزشی و پشتیبانی آموزشی | DY5: خدمات بهداشت، سلامت و مراقبت اجتماعی | DZ5: خدمات انتقال و تصفیه فاضلاب و دفع پسماند و تخلیه چاه | EA5: خدمات سازمان های عضویتی و مذهبی و سیاسی | EB5: خدمات تفريحی ، فرهنگی ، ورزشی | EC5: سایر خدمات شخصی خانگی و نهادهای برون مرزی | ED5: کاشت محصولات (زراعت و باغداري) | EE5: پرورش حيوانات | EF5: جنگلداری و بریدن درختان | EG5: ماهيگيری و آبزی پروری | EH5: استخراج نفت خام و گاز طبیعی | EI5: استخراج زغال سنگ و زغال قهوه ای | EJ5: استخراج کانه های فلزی | EK5: استخراج ساير معادن | EL5: فرآوری و نگهداری گوشت، ماهی، میوه و سبزیجات | EM5: توليد روغنها و چربيهاي گياهي و حيواني | EN5: توليد فراورده هاي لبني، آسياب غلات (دانه آسياب شده)، نشاسته و فراورده های نشاسته ای هاي نشاستهاي | EO5: تولید سایر فرآورده های غذایی و غذای آماده برای حیوانات | EP5: توليد انواع آشامیدنی ها | EQ5: توليد فرآورده های توتون و تنباکو (سیگار) | ER5: توليد منسوجات | ES5: توليد قالي و قاليچه | ET5: توليد پوشاک | EU5: توليدچرم و فرآورده های وابسته بجز کفش | EV5: تولید کفش و پاپوش | EW5: توليد چوب و فراورده هاي چوب و چوب پنبه، به جز مبلمان؛ توليد كالاها از حصير و مواد حصيربافي | EX5: توليدکاغذ و فرآورده های کاغذی | EY5: چاپ و تکثیر رسانه های ضبط شده | EZ5: توليد فراورده های نفتی (پالايشگاه ها) | FA5: توليد ساير فرآورده های حاصل از تصفيه نفت (غیر پالایشگاه ها) | FB5: توليد مواد شیمیایی و فرآورده های شیمیایی | FC5: توليد داروها و فرآورده های دارویی شیمیایی و گیاهی | FD5: توليد فرآورده های لاستیکی و پلاستیکی | FE5: توليد شيشه و محصولات شيشه اي | FF5: توليد محصولات کاني غير فلزي طبقه بندي نشده در جاي ديگر | FG5: توليد آهن و فولاد پايه | FH5: تولید محصولات اساسی مس و آلومنيوم | FI5: تولید سایر فلزات اساسی و ریخته گری | FJ5: توليد محصولات فلزی ساخته شده، به جز ماشین آلات و تجهیزات | FK5: تولید محصولات رایانه ای، الکترونیکی و نوری | FL5: توليد تجهیزات برقی | FM5: تولید ماشین آلات و تجهیزات طبقه بندی نشده در جای دیگر | FN5: تولید وسایل نقلیه موتوری، تریلر و نیم تریلر | FO5: تولید سایر تجهیزات حمل و نقل | FP5: تولید مبلمان | FQ5: تولید سایر مصنوعات | FR5: تعمیر و نصب ماشین آلات و تجهیزات | FS5: تولید، انتقال و توزیع برق | FT5: توليد گاز؛ توزيع سوختهاي گازي از طريق شاه لوله | FU5: جمع آوری، تصفیه و تامین آب | FV5: فاضلاب، فعالیت های جمع آوری، تصفیه و دفع پسماند؛ بازیافت مواد | FW5: ساختمان خصوصی | FX5: ساختمان دولتی | FY5: فروش، نگهداری و تعمیر وسایل نقلیه موتوری و موتور سیکلت | FZ5: عمده فروشی و خرده فروشی | GA5: حمل و نقل ریلی مسافر | GB5: حمل و نقل ریلی بار | GC5: حمل و نقل جاده ای مسافر | GD5: حمل و نقل جاده ای بار | GE5: حمل و نقل از طریق خطوط لوله | GF5: حمل و نقل آبی | GG5: حمل و نقل هوایی | GH5: انبارداری و ذخیره سازی | GI5: فعالیت های پشتیبانی حمل و نقل | GJ5: فعالیت های پست و پیک | GK5: فعالیت های خدماتی مربوط به تامین جا (هتل ) | GL5: فعالیت های خدماتی مربوط به غذا و آشامیدنی (رستوران ) | GM5: مخابرات | GN5: سایر فعالیت های اطلاعات و ارتباطات | GO5: فعالیت های خدمات مالی، بجز تامین وجوه بیمه و بازنشستگی | GP5: بیمه، بیمه اتکایی و تامین وجوه بازنشستگی بجز تامین اجتماعی اجباري | GQ5: فعالیت های جنبی خدمات مالی و فعالیت های بیمه | GR5: خدمات واحدهاي مسكوني شخصي | GS5: خدمات واحدهاي مسكوني اجاري | GT5: خدمات واحدهاي غير مسكوني | GU5: خدمات دلالان املاك و مستغلات | GV5: تحقیق و توسعه علمی | GW5: فعالیت های حقوقی و مهندسی | GX5: فعالیت دامپزشکی | GY5: فعالیت اجاره داری | GZ5: سایر فعالیت های پشتیبانی | HA5: اداره امور عمومی | HB5: خدمات شهري | HC5: دفاع و امنیت | HD5: فعالیت های تامين اجتماعی اجباری | HE5: آموزش زير ديپلم (پيش دبستان، ابتدايي و متوسطه) دولتي | HF5: آموزش زير ديپلم (پيش دبستان، ابتدايي و متوسطه) خصوصي | HG5: آموزش عالي دولتي | HH5: آموزش عالي خصوصي | HI5: ساير آموزش ها | HJ5: بهداشت عمومي | HK5: بهداشت خصوصي | HL5: مددکاري اجتماعي | HM5: فعاليت های سرگرمی، فرهنگی، تفريحی و ورزشی | HN5: ساير فعاليت های خدماتی و شخصی خانگی | HO5: مقيم داخل | HP5: مقيم خارج | ID5: دهک اول | IE5: دهک دوم | IF5: دهک سوم | IG5: دهک چهارم | IH5: دهک پنجم | II5: دهک ششم | IJ5: دهک هفتم | IK5: دهک هشتم | IL5: دهک نهم | IM5: دهک دهم | IN5: دهک اول | IO5: دهک دوم | IP5: دهک سوم | IQ5: دهک چهارم | IR5: دهک پنجم | IS5: دهک ششم | IT5: دهک هفتم | IU5: دهک هشتم | IV5: دهک نهم | IW5: دهک دهم | JH5: کشاورزي | JI5: نفت و گاز | JJ5: ساير معادن | JK5: صنعت | JL5: برق،گاز و آب | JM5: ساختمان | JN5: حمل و نقل | JO5: ارتباطات | JP5: مستغلات | JQ5: ساير خدمات
A6: عنوان | C6: كد | D6: 1 | E6: 2 | F6: 3 | G6: 4 | H6: 5 | I6: 6 | J6: 7 | K6: 8 | L6: 9 | M6: 10 | N6: 11 | O6: 12 | P6: 13 | Q6: 14 | R6: 15 | S6: 16 | T6: 17 | U6: 18 | V6: 19 | W6: 20 | X6: 21 | Y6: 22 | Z6: 23 | AA6: 24 | AB6: 25 | AC6: 26 | AD6: 27 | AE6: 28 | AF6: 29 | AG6: 30 | AH6: 31 | AI6: 32 | AJ6: 33 | AK6: 34 | AL6: 35 | AM6: 36 | AN6: 37 | AO6: 38 | AP6: 39 | AQ6: 40 | AR6: 41 | AS6: 42 | AT6: 43 | AU6: 44 | AV6: 45 | AW6: 46 | AX6: 47 | AY6: 48 | AZ6: 49 | BA6: 50 | BB6: 51 | BC6: 52 | BD6: 53 | BE6: 54 | BF6: 55 | BG6: 56 | BH6: 57 | BI6: 58 | BJ6: 59 | BK6: 60 | BL6: 61 | BM6: 62 | BN6: 63 | BO6: 64 | BP6: 65 | BQ6: 66 | BR6: 67 | BS6: 68 | BT6: 69 | BU6: 70 | BV6: 71 | BW6: 72 | BX6: 73 | BY6: 74 | BZ6: 75 | CA6: 76 | CB6: 77 | CC6: 78 | CD6: 79 | CE6: 80 | CF6: 81 | CG6: 82 | CH6: 83 | CI6: 84 | CJ6: 85 | CK6: 86 | CL6: 87 | CM6: 88 | CN6: 89 | CO6: 90 | CP6: 91 | CQ6: 92 | CR6: 93 | CS6: 94 | CT6: 95 | CU6: 96 | CV6: 97 | CW6: 98 | CX6: 99 | CY6: 100 | CZ6: 101 | DA6: 102 | DB6: 103 | DC6: 104 | DD6: 105 | DE6: 106 | DF6: 107 | DG6: 108 | DH6: 109 | DI6: 110 | DJ6: 111 | DK6: 112 | DL6: 113 | DM6: 114 | DN6: 115 | DO6: 116 | DP6: 117 | DQ6: 118 | DR6: 119 | DS6: 120 | DT6: 121 | DU6: 122 | DV6: 123 | DW6: 124 | DX6: 125 | DY6: 126 | DZ6: 127 | EA6: 128 | EB6: 129 | EC6: 130 | ED6: 1 | EE6: 2 | EF6: 3 | EG6: 4 | EH6: 5 | EI6: 6 | EJ6: 7 | EK6: 8 | EL6: 9 | EM6: 10 | EN6: 11 | EO6: 12 | EP6: 13 | EQ6: 14 | ER6: 15 | ES6: 16 | ET6: 17 | EU6: 18 | EV6: 19 | EW6: 20 | EX6: 21 | EY6: 22 | EZ6: 23 | FA6: 24 | FB6: 25 | FC6: 26 | FD6: 27 | FE6: 28 | FF6: 29 | FG6: 30 | FH6: 31 | FI6: 32 | FJ6: 33 | FK6: 34 | FL6: 35 | FM6: 36 | FN6: 37 | FO6: 38 | FP6: 39 | FQ6: 40 | FR6: 41 | FS6: 42 | FT6: 43 | FU6: 44 | FV6: 45 | FW6: 46 | FX6: 47 | FY6: 48 | FZ6: 49 | GA6: 50 | GB6: 51 | GC6: 52 | GD6: 53 | GE6: 54 | GF6: 55 | GG6: 56 | GH6: 57 | GI6: 58 | GJ6: 59 | GK6: 60 | GL6: 61 | GM6: 62 | GN6: 63 | GO6: 64 | GP6: 65 | GQ6: 66 | GR6: 67 | GS6: 68 | GT6: 69 | GU6: 70 | GV6: 71 | GW6: 72 | GX6: 73 | GY6: 74 | GZ6: 75 | HA6: 76 | HB6: 77 | HC6: 78 | HD6: 79 | HE6: 80 | HF6: 81 | HG6: 82 | HH6: 83 | HI6: 84 | HJ6: 85 | HK6: 86 | HL6: 87 | HM6: 88 | HN6: 89 | HO6: 2a | HP6: 2b | HQ6: 2c | HR6: 2d | HS6: 2e | HT6: 3a | HU6: 3b | HV6: 3c | HW6: 3d | HX6: 3e | HY6: 4a | HZ6: 4b | IA6: 4c | IB6: 4d | IC6: 4e | IY6: 5b | IZ6: 5c | JA6: 5d | JB6: 5e | JC6: 6a | JD6: 6b | JE6: 6c | JF6: 6d | JG6: 6e | JH6: 1 | JI6: 2 | JJ6: 3 | JK6: 4 | JL6: 5 | JM6: 6 | JN6: 7 | JO6: 8 | JP6: 9 | JQ6: 10 | JR6: 1 | JS6: 2 | JT6: 3 | JU6: 4 | JV6: 5 | JW6: 6 | JX6: 7
A7: کالاها و خدمات | B7: گندم | C7: 1 | ED7: 23176.612 | EE7: 24424.242 | EF7: 0 | EG7: 294.01088 | EH7: 0 | EI7: 0 | EJ7: 0 | EK7: 0 | EL7: 0 | EM7: 0 | EN7: 76403.776 | EO7: 0 | EP7: 0 | EQ7: 0 | ER7: 0 | ES7: 0 | ET7: 0 | EU7: 0 | EV7: 0 | EW7: 0 | EX7: 0 | EY7: 0 | EZ7: 0 | FA7: 0 | FB7: 0 | FC7: 0 | FD7: 0 | FE7: 0 | FF7: 0 | FG7: 0 | FH7: 0 | FI7: 0 | FJ7: 0 | FK7: 0 | FL7: 0 | FM7: 0 | FN7: 0 | FO7: 0 | FP7: 0 | FQ7: 0 | FR7: 0 | FS7: 0 | FT7: 0 | FU7: 0 | FV7: 0 | FW7: 0 | FX7: 0 | FY7: 0 | FZ7: 0 | GA7: 0 | GB7: 0 | GC7: 0 | GD7: 0 | GE7: 0 | GF7: 0 | GG7: 0 | GH7: 0 | GI7: 0 | GJ7: 0 | GK7: 0 | GL7: 0 | GM7: 0 | GN7: 0 | GO7: 0 | GP7: 0 | GQ7: 0 | GR7: 0 | GS7: 0 | GT7: 0 | GU7: 0 | GV7: 0 | GW7: 0 | GX7: 0 | GY7: 0 | GZ7: 0 | HA7: 0 | HB7: 0 | HC7: 0 | HD7: 0 | HE7: 0 | HF7: 0 | HG7: 0 | HH7: 0 | HI7: 0 | HJ7: 0 | HK7: 0 | HL7: 0 | HM7: 0 | HN7: 0 | ID7: 6.3382379 | IE7: 13.547573 | IF7: 7.3279573 | IG7: 6.7536826 | IH7: 6.3044515 | II7: 5.0229191 | IJ7: 5.4853823 | IK7: 48.648612 | IL7: 7.2194538 | IM7: 77.605158 | IN7: 0.47292708 | IO7: 25.141638 | IP7: 22.301322 | IQ7: 33.245062 | IR7: 17.153637 | IS7: 24.651735 | IT7: 16.693117 | IU7: 42.35014 | IV7: 90.87716 | IW7: 543.8017 | IX7: 0 | IY7: 0 | JC7: 69689.648 | JD7: 0 | JE7: 0 | JF7: 19409.841 | JG7: 0 | JH7: 0 | JI7: 0 | JJ7: 0 | JK7: 0 | JL7: 0 | JM7: 0 | JN7: 0 | JO7: 0 | JP7: 0 | JQ7: 0 | JY7: 0.53912669 | KA7: 214399.61
B8: شلتوک و برنج | C8: 2 | ED8: 4692.6783 | EE8: 5587.5358 | EF8: 4.1416521 | EG8: 307.58668 | EH8: 881.71607 | EI8: 10.153336 | EJ8: 61.84016 | EK8: 76.173556 | EL8: 40.854526 | EM8: 8.9321174 | EN8: 44.485854 | EO8: 72.300546 | EP8: 18.750712 | EQ8: 1.1974715 | ER8: 16.733226 | ES8: 6.2658494 | ET8: 5.9323522 | EU8: 5.580291 | EV8: 0.021260247 | EW8: 25.720729 | EX8: 24.111738 | EY8: 19.337981 | EZ8: 217.37164 | FA8: 217.8913 | FB8: 162.19271 | FC8: 48.253215 | FD8: 63.981422 | FE8: 28.511842 | FF8: 166.01994 | FG8: 194.07919 | FH8: 34.480939 | FI8: 4.3076722 | FJ8: 165.45452 | FK8: 2.5090179 | FL8: 28.302861 | FM8: 40.237799 | FN8: 259.43911 | FO8: 9.8836848 | FP8: 39.82658 | FQ8: 9.8962936 | FR8: 10.983005 | FS8: 0 | FT8: 456.06888 | FU8: 71.320973 | FV8: 0 | FW8: 344.11523 | FX8: 557.04884 | FY8: 8.8636577 | FZ8: 76.658168 | GA8: 1.1815001 | GB8: 48.39146 | GC8: 122.25043 | GD8: 1.7579665 | GE8: 4.360213 | GF8: 50.197763 | GG8: 2.2794474 | GH8: 5.026103 | GI8: 55.503016 | GJ8: 0 | GK8: 549.05628 | GL8: 12567.444 | GM8: 17.365347 | GN8: 9.4752069 | GO8: 115.43272 | GP8: 28.857126 | GQ8: 0 | GR8: 0 | GS8: 0 | GT8: 0 | GU8: 0 | GV8: 25.976823 | GW8: 6.6030382 | GX8: 0 | GY8: 0.48150038 | GZ8: 1.1104903 | HA8: 80.129942 | HB8: 0 | HC8: 1364.6344 | HD8: 66.642129 | HE8: 0 | HF8: 0 | HG8: 1165.1633 | HH8: 345.56779 | HI8: 64.697865 | HJ8: 1805.3396 | HK8: 673.58937 | HL8: 118.05757 | HM8: 2.3307356 | HN8: 8.9599751 | ID8: 5469.2819 | IE8: 9194.7871 | IF8: 9661.5777 | IG8: 10795.167 | IH8: 12073.552 | II8: 14038.141 | IJ8: 14720.35 | IK8: 19363.057 | IL8: 23548.081 | IM8: 29065.348 | IN8: 1005.9794 | IO8: 2247.1753 | IP8: 2146.7095 | IQ8: 2698.5298 | IR8: 2847.7603 | IS8: 3331.3695 | IT8: 3611.3192 | IU8: 4334.6566 | IV8: 5410.8691 | IW8: 10602.481 | IX8: 0 | IY8: 0 | JC8: 2034.2945 | JD8: 0 | JE8: 0 | JF8: 566.58818 | JG8: 0 | JH8: 0 | JI8: 0 | JJ8: 0 | JK8: 0 | JL8: 0 | JM8: 0 | JN8: 0 | JO8: 0 | JP8: 0 | JQ8: 0 | JY8: 263.90312 | KA8: 223468.59
B9: ساير غلات و حبوبات | C9: 3 | ED9: 3176.7012 | EE9: 23029.632 | EF9: 0.62448009 | EG9: 145.2876 | EH9: 0 | EI9: 0 | EJ9: 0 | EK9: 0 | EL9: 0 | EM9: 0 | EN9: 0 | EO9: 22967.234 | EP9: 0 | EQ9: 0 | ER9: 0 | ES9: 0 | ET9: 0 | EU9: 0 | EV9: 0 | EW9: 0 | EX9: 0 | EY9: 0 | EZ9: 0 | FA9: 0 | FB9: 0 | FC9: 0 | FD9: 0 | FE9: 0 | FF9: 0 | FG9: 0 | FH9: 0 | FI9: 0 | FJ9: 0 | FK9: 0 | FL9: 0 | FM9: 0 | FN9: 0 | FO9: 0 | FP9: 0 | FQ9: 0 | FR9: 0 | FS9: 0 | FT9: 0 | FU9: 0 | FV9: 0 | FW9: 0 | FX9: 0 | FY9: 0 | FZ9: 0 | GA9: 0 | GB9: 0 | GC9: 0 | GD9: 0 | GE9: 0 | GF9: 0 | GG9: 0 | GH9: 0 | GI9: 0 | GJ9: 0 | GK9: 0 | GL9: 0 | GM9: 0 | GN9: 0 | GO9: 0 | GP9: 0 | GQ9: 0 | GR9: 0 | GS9: 0 | GT9: 0 | GU9: 0 | GV9: 0 | GW9: 0.94130043 | GX9: 0 | GY9: 0.068640602 | GZ9: 0 | HA9: 24.082257 | HB9: 4.981644 | HC9: 37.576153 | HD9: 0 | HE9: 0 | HF9: 0 | HG9: 0 | HH9: 60.909116 | HI9: 0 | HJ9: 91.026385 | HK9: 0 | HL9: 0 | HM9: 0 | HN9: 0 | ID9: 43.037806 | IE9: 20.172831 | IF9: 20.981716 | IG9: 14.55668 | IH9: 27.22087 | II9: 34.641315 | IJ9: 39.76114 | IK9: 53.026077 | IL9: 61.600874 | IM9: 38.959694 | IN9: 1.7070744 | IO9: 3.0075914 | IP9: 2.4187602 | IQ9: 7.3262702 | IR9: 10.927401 | IS9: 22.437493 | IT9: 16.601233 | IU9: 12.065206 | IV9: 16.126948 | IW9: 100.84365 | IX9: 0 | IY9: 0 | JC9: 57254.453 | JD9: 0 | JE9: 0 | JF9: 15946.411 | JG9: 0 | JH9: 0 | JI9: 0 | JJ9: 0 | JK9: 0 | JL9: 0 | JM9: 0 | JN9: 0 | JO9: 0 | JP9: 0 | JQ9: 0 | JY9: 0.91906636 | KA9: 123288.27
B10: سبزیجات | C10: 4 | ED10: 794.17531 | EE10: 885.75506 | EF10: 1.7173202 | EG10: 399.54089 | EH10: 125.69361 | EI10: 1.4474154 | EJ10: 8.8156644 | EK10: 10.858971 | EL10: 6768.0113 | EM10: 1.2733238 | EN10: 663.04188 | EO10: 3898.0709 | EP10: 2.67302 | EQ10: 0.17070634 | ER10: 2.385416 | ES10: 0.89323226 | ET10: 0.84569035 | EU10: 0.79550203 | EV10: 0.0030307685 | EW10: 3.6666354 | EX10: 3.4372646 | EY10: 2.7567385 | EZ10: 30.987556 | FA10: 31.061637 | FB10: 23.121488 | FC10: 6.8787687 | FD10: 9.1209134 | FE10: 4.0645244 | FF10: 23.667081 | FG10: 27.667086 | FH10: 4.9154528 | FI10: 0.61408303 | FJ10: 23.586477 | FK10: 0.35767469 | FL10: 4.0347328 | FM10: 5.7361258 | FN10: 36.984511 | FO10: 1.4089752 | FP10: 5.6775042 | FQ10: 1.4107726 | FR10: 1.5656895 | FS10: 0 | FT10: 65.015198 | FU10: 10.167208 | FV10: 0 | FW10: 51.365122 | FX10: 83.568297 | FY10: 1.2635645 | FZ10: 10.928055 | GA10: 0.16842952 | GB10: 6.8984762 | GC10: 17.427489 | GD10: 0.25060807 | GE10: 0.62157302 | GF10: 7.1559749 | GG10: 0.32494811 | GH10: 0.7164994 | GI10: 7.9122688 | GJ10: 0 | GK10: 78.271077 | GL10: 1791.5603 | GM10: 2.4755284 | GN10: 1.3507443 | GO10: 16.455587 | GP10: 4.1137464 | GQ10: 0 | GR10: 0 | GS10: 0 | GT10: 0 | GU10: 0 | GV10: 3.7031429 | GW10: 0 | GX10: 0 | GY10: 0 | GZ10: 0.15830667 | HA10: 66.226207 | HB10: 13.699521 | HC10: 103.33442 | HD10: 9.5002123 | HE10: 0 | HF10: 0 | HG10: 166.10062 | HH10: 167.50007 | HI10: 9.2230464 | HJ10: 250.32256 | HK10: 96.023973 | HL10: 16.829775 | HM10: 0.33225954 | HN10: 1.2772951 | ID10: 8962.688 | IE10: 13362.896 | IF10: 13871.077 | IG10: 15206.451 | IH10: 16031.487 | II10: 17562.669 | IJ10: 18762.904 | IK10: 20841.003 | IL10: 22846.536 | IM10: 28320.994 | IN10: 1318.2526 | IO10: 2152.1775 | IP10: 1936.0581 | IQ10: 2307.5371 | IR10: 2586.5435 | IS10: 2824.6073 | IT10: 3179.0695 | IU10: 3447.0228 | IV10: 3804.8468 | IW10: 4800.9706 | IX10: 0 | IY10: 0 | JC10: 76864.969 | JD10: 0 | JE10: 0 | JF10: 21408.299 | JG10: 0 | JH10: 0 | JI10: 0 | JJ10: 0 | JK10: 0 | JL10: 0 | JM10: 0 | JN10: 0 | JO10: 0 | JP10: 0 | JQ10: 0 | JY10: 24281.416 | KA10: 343561.61
B11: انواع ميوه ها | C11: 5 | ED11: 4465.2992 | EE11: 199.36555 | EF11: 6.3354317 | EG11: 75.707259 | EH11: 30.807177 | EI11: 0.49186855 | EJ11: 10.780803 | EK11: 7.762582 | EL11: 11039.088 | EM11: 0.11169765 | EN11: 2627.357 | EO11: 21830.055 | EP11: 0.23448084 | EQ11: 0.014974585 | ER11: 0.20925183 | ES11: 0.078355511 | ET11: 0.074185072 | EU11: 0.069782487 | EV11: 0.000265863 | EW11: 0.32164209 | EX11: 0.30152138 | EY11: 0.24182473 | EZ11: 2.7182693 | FA11: 2.7247677 | FB11: 2.0282474 | FC11: 0.60341465 | FD11: 0.80009854 | FE11: 0.35654543 | FF11: 2.0761075 | FG11: 2.4269933 | FH11: 0.43119 | FI11: 0.053868173 | FJ11: 2.0690368 | FK11: 0.031375695 | FL11: 0.35393208 | FM11: 0.50318051 | FN11: 3.2443301 | FO11: 0.12359716 | FP11: 0.49803815 | FQ11: 0.12375483 | FR11: 0.13734435 | FS11: 1.0915548 | FT11: 5.7032188 | FU11: 15.30721 | FV11: 0 | FW11: 338.22421 | FX11: 247.51491 | FY11: 39.064096 | FZ11: 337.84947 | GA11: 1.123703 | GB11: 32.675084 | GC11: 10.651799 | GD11: 0.02198367 | GE11: 0.054525204 | GF11: 4.0977315 | GG11: 0.028504877 | GH11: 0.062852272 | GI11: 6.2937332 | GJ11: 0.58562605 | GK11: 6.8660421 | GL11: 157.15803 | GM11: 2.0133284 | GN11: 50.228798 | GO11: 1.4435058 | GP11: 2.1701983 | GQ11: 160.15017 | GR11: 0 | GS11: 0 | GT11: 0 | GU11: 0 | GV11: 28.979324 | GW11: 29.101047 | GX11: 0.6852893 | GY11: 2.1220785 | GZ11: 4.894176 | HA11: 912.82094 | HB11: 1.9986273 | HC11: 141.93673 | HD11: 0.83337114 | HE11: 356.4943 | HF11: 56.83854 | HG11: 79.398839 | HH11: 25.632336 | HI11: 6.8115213 | HJ11: 210.88878 | HK11: 8.4233494 | HL11: 62.916505 | HM11: 10.272067 | HN11: 39.488588 | ID11: 8969.6465 | IE11: 15186.183 | IF11: 17168.739 | IG11: 19994.049 | IH11: 22853.943 | II11: 26585.155 | IJ11: 30661.887 | IK11: 37422.818 | IL11: 46897.383 | IM11: 70339.428 | IN11: 613.75136 | IO11: 1074.9696 | IP11: 1219.5365 | IQ11: 1579.1803 | IR11: 1997.5926 | IS11: 2264.3605 | IT11: 2655.7776 | IU11: 3187.4325 | IV11: 3942.1526 | IW11: 5487.1235 | IX11: 0 | IY11: 0 | JC11: 184577.28 | JD11: 0 | JE11: 0 | JF11: 51408.145 | JG11: 0 | JH11: 0 | JI11: 0 | JJ11: 0 | JK11: 0 | JL11: 0 | JM11: 0 | JN11: 0 | JO11: 0 | JP11: 0 | JQ11: 0 | JY11: 57670.927 | KA11: 657474.39
B12: دانه هاي روغني | C12: 6 | ED12: 934.33709 | EE12: 1868.6447 | EF12: 0 | EG12: 0 | EH12: 0 | EI12: 0 | EJ12: 0 | EK12: 0 | EL12: 0 | EM12: 39160.946 | EN12: 0 | EO12: 0 | EP12: 0 | EQ12: 0 | ER12: 0 | ES12: 0 | ET12: 0 | EU12: 0 | EV12: 0 | EW12: 0 | EX12: 0 | EY12: 0 | EZ12: 0 | FA12: 0 | FB12: 0 | FC12: 0 | FD12: 0 | FE12: 0 | FF12: 0 | FG12: 0 | FH12: 0 | FI12: 0 | FJ12: 0 | FK12: 0 | FL12: 0 | FM12: 0 | FN12: 0 | FO12: 0 | FP12: 0 | FQ12: 0 | FR12: 0 | FS12: 0 | FT12: 0 | FU12: 0 | FV12: 0 | FW12: 0 | FX12: 0 | FY12: 0 | FZ12: 0 | GA12: 0 | GB12: 0 | GC12: 0 | GD12: 0 | GE12: 0 | GF12: 0 | GG12: 0 | GH12: 0 | GI12: 0 | GJ12: 0 | GK12: 0 | GL12: 0 | GM12: 0 | GN12: 0 | GO12: 0 | GP12: 0 | GQ12: 0 | GR12: 0 | GS12: 0 | GT12: 0 | GU12: 0 | GV12: 0 | GW12: 0 | GX12: 0 | GY12: 0 | GZ12: 0 | HA12: 0 | HB12: 0.10112775 | HC12: 0 | HD12: 0 | HE12: 0 | HF12: 0 | HG12: 0 | HH12: 0 | HI12: 0 | HJ12: 0 | HK12: 0 | HL12: 0 | HM12: 0 | HN12: 0 | ID12: 15.468662 | IE12: 15.433372 | IF12: 65.221289 | IG12: 71.167607 | IH12: 128.8369 | II12: 188.13539 | IJ12: 147.45811 | IK12: 420.52998 | IL12: 503.39613 | IM12: 1502.9599 | IN12: 0 | IO12: 0 | IP12: 0.73839717 | IQ12: 0.12499513 | IR12: 10.611855 | IS12: 1.8506224 | IT12: 9.6778639 | IU12: 9.9521588 | IV12: 15.08969 | IW12: 28.612312 | IX12: 0 | IY12: 0 | JC12: 22242.217 | JD12: 0 | JE12: 0 | JF12: 6194.864 | JG12: 0 | JH12: 0 | JI12: 0 | JJ12: 0 | JK12: 0 | JL12: 0 | JM12: 0 | JN12: 0 | JO12: 0 | JP12: 0 | JQ12: 0 | JY12: 228.00463 | KA12: 73764.38
B13: ریشه ها و غده های خوراکی حاوی مقدار زیادی نشاسنه | C13: 7 | ED13: 1389.8068 | EE13: 6200.2854 | EF13: 0.27321004 | EG13: 63.563324 | EH13: 59.944433 | EI13: 0.69028566 | EJ13: 4.204271 | EK13: 5.1787427 | EL13: 11863.555 | EM13: 0.60725979 | EN13: 3.0244195 | EO13: 4.9154318 | EP13: 1.2747877 | EQ13: 0.081411413 | ER13: 1.1376267 | ES13: 0.42599064 | ET13: 0.40331747 | EU13: 0.3793822 | EV13: 0.0014454012 | EW13: 1.748652 | EX13: 1.6392629 | EY13: 1.3147138 | EZ13: 14.778249 | FA13: 14.813579 | FB13: 11.026849 | FC13: 3.2805477 | FD13: 4.3498471 | FE13: 1.9384089 | FF13: 11.287047 | FG13: 13.194687 | FH13: 2.3442244 | FI13: 0.29286181 | FJ13: 11.248607 | FK13: 0.17057833 | FL13: 1.924201 | FM13: 2.7356109 | FN13: 17.638252 | FO13: 0.67195314 | FP13: 2.7076537 | FQ13: 0.67281037 | FR13: 0.74669166 | FS13: 0 | FT13: 31.006343 | FU13: 4.8488345 | FV13: 0 | FW13: 34.243415 | FX13: 55.712198 | FY13: 0.60260548 | FZ13: 5.2116895 | GA13: 0.08032558 | GB13: 3.2899464 | GC13: 8.3113291 | GD13: 0.11951728 | GE13: 0.29643386 | GF13: 3.4127499 | GG13: 0.15497073 | GH13: 0.34170512 | GI13: 3.7734334 | GJ13: 0 | GK13: 37.328193 | GL13: 854.41148 | GM13: 1.1806021 | GN13: 0.64418232 | GO13: 7.8478199 | GP13: 1.9618833 | GQ13: 0 | GR13: 0 | GS13: 0 | GT13: 0 | GU13: 0 | GV13: 1.7660627 | GW13: 0.44891479 | GX13: 0 | GY13: 0.032735331 | GZ13: 0.075497901 | HA13: 10.535988 | HB13: 2.1794692 | HC13: 16.439567 | HD13: 4.5307382 | HE13: 0 | HF13: 0 | HG13: 79.214903 | HH13: 26.647738 | HI13: 4.5770762 | HJ13: 39.824043 | HK13: 45.794711 | HL13: 8.0262736 | HM13: 0.15845762 | HN13: 0.60915372 | ID13: 1532.5755 | IE13: 2081.0015 | IF13: 2083.0507 | IG13: 2040.4824 | IH13: 2123.0857 | II13: 2262.6565 | IJ13: 2292.8796 | IK13: 2357.0222 | IL13: 2463.9647 | IM13: 2740.7773 | IN13: 337.85069 | IO13: 542.36943 | IP13: 434.4386 | IQ13: 489.38371 | IR13: 517.79812 | IS13: 543.58535 | IT13: 606.10286 | IU13: 670.28148 | IV13: 659.35895 | IW13: 818.05188 | IX13: 0 | IY13: 0 | JC13: -5703.3436 | JD13: 0 | JE13: 0 | JF13: -1588.4854 | JG13: 0 | JH13: 0 | JI13: 0 | JJ13: 0 | JK13: 0 | JL13: 0 | JM13: 0 | JN13: 0 | JO13: 0 | JP13: 0 | JQ13: 0 | JY13: 4191.2173 | KA13: 45512.025
B14: محصولات نوشیدنی، معطر و ادويه ای | C14: 8 | ED14: 45.104033 | EE14: 2.0137934 | EF14: 0.12929452 | EG14: 1.5450461 | EH14: 24.218071 | EI14: 0.2788814 | EJ14: 1.698562 | EK14: 2.092257 | EL14: 1.1221502 | EM14: 0.24533822 | EN14: 1.2218917 | EO14: 13890.262 | EP14: 0.5150253 | EQ14: 0.032890917 | ER14: 0.45961107 | ES14: 0.17210391 | ET14: 0.16294376 | EU14: 0.1532737 | EV14: 0.00058395463 | EW14: 0.70647057 | EX14: 0.66227646 | EY14: 0.53115579 | EZ14: 5.9705409 | FA14: 5.9848144 | FB14: 4.4549427 | FC14: 1680.7123 | FD14: 1.757376 | FE14: 0.783134 | FF14: 4.5600651 | FG14: 5.3307679 | FH14: 0.947087 | FI14: 0.11831871 | FJ14: 4.5445347 | FK14: 0.068915127 | FL14: 0.7773939 | FM14: 1.1052105 | FN14: 7.1260068 | FO14: 0.2714749 | FP14: 1.0939156 | FQ14: 0.27182123 | FR14: 0.30166991 | FS14: 0 | FT14: 12.526831 | FU14: 1.9589712 | FV14: 0 | FW14: 0 | FX14: 0 | FY14: 0.24345784 | FZ14: 2.1055678 | GA14: 0.032452231 | GB14: 1.3291669 | GC14: 3.3578491 | GD14: 0.048286019 | GE14: 0.11976185 | GF14: 1.3787806 | GG14: 0.062609519 | GH14: 0.13805183 | GI14: 1.5244998 | GJ14: 0 | GK14: 15.080914 | GL14: 345.18965 | GM14: 0.47697351 | GN14: 0.26025525 | GO14: 3.1705874 | GP14: 0.79261788 | GQ14: 0 | GR14: 0 | GS14: 0 | GT14: 0 | GU14: 0 | GV14: 0.71350468 | GW14: 0.18136547 | GX14: 0 | GY14: 0.013225358 | GZ14: 0.030501807 | HA14: 9.6251525 | HB14: 0.040788313 | HC14: 2.896668 | HD14: 1.8304575 | HE14: 7.275394 | HF14: 1.1599702 | HG14: 32.003508 | HH14: 0.52310891 | HI14: 1.8491785 | HJ14: 4.3038527 | HK14: 18.501461 | HL14: 3.2426842 | HM14: 0.064018252 | HN14: 0.24610339 | ID14: 90.55656 | IE14: 178.22017 | IF14: 167.05648 | IG14: 223.38895 | IH14: 234.00617 | II14: 313.7494 | IJ14: 366.39373 | IK14: 535.41469 | IL14: 616.26961 | IM14: 1067.4925 | IN14: 15.942215 | IO14: 30.883724 | IP14: 38.048944 | IQ14: 50.730177 | IR14: 60.64944 | IS14: 80.230052 | IT14: 87.215984 | IU14: 112.95644 | IV14: 125.55857 | IW14: 226.99869 | IX14: 0 | IY14: 0 | JC14: 3357.6676 | JD14: 0 | JE14: 0 | JF14: 935.1718 | JG14: 0 | JH14: 0 | JI14: 0 | JJ14: 0 | JK14: 0 | JL14: 0 | JM14: 0 | JN14: 0 | JO14: 0 | JP14: 0 | JQ14: 0 | JY14: 12358.566 | KA14: 37446.974
B15: حبوبات خشک | C15: 9 | ED15: 595.63148 | EE15: 2657.2652 | EF15: 0.39030006 | EG15: 90.804749 | EH15: 47.133922 | EI15: 0.54276718 | EJ15: 3.3057913 | EK15: 4.0720121 | EL15: 2.1839616 | EM15: 0.47748447 | EN15: 2.3780816 | EO15: 3.8649724 | EP15: 1.0023574 | EQ15: 0.064013271 | ER15: 0.89450857 | ES15: 0.3349537 | ET15: 0.31712593 | EU15: 0.29830578 | EV15: 0.0011365097 | EW15: 1.3749538 | EX15: 1.2889419 | EY15: 1.033751 | EZ15: 11.620042 | FA15: 11.647822 | FB15: 8.6703406 | FC15: 2.5794736 | FD15: 3.4202568 | FE15: 1.5241584 | FF15: 8.8749328 | FG15: 10.374897 | FH15: 1.8432486 | FI15: 0.23027536 | FJ15: 8.8447071 | FK15: 0.13412465 | FL15: 1.5129869 | FM15: 2.1509932 | FN15: 13.868844 | FO15: 0.52835244 | FP15: 2.1290107 | FQ15: 0.52902647 | FR15: 0.58711885 | FS15: 0 | FT15: 24.380088 | FU15: 3.8126074 | FV15: 0 | FW15: 85.608536 | FX15: 139.28049 | FY15: 0.47382481 | FZ15: 4.097918 | GA15: 0.063159487 | GB15: 2.5868637 | GC15: 6.5351446 | GD15: 0.09397567 | GE15: 0.23308404 | GF15: 2.6834233 | GG15: 0.12185249 | GH15: 0.26868054 | GI15: 2.9670264 | GJ15: 0 | GK15: 29.350918 | GL15: 671.81825 | GM15: 0.92829987 | GN15: 0.50651642 | GO15: 6.1706903 | GP15: 1.5426162 | GQ15: 0 | GR15: 0 | GS15: 0 | GT15: 0 | GU15: 0 | GV15: 1.3886438 | GW15: 0.35297881 | GX15: 0 | GY15: 0.02573958 | GZ15: 0.059363514 | HA15: 15.051411 | HB15: 3.1135275 | HC15: 23.485096 | HD15: 3.5624903 | HE15: 0 | HF15: 0 | HG15: 62.286169 | HH15: 38.068198 | HI15: 3.5989256 | HJ15: 56.89149 | HK15: 36.008087 | HL15: 6.3110073 | HM15: 0.12459421 | HN15: 0.47897365 | ID15: 1730.1823 | IE15: 2541.9683 | IF15: 2816.5967 | IG15: 2857.87 | IH15: 3334.0505 | II15: 3340.7333 | IJ15: 3607.3714 | IK15: 4016.797 | IL15: 4217.5943 | IM15: 4537.1243 | IN15: 400.03056 | IO15: 724.55647 | IP15: 675.00235 | IQ15: 767.94094 | IR15: 840.79704 | IS15: 1000.4664 | IT15: 1175.5783 | IU15: 1299.9647 | IV15: 1357.1712 | IW15: 1801.3325 | IX15: 0 | IY15: 0 | JC15: 5773.7363 | JD15: 0 | JE15: 0 | JF15: 1608.0911 | JG15: 0 | JH15: 0 | JI15: 0 | JJ15: 0 | JK15: 0 | JL15: 0 | JM15: 0 | JN15: 0 | JO15: 0 | JP15: 0 | JQ15: 0 | JY15: 352.8638 | KA15: 55517.882
B16: چغندر قند ونيشكر | C16: 10 | ED16: 2448.0371 | EE16: 2430.3307 | EF16: 0 | EG16: 0 | EH16: 0 | EI16: 0 | EJ16: 0 | EK16: 0 | EL16: 0 | EM16: 0 | EN16: 0 | EO16: 16170.632 | EP16: 0 | EQ16: 0 | ER16: 0 | ES16: 0 | ET16: 0 | EU16: 0 | EV16: 0 | EW16: 0 | EX16: 0 | EY16: 0 | EZ16: 0 | FA16: 0 | FB16: 0 | FC16: 0 | FD16: 0 | FE16: 0 | FF16: 0 | FG16: 0 | FH16: 0 | FI16: 0 | FJ16: 0 | FK16: 0 | FL16: 0 | FM16: 0 | FN16: 0 | FO16: 0 | FP16: 0 | FQ16: 0 | FR16: 0 | FS16: 0 | FT16: 0 | FU16: 0 | FV16: 0 | FW16: 0 | FX16: 0 | FY16: 0 | FZ16: 0 | GA16: 0 | GB16: 0 | GC16: 0 | GD16: 0 | GE16: 0 | GF16: 0 | GG16: 0 | GH16: 0 | GI16: 0 | GJ16: 0 | GK16: 0 | GL16: 0 | GM16: 0 | GN16: 0 | GO16: 0 | GP16: 0 | GQ16: 0 | GR16: 0 | GS16: 0 | GT16: 0 | GU16: 0 | GV16: 0 | GW16: 0 | GX16: 0 | GY16: 0 | GZ16: 0 | HA16: 0 | HB16: 0 | HC16: 0 | HD16: 0 | HE16: 0 | HF16: 0 | HG16: 0 | HH16: 0 | HI16: 0 | HJ16: 0 | HK16: 0 | HL16: 0 | HM16: 0 | HN16: 0 | ID16: 0 | IE16: 0 | IF16: 0 | IG16: 0 | IH16: 0 | II16: 0 | IJ16: 0 | IK16: 0 | IL16: 0 | IM16: 0 | IN16: 0 | IO16: 0 | IP16: 0 | IQ16: 0 | IR16: 0 | IS16: 0 | IT16: 0 | IU16: 0 | IV16: 0 | IW16: 0 | IX16: 0 | IY16: 0 | JC16: 11802.207 | JD16: 0 | JE16: 0 | JF16: 3287.1305 | JG16: 0 | JH16: 0 | JI16: 0 | JJ16: 0 | JK16: 0 | JL16: 0 | JM16: 0 | JN16: 0 | JO16: 0 | JP16: 0 | JQ16: 0 | JY16: 1.502032 | KA16: 36139.84
B17: مواد خام گياهي | C17: 11 | ED17: 14401.173 | EE17: 56808.762 | EF17: 0.89769013 | EG17: 208.85092 | EH17: 125.69361 | EI17: 1.4474154 | EJ17: 8.8156644 | EK17: 10.858971 | EL17: 5.8240437 | EM17: 1.2733238 | EN17: 6.34171 | EO17: 4721.3781 | EP17: 2.67302 | EQ17: 1341.9014 | ER17: 5270.7189 | ES17: 497.69773 | ET17: 0.84569035 | EU17: 0.79550203 | EV17: 0.0030307685 | EW17: 3.6666354 | EX17: 3.4372646 | EY17: 2.7567385 | EZ17: 30.987556 | FA17: 31.061637 | FB17: 23.121488 | FC17: 6.8787687 | FD17: 9.1209134 | FE17: 4.0645244 | FF17: 23.667081 | FG17: 27.667086 | FH17: 4.9154528 | FI17: 0.61408303 | FJ17: 23.586477 | FK17: 0.35767469 | FL17: 4.0347328 | FM17: 5.7361258 | FN17: 36.984511 | FO17: 1.4089752 | FP17: 5.6775042 | FQ17: 1.4107726 | FR17: 1.5656895 | FS17: 0 | FT17: 65.015198 | FU17: 10.167208 | FV17: 0 | FW17: 0 | FX17: 0 | FY17: 1.2635645 | FZ17: 10.928055 | GA17: 0.16842952 | GB17: 6.8984762 | GC17: 17.427489 | GD17: 0.25060807 | GE17: 0.62157302 | GF17: 7.1559749 | GG17: 0.32494811 | GH17: 0.7164994 | GI17: 7.9122688 | GJ17: 0 | GK17: 78.271077 | GL17: 1791.5603 | GM17: 2.4755284 | GN17: 1.3507443 | GO17: 19.164219 | GP17: 4.1137464 | GQ17: 0 | GR17: 0 | GS17: 0 | GT17: 0 | GU17: 0 | GV17: 3.7031429 | GW17: 0.94130043 | GX17: 0 | GY17: 0.068640602 | GZ17: 0.15830667 | HA17: 34.618245 | HB17: 7.2155666 | HC17: 54.01572 | HD17: 9.5002123 | HE17: 0 | HF17: 0 | HG17: 166.10062 | HH17: 87.556855 | HI17: 9.5973755 | HJ17: 130.85043 | HK17: 96.023973 | HL17: 21.465454 | HM17: 0.33225954 | HN17: 1.2772951 | ID17: 12.438423 | IE17: 33.024369 | IF17: 40.255598 | IG17: 38.493375 | IH17: 118.06893 | II17: 161.17164 | IJ17: 142.07993 | IK17: 545.78394 | IL17: 536.00848 | IM17: 1619.8788 | IN17: 1.3802038 | IO17: 7.8386548 | IP17: 2.4786255 | IQ17: 1.8683986 | IR17: 3.706632 | IS17: 5.0990025 | IT17: 17.1437 | IU17: 10.768582 | IV17: 18.241845 | IW17: 55.911947 | IX17: 0 | IY17: 0 | JC17: 27877.715 | JD17: 0 | JE17: 0 | JF17: 7764.4532 | JG17: 0 | JH17: 360.43 | JI17: 0 | JJ17: 0 | JK17: 0 | JL17: 0 | JM17: 0 | JN17: 0 | JO17: 0 | JP17: 0 | JQ17: 0 | JY17: 1260.9443 | KA17: 126953.07
B18: گاو و گوسفند (گوشت قرمز) | C18: 12 | ED18: 0.072068886 | EE18: 10655.39 | EF18: 0.022045827 | EG18: 68.994831 | EH18: 0 | EI18: 0 | EJ18: 0 | EK18: 0 | EL18: 45990.608 | EM18: 0 | EN18: 0 | EO18: 0 | EP18: 0 | EQ18: 0 | ER18: 0 | ES18: 0 | ET18: 0 | EU18: 0 | EV18: 0 | EW18: 0 | EX18: 0 | EY18: 0 | EZ18: 0 | FA18: 0 | FB18: 0 | FC18: 0 | FD18: 0 | FE18: 0 | FF18: 0 | FG18: 0 | FH18: 0 | FI18: 0 | FJ18: 0 | FK18: 0 | FL18: 0 | FM18: 0 | FN18: 0 | FO18: 0 | FP18: 0 | FQ18: 0 | FR18: 0 | FS18: 0 | FT18: 0 | FU18: 0 | FV18: 0 | FW18: 0 | FX18: 0 | FY18: 0 | FZ18: 0 | GA18: 0 | GB18: 0 | GC18: 0 | GD18: 0 | GE18: 0 | GF18: 0 | GG18: 0 | GH18: 0 | GI18: 0 | GJ18: 0 | GK18: 0 | GL18: 0 | GM18: 0 | GN18: 0 | GO18: 0 | GP18: 0 | GQ18: 0 | GR18: 0 | GS18: 0 | GT18: 0 | GU18: 0 | GV18: 0 | GW18: 0 | GX18: 0 | GY18: 0 | GZ18: 0 | HA18: 0 | HB18: 0 | HC18: 0 | HD18: 0 | HE18: 0 | HF18: 0 | HG18: 0 | HH18: 0 | HI18: 0 | HJ18: 0 | HK18: 0 | HL18: 0 | HM18: 0 | HN18: 0 | ID18: 881.06278 | IE18: 1363.7823 | IF18: 7259.5141 | IG18: 6790.7169 | IH18: 13355.542 | II18: 11701.133 | IJ18: 20703.214 | IK18: 26211.246 | IL18: 33985.162 | IM18: 40848.777 | IN18: 34.937879 | IO18: 15.2101 | IP18: 80.229138 | IQ18: 227.47743 | IR18: 447.57529 | IS18: 733.11472 | IT18: 1032.9874 | IU18: 1802.0032 | IV18: 2388.4518 | IW18: 4381.0569 | IX18: 0 | IY18: 0 | JC18: 23099.082 | JD18: 0 | JE18: 0 | JF18: 6433.5164 | JG18: 0 | JH18: 6775.7588 | JI18: 0 | JJ18: 0 | JK18: 0 | JL18: 0 | JM18: 0 | JN18: 0 | JO18: 0 | JP18: 0 | JQ18: 0 | JY18: 7844.475 | KA18: 275111.11
B19: مرغ و ماکیان (گوشت سفید) و سایر حیوانات زنده | C19: 13 | ED19: 0.066043391 | EE19: 19477.258 | EF19: 0.020204944 | EG19: 11.514597 | EH19: 0 | EI19: 0 | EJ19: 0 | EK19: 0 | EL19: 17202.703 | EM19: 0 | EN19: 0 | EO19: 0 | EP19: 0 | EQ19: 0 | ER19: 0 | ES19: 0 | ET19: 0 | EU19: 0 | EV19: 0 | EW19: 0 | EX19: 0 | EY19: 0 | EZ19: 0 | FA19: 0 | FB19: 0 | FC19: 0 | FD19: 0 | FE19: 0 | FF19: 0 | FG19: 0 | FH19: 0 | FI19: 0 | FJ19: 0 | FK19: 0 | FL19: 0 | FM19: 0 | FN19: 0 | FO19: 0 | FP19: 0 | FQ19: 0 | FR19: 0 | FS19: 0 | FT19: 0 | FU19: 0 | FV19: 0 | FW19: 20.849709 | FX19: 33.803748 | FY19: 0 | FZ19: 0 | GA19: 0 | GB19: 0 | GC19: 0 | GD19: 0 | GE19: 0 | GF19: 0 | GG19: 0 | GH19: 0 | GI19: 0 | GJ19: 0 | GK19: 0 | GL19: 0 | GM19: 0 | GN19: 0 | GO19: 0 | GP19: 0 | GQ19: 0 | GR19: 0 | GS19: 0 | GT19: 0 | GU19: 0 | GV19: 0 | GW19: 0 | GX19: 0 | GY19: 0 | GZ19: 0 | HA19: 0 | HB19: 0 | HC19: 0 | HD19: 0 | HE19: 0 | HF19: 0 | HG19: 0 | HH19: 0 | HI19: 0 | HJ19: 0 | HK19: 0 | HL19: 0 | HM19: 0 | HN19: 0 | ID19: 7553.1015 | IE19: 11725.924 | IF19: 10581.525 | IG19: 9744.899 | IH19: 9884.0612 | II19: 8777.4146 | IJ19: 8233.5843 | IK19: 8275.3088 | IL19: 7718.0843 | IM19: 5974.5354 | IN19: 214.68343 | IO19: 474.46392 | IP19: 512.77845 | IQ19: 551.61178 | IR19: 712.41171 | IS19: 686.69133 | IT19: 764.76501 | IU19: 846.2998 | IV19: 870.2697 | IW19: 1296.2004 | IX19: 0 | IY19: 0 | JC19: 31072.212 | JD19: 0 | JE19: 0 | JF19: 8654.1789 | JG19: 0 | JH19: 391.82083 | JI19: 0 | JJ19: 0 | JK19: 0 | JL19: 0 | JM19: 0 | JN19: 0 | JO19: 0 | JP19: 0 | JQ19: 2.4957171 | JY19: 348.8969 | KA19: 172614.43
... B95: ساختمان غیر مسکونی و سازه های عمرانی و خدمات ساختمانی | C95: 89 | ED95: 2267.904 | EE95: 1291.8422 | EF95: 1.5123523 | EG95: 113.5274 | EH95: 225.78471 | EI95: 2.325 | EJ95: 310.923 | EK95: 31.935 | EL95: 8.5010489 | EM95: 0.060190617 | EN95: 249.4646 | EO95: 63.340972 | EP95: 0.28802808 | EQ95: 0 | ER95: 7.8784625 | ES95: 1.197878 | ET95: 12.167229 | EU95: 0.1953665 | EV95: 0.41372215 | EW95: 2.9242908 | EX95: 5.7717109 | EY95: 9.6825176 | EZ95: 8.4043633 | FA95: 2.8127742 | FB95: 572.78683 | FC95: 4.8272171 | FD95: 5.3000158 | FE95: 0.40542384 | FF95: 18.061999 | FG95: 4.6015314 | FH95: 1.4769532 | FI95: 0.64898421 | FJ95: 6.4599027 | FK95: 3.1002087 | FL95: 2.9007386 | FM95: 62.503512 | FN95: 91.948452 | FO95: 27.559277 | FP95: 9.0614486 | FQ95: 14.281923 | FR95: 7.3429374 | FS95: 134.12801 | FT95: 11.366657 | FU95: 1017.8656 | FV95: 18.874062 | FW95: 9527.711 | FX95: 49557.531 | FY95: 76.649805 | FZ95: 2649.5466 | GA95: 3.0743853 | GB95: 4.1526004 | GC95: 19.952544 | GD95: 0.83023854 | GE95: 53.187115 | GF95: 68.069929 | GG95: 36.070241 | GH95: 34.619311 | GI95: 1862.4538 | GJ95: 225.41967 | GK95: 62.269156 | GL95: 373.25664 | GM95: 42.162696 | GN95: 234.94354 | GO95: 4980.5032 | GP95: 9.9107857 | GQ95: 177.98831 | GR95: 0 | GS95: 0 | GT95: 39418.262 | GU95: 108.41519 | GV95: 62.435844 | GW95: 92.279321 | GX95: 2.8321897 | GY95: 5.1869049 | GZ95: 32.079586 | HA95: 11338.849 | HB95: 70.695115 | HC95: 656.23668 | HD95: 595.98122 | HE95: 1093.8921 | HF95: 525.03154 | HG95: 219.34174 | HH95: 548.44476 | HI95: 24.52401 | HJ95: 1302.9105 | HK95: 99.656288 | HL95: 100.2411 | HM95: 29.79178 | HN95: 968.1385 | ID95: 0 | IE95: 0 | IF95: 0 | IG95: 0 | IH95: 0 | II95: 0 | IJ95: 0 | IK95: 0 | IL95: 0 | IM95: 0 | IN95: 0 | IO95: 0 | IP95: 0 | IQ95: 0 | IR95: 0 | IS95: 0 | IT95: 0 | IU95: 0 | IV95: 0 | IW95: 0 | IX95: 0 | IY95: 0 | JC95: 0 | JD95: 0 | JE95: 0 | JF95: 0 | JG95: 0 | JH95: 46768.109 | JI95: 16927.516 | JJ95: 200.40546 | JK95: 6458.2079 | JL95: 58115.85 | JM95: 0 | JN95: 129416.05 | JO95: 539.54726 | JP95: 0 | JQ95: 630674.94 | JY95: 0 | KA95: 1023030.5
B96: خدمات عمده فروشي و خرده فروشی و حق العمل‌کاري | C96: 90 | D96: 14553.69 | E96: 56295.714 | F96: 5895.9849 | G96: 62149.898 | H96: 101723.1 | I96: 5783.8239 | J96: 10674.098 | K96: 4620.8965 | L96: 12683.66 | M96: 2434.1597 | N96: 11011.702 | O96: 56784.715 | P96: 31167.59 | Q96: 19741.332 | R96: 12307.474 | S96: 4991.9528 | T96: 506.75209 | U96: 826.77219 | V96: 8320.2415 | W96: 409.45155 | X96: 0 | Y96: 0 | Z96: 20435.818 | AA96: 3989.8632 | AB96: 1091.1632 | AC96: 11701.983 | AD96: 11943.28 | AE96: 0 | AF96: 0 | AG96: 0 | AH96: 46240.731 | AI96: 8975.5909 | AJ96: 26290.468 | AK96: 24994.326 | AL96: 57276.914 | AM96: 7278.8719 | AN96: 716.37703 | AO96: 8617.7018 | AP96: 51212.745 | AQ96: 15097.108 | AR96: 6287.3877 | AS96: 3020.6033 | AT96: 9923.0899 | AU96: 14661.582 | AV96: 14908.697 | AW96: 9399.84 | AX96: 16191.628 | AY96: 13823.355 | AZ96: 9347.5932 | BA96: 73711.949 | BB96: 4777.3457 | BC96: 22862.107 | BD96: 17040.052 | BE96: 30980.984 | BF96: 63456.34 | BG96: 3052.1312 | BH96: 24717.023 | BI96: 14277.129 | BJ96: 73504.54 | BK96: 23722.207 | BL96: 92892.318 | BM96: 113029.37 | BN96: 43785.968 | BO96: 10938.298 | BP96: 8525.5193 | BQ96: 16407.541 | BR96: 18723.042 | BS96: 19524.934 | BT96: 20051.864 | BU96: 20968.689 | BV96: 120736.35 | BW96: 27410.258 | BX96: 24148.735 | BY96: 38584.82 | BZ96: 11986.917 | CA96: 14934.91 | CB96: 31362.489 | CC96: 9890.4497 | CD96: 8863.4885 | CE96: 21741.226 | CF96: 21116.769 | CG96: 9255.0343 | CH96: 14125.732 | CI96: 43350.57 | CJ96: 22805.362 | CK96: 3581.1599 | CL96: 1258.848 | CO96: -1958412.2 | ED96: 37.285879 | EE96: 3064.6673 | EF96: 0 | EG96: 553.52486 | EH96: 0 | EI96: 0 | EJ96: 0 | EK96: 0 | EL96: 71.373556 | EM96: 19.178037 | EN96: 342.12806 | EO96: 218.58902 | EP96: 23.332746 | EQ96: 0.003225201 | ER96: 26.497572 | ES96: 66.745493 | ET96: 32.86715 | EU96: 237.40252 | EV96: 94.164107 | EW96: 50.864692 | EX96: 248.38789 | EY96: 20.607438 | EZ96: 523.60479 | FA96: 77.953752 | FB96: 8634.1873 | FC96: 976.27624 | FD96: 269.63586 | FE96: 80.102205 | FF96: 329.70884 | FG96: 418.25562 | FH96: 73.454472 | FI96: 17.184164 | FJ96: 156.59887 | FK96: 22.187839 | FL96: 410.44802 | FM96: 232.73637 | FN96: 15049.133 | FO96: 110.33556 | FP96: 86.057729 | FQ96: 4.6510508 | FR96: 0 | FS96: 0 | FT96: 0 | FU96: 0 | FV96: 0 | FW96: 127.3521 | FX96: 48.65712 | FY96: 2391.2981 | FZ96: 42134.882 | GA96: 0 | GB96: 0 | GC96: 0 | GD96: 0 | GE96: 0 | GF96: 0 | GG96: 0 | GH96: 0 | GI96: 0 | GJ96: 1.5582048 | GK96: 34.111198 | GL96: 14.743563 | GM96: 0 | GN96: 0 | GO96: 0 | GP96: 0 | GQ96: 0 | GR96: 0 | GS96: 0 | GT96: 0 | GU96: 0 | GV96: 623.47243 | GW96: 0 | GX96: 0 | GY96: 0 | GZ96: 0 | HA96: 57.085095 | HB96: 1.5462223 | HC96: 1581.1223 | HD96: 0 | HE96: 0 | HF96: 0 | HG96: 0 | HH96: 0 | HI96: 0 | HJ96: 185.21699 | HK96: 0 | HL96: 2.7757737 | HM96: 0 | HN96: 0 | ID96: 0 | IE96: 0 | IF96: 0 | IG96: 0 | IH96: 0 | II96: 0 | IJ96: 0 | IK96: 0 | IL96: 0 | IM96: 0 | IN96: 0 | IO96: 0 | IP96: 0 | IQ96: 0 | IR96: 0 | IS96: 0 | IT96: 0 | IU96: 0 | IV96: 0 | IW96: 0 | IX96: 0 | IY96: 0 | JC96: 0 | JD96: 0 | JE96: 0 | JF96: 0 | JG96: 0 | JH96: 0 | JI96: 0 | JJ96: 0 | JK96: 0 | JL96: 0 | JM96: 0 | JN96: 0 | JO96: 0 | JP96: 0 | JQ96: 0 | JY96: 0 | KA96: 79783.953
B97: خدمات ارائه جا به مسافران (هتل ها و سایر اقامتگاهها) | C97: 91 | ED97: 8.3911251 | EE97: 128.60518 | EF97: 122.91329 | EG97: 18.868541 | EH97: 1851.7104 | EI97: 5.4404757 | EJ97: 231.63793 | EK97: 6.9945347 | EL97: 11.702987 | EM97: 26.790252 | EN97: 61.636681 | EO97: 17.032986 | EP97: 6.6740625 | EQ97: 0 | ER97: 2.5239634 | ES97: 1.1151533 | ET97: 0.21560989 | EU97: 0.33477808 | EV97: 0.087309775 | EW97: 1.670445 | EX97: 7.2318993 | EY97: 1.315907 | EZ97: 5.894733 | FA97: 0.29185774 | FB97: 586.04114 | FC97: 88.25796 | FD97: 75.452045 | FE97: 1.0827273 | FF97: 24.192869 | FG97: 87.636876 | FH97: 0.044704124 | FI97: 0.91975064 | FJ97: 25.505485 | FK97: 15.333301 | FL97: 129.47308 | FM97: 65.123643 | FN97: 61.130521 | FO97: 39.829508 | FP97: 2.0764685 | FQ97: 11.112444 | FR97: 10.621652 | FS97: 287.40352 | FT97: 138.70079 | FU97: 512.71368 | FV97: 0.19222554 | FW97: 1723.5213 | FX97: 1639.5682 | FY97: 66.86871 | FZ97: 253.57442 | GA97: 2.577866 | GB97: 44.419155 | GC97: 148.03596 | GD97: 6.9411791 | GE97: 111.96714 | GF97: 82.052794 | GG97: 223.94547 | GH97: 0.68065326 | GI97: 27.092957 | GJ97: 0.154147 | GK97: 5.8221352 | GL97: 14.469765 | GM97: 819.45167 | GN97: 17.724217 | GO97: 330.2663 | GP97: 129.24778 | GQ97: 73.002048 | GR97: 0 | GS97: 0 | GT97: 0 | GU97: 0 | GV97: 23.098261 | GW97: 861.75184 | GX97: 26.125676 | GY97: 0 | GZ97: 22438.39 | HA97: 4324.4485 | HB97: 0.40219734 | HC97: 0 | HD97: 173.06834 | HE97: 0 | HF97: 237.80319 | HG97: 1537.6529 | HH97: 378.50187 | HI97: 0 | HJ97: 828.11014 | HK97: 26.306472 | HL97: 182.14507 | HM97: 131.10462 | HN97: 747.73619 | ID97: 0 | IE97: 44.730982 | IF97: 207.30258 | IG97: 215.10353 | IH97: 131.28692 | II97: 288.97923 | IJ97: 1467.559 | IK97: 1549.641 | IL97: 1851.7333 | IM97: 3840.9943 | IN97: 0 | IO97: 0.99520084 | IP97: 1.0612065 | IQ97: 3.9136988 | IR97: 25.423554 | IS97: 18.261937 | IT97: 10.301634 | IU97: 8.7345692 | IV97: 41.53837 | IW97: 146.77497 | IX97: 39.020854 | IY97: 0 | JC97: 0 | JD97: 0 | JE97: 0 | JF97: 0 | JG97: 0 | JH97: 0 | JI97: 0 | JJ97: 0 | JK97: 0 | JL97: 0 | JM97: 0 | JN97: 0 | JO97: 0 | JP97: 0 | JQ97: 0 | JY97: 16900.156 | KA97: 69113.466
B98: خدمات ارائه غذا و نوشیدنی (رستوران ها و محل های صرف غذا و نوشیدنی) | C98: 92 | ED98: 1785.7973 | EE98: 152.77316 | EF98: 58.368224 | EG98: 142.0744 | EH98: 6002.367 | EI98: 3.1311359 | EJ98: 139.85239 | EK98: 22.964822 | EL98: 30.235693 | EM98: 1.4183824 | EN98: 159.24377 | EO98: 44.006214 | EP98: 15.992867 | EQ98: 6.7874356 | ER98: 12.195169 | ES98: 7.8465353 | ET98: 0.38856363 | EU98: 1.0050044 | EV98: 0.26210411 | EW98: 3.490136 | EX98: 110.44052 | EY98: 3.0032244 | EZ98: 25.612305 | FA98: 1.7310131 | FB98: 215.34963 | FC98: 74.347746 | FD98: 72.659338 | FE98: 2.0402369 | FF98: 67.286398 | FG98: 66.306116 | FH98: 0.23173787 | FI98: 8.6026784 | FJ98: 158.9745 | FK98: 28.553846 | FL98: 50.562537 | FM98: 190.52453 | FN98: 427.52117 | FO98: 2.6274374 | FP98: 22.759736 | FQ98: 26.108193 | FR98: 24.9551 | FS98: 397.77832 | FT98: 537.11126 | FU98: 316.54763 | FV98: 44.577711 | FW98: 3020.9476 | FX98: 1927.7167 | FY98: 293.67434 | FZ98: 1487.6857 | GA98: 3.5800506 | GB98: 79.052519 | GC98: 284.19346 | GD98: 12.242868 | GE98: 295.2749 | GF98: 167.20692 | GG98: 3483.4659 | GH98: 8.6596894 | GI98: 357.98148 | GJ98: 1.7971026 | GK98: 71.898997 | GL98: 1191.9703 | GM98: 1510.3701 | GN98: 201.42653 | GO98: 307.67144 | GP98: 54.81981 | GQ98: 440.7086 | GR98: 0 | GS98: 0 | GT98: 0 | GU98: 0 | GV98: 278.8061 | GW98: 417.76894 | GX98: 13.556825 | GY98: 33.879503 | GZ98: 128.3318 | HA98: 12494.442 | HB98: 0 | HC98: 0 | HD98: 101.83618 | HE98: 121.86251 | HF98: 213.10612 | HG98: 751.64678 | HH98: 579.58583 | HI98: 25.232518 | HJ98: 5924.3727 | HK98: 311.82781 | HL98: 391.12866 | HM98: 615.35289 | HN98: 787.38654 | ID98: 2350.3971 | IE98: 3501.2592 | IF98: 5254.2635 | IG98: 7007.209 | IH98: 9902.432 | II98: 9520.1507 | IJ98: 15253.409 | IK98: 18011.604 | IL98: 25878.797 | IM98: 88129.595 | IN98: 57.46594 | IO98: 131.8431 | IP98: 183.91982 | IQ98: 288.55601 | IR98: 380.3054 | IS98: 478.91425 | IT98: 661.53923 | IU98: 682.99699 | IV98: 1056.1727 | IW98: 2679.8239 | IX98: 140.12342 | IY98: 0 | JC98: 0 | JD98: 0 | JE98: 0 | JF98: 0 | JG98: 0 | JH98: 0 | JI98: 0 | JJ98: 0 | JK98: 0 | JL98: 0 | JM98: 0 | JN98: 0 | JO98: 0 | JP98: 0 | JQ98: 0 | JY98: 53773.224 | KA98: 295182.88
B99: خدمات حمل و نقل جاده ای مسافر | C99: 93 | ED99: 2688.6562 | EE99: 359.19023 | EF99: 58.39503 | EG99: 412.94535 | EH99: 642.79075 | EI99: 1.2736802 | EJ99: 72.050672 | EK99: 2.4072526 | EL99: 53.476094 | EM99: 0.63666206 | EN99: 281.64511 | EO99: 77.831206 | EP99: 8.6874672 | EQ99: 0 | ER99: 17.14714 | ES99: 12.932145 | ET99: 11.503116 | EU99: 6.7792221 | EV99: 1.7680141 | EW99: 65.34915 | EX99: 81.365511 | EY99: 20.104412 | EZ99: 92.168728 | FA99: 5.2265275 | FB99: 85.966359 | FC99: 2.7030224 | FD99: 116.84216 | FE99: 30.404318 | FF99: 144.26296 | FG99: 51.55411 | FH99: 64.646822 | FI99: 5.7442351 | FJ99: 241.622 | FK99: 0.78791227 | FL99: 14.423891 | FM99: 12.465881 | FN99: 34.715672 | FO99: 0.74208866 | FP99: 25.867331 | FQ99: 0.2178172 | FR99: 0.2081971 | FS99: 19.848691 | FT99: 933.66109 | FU99: 168.06463 | FV99: 18.495052 | FW99: 2793.4497 | FX99: 4331.6875 | FY99: 849.49351 | FZ99: 21626.958 | GA99: 3.3867683 | GB99: 161.08965 | GC99: 2832.7781 | GD99: 72.492901 | GE99: 103.85772 | GF99: 107.42349 | GG99: 1078.3466 | GH99: 32.709152 | GI99: 1251.895 | GJ99: 1.1162088 | GK99: 0 | GL99: 0 | GM99: 1279.4686 | GN99: 934.38082 | GO99: 802.84157 | GP99: 146.98808 | GQ99: 192.0894 | GR99: 0 | GS99: 0 | GT99: 0 | GU99: 16.658774 | GV99: 302.15582 | GW99: 1287.806 | GX99: 11.904652 | GY99: 76.967056 | GZ99: 5164.7061 | HA99: 15584.288 | HB99: 147.22186 | HC99: 1032.5493 | HD99: 583.29844 | HE99: 110.97357 | HF99: 4732.9378 | HG99: 1312.6407 | HH99: 2603.4985 | HI99: 180.00791 | HJ99: 1326.0369 | HK99: 214.72382 | HL99: 1760.8024 | HM99: 139.43266 | HN99: 9068.23 | ID99: 7021.2711 | IE99: 10284.642 | IF99: 11009.85 | IG99: 12610.765 | IH99: 13426.276 | II99: 15344.383 | IJ99: 17044.186 | IK99: 19721.335 | IL99: 22393.17 | IM99: 35432.387 | IN99: 944.99054 | IO99: 1676.2837 | IP99: 1804.4815 | IQ99: 2130.9936 | IR99: 2355.6755 | IS99: 2675.5479 | IT99: 2947.452 | IU99: 2976.9038 | IV99: 3458.7376 | IW99: 4002.2547 | IX99: 120.19487 | IY99: 0 | JC99: 0 | JD99: 0 | JE99: 0 | JF99: 0 | JG99: 0 | JH99: 0 | JI99: 0 | JJ99: 0 | JK99: 0 | JL99: 0 | JM99: 0 | JN99: 0 | JO99: 0 | JP99: 0 | JQ99: 0 | JY99: 1102.3618 | KA99: 281691.01
B100: خدمات حمل و نقل جاده ای بار | C100: 94 | D100: 3816.8412 | E100: 6816.08 | F100: 4543.7587 | G100: 37699.366 | H100: 18031.143 | I100: 1459.3873 | J100: 889.91751 | K100: 82.818928 | L100: 2296.2458 | M100: 385.75255 | N100: 4538.8514 | O100: 1412.2911 | P100: 1133.7631 | Q100: 1034.9819 | R100: 1120.3387 | S100: 1279.5114 | T100: 0.19228097 | U100: 7.1452559 | V100: 995.96221 | W100: 1042.9937 | X100: 0 | Y100: 0 | Z100: 14157.73 | AA100: 2015.6671 | AB100: 316.15903 | AC100: 19608.658 | AD100: 13720.396 | AE100: 0 | AF100: 0 | AG100: 0 | AH100: 1366.7382 | AI100: 338.29501 | AJ100: 4126.6118 | AK100: 12028.091 | AL100: 10611.901 | AM100: 2097.3433 | AN100: 380.28591 | AO100: 8628.1879 | AP100: 280.43409 | AQ100: 8634.0917 | AR100: 6243.6965 | AS100: 1254.2052 | AT100: 747.88498 | AU100: 8110.3201 | AV100: 10453.608 | AW100: 705.20076 | AX100: 8190.336 | AY100: 1384.9286 | AZ100: 2243.899 | BA100: 437.01522 | BB100: 397.80811 | BC100: 213.56012 | BD100: 14972.565 | BE100: 16996.691 | BF100: 1773.4284 | BG100: 380.97099 | BH100: 2582.4986 | BI100: 5223.6743 | BJ100: 784.08915 | BK100: 2916.5645 | BL100: 6583.0799 | BM100: 14872.307 | BN100: 23384.109 | BO100: 8713.7957 | BP100: 4422.7727 | BQ100: 20112.706 | BR100: 51255.374 | BS100: 12269.166 | BT100: 8461.5466 | BU100: 22569.992 | BV100: 106927.86 | BW100: 13960.597 | BX100: 17441.592 | BY100: 23221.876 | BZ100: 16069.07 | CA100: 3161.3048 | CB100: 15757.222 | CC100: 2022.9295 | CD100: 3971.1557 | CE100: 4070.0814 | CF100: 3085.966 | CG100: 3003.4731 | CH100: 3759.9977 | CI100: 34035.421 | CJ100: 25166.204 | CK100: 1690.7228 | CL100: 1679.9085 | CS100: -724581.11 | ED100: 17602.276 | EE100: 3696.3297 | EF100: 19.708335 | EG100: 222.18043 | EH100: 8661.4611 | EI100: 36.414 | EJ100: 4175.092 | EK100: 840.519 | EL100: 1297.8728 | EM100: 306.22126 | EN100: 1820.008 | EO100: 1404.3129 | EP100: 423.92001 | EQ100: 20.485104 | ER100: 157.19468 | ES100: 64.549146 | ET100: 285.90336 | EU100: 79.143161 | EV100: 49.788702 | EW100: 450.16747 | EX100: 341.98707 | EY100: 141.7275 | EZ100: 47.226213 | FA100: 109.05703 | FB100: 17192.811 | FC100: 186.86067 | FD100: 1439.1014 | FE100: 286.92662 | FF100: 3377.2154 | FG100: 4107.2603 | FH100: 1066.3118 | FI100: 127.99051 | FJ100: 1718.8376 | FK100: 87.99486 | FL100: 795.8547 | FM100: 763.27116 | FN100: 4847.1009 | FO100: 54.271178 | FP100: 419.84045 | FQ100: 83.069956 | FR100: 84.836007 | FS100: 0.63750031 | FT100: 1730.4662 | FU100: 86.971145 | FV100: 20.472606 | FW100: 6747.1541 | FX100: 5617.5184 | FY100: 99.564886 | FZ100: 15560.886 | GA100: 25.259945 | GB100: 157.04634 | GC100: 3.1026631 | GD100: 4143.0815 | GE100: 371 | GF100: 0.048100998 | GG100: 6.9503633 | GH100: 75.160941 | GI100: 362.10721 | GJ100: 100.50187 | GK100: 22.774676 | GL100: 871.32291 | GM100: 235.46253 | GN100: 21.084193 | GO100: 692.36218 | GP100: 14.105043 | GQ100: 13.847294 | GR100: 0 | GS100: 0 | GT100: 0 | GU100: 0.12803517 | GV100: 7.1900635 | GW100: 90.756511 | GX100: 0.27673668 | GY100: 3.7249879 | GZ100: 32.687063 | HA100: 812.37964 | HB100: 0 | HC100: 1565.9112 | HD100: 0.1138944 | HE100: 95.545311 | HF100: 112.75034 | HG100: 1.6111904 | HH100: 0 | HI100: 5.6045825 | HJ100: 120.38528 | HK100: 56.80436 | HL100: 36.510376 | HM100: 2.4668187 | HN100: 48.519026 | ID100: 74.708765 | IE100: 335.90092 | IF100: 292.94915 | IG100: 438.5444 | IH100: 28.479121 | II100: 284.0546 | IJ100: 300.8769 | IK100: 184.12447 | IL100: 218.98446 | IM100: 317.68998 | IN100: 2.7418564 | IO100: 8.7587905 | IP100: 3.8215024 | IQ100: 12.321205 | IR100: 11.822517 | IS100: 17.343255 | IT100: 52.49031 | IU100: 25.252586 | IV100: 27.497778 | IW100: 62.204172 | IX100: 0.076222436 | IY100: 0 | JC100: 0 | JD100: 0 | JE100: 0 | JF100: 0 | JG100: 0 | JH100: 0 | JI100: 0 | JJ100: 0 | JK100: 0 | JL100: 0 | JM100: 0 | JN100: 0 | JO100: 0 | JP100: 0 | JQ100: 0 | JY100: 75598.953 | KA100: 197164.95
B101: خدمات حمل و نقل ریلی مسافر | C101: 95 | ED101: 0 | EE101: 0 | EF101: 0 | EG101: 0 | EH101: 0 | EI101: 0 | EJ101: 0 | EK101: 0 | EL101: 3.0140194 | EM101: 5.936304e-05 | EN101: 15.87408 | EO101: 4.3867221 | EP101: 0 | EQ101: 0 | ER101: 1.5414038 | ES101: 0.19716562 | ET101: 0.0021128866 | EU101: 0.18427212 | EV101: 0.048057976 | EW101: 0.62197116 | EX101: 0 | EY101: 0.56615662 | EZ101: 0.96087593 | FA101: 0.047574517 | FB101: 2.9941912 | FC101: 0.011076109 | FD101: 2.5784343 | FE101: 0.0041594357 | FF101: 5.6929945 | FG101: 2.1540519 | FH101: 0 | FI101: 0.049163252 | FJ101: 10.675624 | FK101: 0 | FL101: 0.85550459 | FM101: 1.1860393 | FN101: 25.403017 | FO101: 0.31796254 | FP101: 8.1299242 | FQ101: 1.2004947 | FR101: 1.1474737 | FS101: 0.00013444529 | FT101: 0.002270175 | FU101: 0.017131156 | FV101: 0 | FW101: 0 | FX101: 31.554171 | FY101: 0 | FZ101: 0 | GA101: 1.4629506 | GB101: 25.208071 | GC101: 0.072839658 | GD101: 0.0007835778 | GE101: 0 | GF101: 0 | GG101: 0 | GH101: 0 | GI101: 0 | GJ101: 0 | GK101: 0 | GL101: 0 | GM101: 8.6356003 | GN101: 0 | GO101: 106.35409 | GP101: 9.4458311 | GQ101: 3.8476405 | GR101: 0 | GS101: 0 | GT101: 0 | GU101: 0 | GV101: 0.55969693 | GW101: 0 | GX101: 0 | GY101: 0 | GZ101: 613.7241 | HA101: 221.70645 | HB101: 0 | HC101: 0 | HD101: 0 | HE101: 0 | HF101: 0 | HG101: 0 | HH101: 29.054358 | HI101: 0 | HJ101: 4.8214713 | HK101: 0 | HL101: 43.679091 | HM101: 0 | HN101: 0 | ID101: 114.47239 | IE101: 262.00764 | IF101: 352.59051 | IG101: 479.13812 | IH101: 287.8969 | II101: 582.28591 | IJ101: 115.74186 | IK101: 602.40174 | IL101: 1121.9016 | IM101: 834.04803 | IN101: 1.1557948 | IO101: 0.58845701 | IP101: 3.0272696 | IQ101: 8.5992007 | IR101: 1.679295 | IS101: 0.6543199 | IT101: 0 | IU101: 33.309043 | IV101: 3.5673672 | IW101: 42.080712 | IX101: 0 | IY101: 0 | JC101: 0 | JD101: 0 | JE101: 0 | JF101: 0 | JG101: 0 | JH101: 0 | JI101: 0 | JJ101: 0 | JK101: 0 | JL101: 0 | JM101: 0 | JN101: 0 | JO101: 0 | JP101: 0 | JQ101: 0 | JY101: 768.18892 | KA101: 6805.3263
B102: خدمات حمل و نقل ریلی بار | C102: 96 | D102: 150.95604 | E102: 269.57591 | F102: 179.70562 | G102: 1491.0096 | H102: 713.13157 | I102: 57.718757 | J102: 35.196231 | K102: 3.275488 | L102: 90.816505 | M102: 15.25651 | N102: 179.51154 | O102: 55.856102 | P102: 44.840321 | Q102: 40.933527 | R102: 44.309388 | S102: 50.604667 | T102: 0.0076047108 | U102: 0.28259482 | V102: 39.390298 | W102: 41.250392 | X102: 0 | Y102: 0 | Z102: 559.93813 | AA102: 79.71962 | AB102: 12.504087 | AC102: 775.52228 | AD102: 542.64156 | AE102: 0 | AF102: 0 | AG102: 0 | AH102: 54.054486 | AI102: 13.379565 | AJ102: 163.20747 | AK102: 475.71093 | AL102: 419.70061 | AM102: 82.949912 | AN102: 15.040305 | AO102: 341.24476 | AP102: 11.091166 | AQ102: 341.47826 | AR102: 246.93815 | AS102: 49.603806 | AT102: 29.578845 | AU102: 320.7631 | AV102: 413.44011 | AW102: 27.890685 | AX102: 323.92773 | AY102: 54.773917 | AZ102: 88.746188 | BA102: 17.283949 | BB102: 15.733308 | BC102: 8.4463012 | BD102: 592.16483 | BE102: 672.21901 | BF102: 70.13908 | BG102: 15.0674 | BH102: 102.1378 | BI102: 206.59628 | BJ102: 31.01072 | BK102: 115.3501 | BL102: 260.36076 | BM102: 588.19961 | BN102: 924.84132 | BO102: 344.63055 | BP102: 174.92062 | BQ102: 795.45737 | BR102: 2027.1496 | BS102: 485.24544 | BT102: 334.6541 | BU102: 892.643 | BV102: 4228.9959 | BW102: 552.1415 | BX102: 689.81484 | BY102: 918.42501 | BZ102: 635.5316 | CA102: 125.02958 | CB102: 623.19802 | CC102: 80.006846 | CD102: 157.05918 | CE102: 160.97169 | CF102: 122.04993 | CG102: 118.78734 | CH102: 148.70788 | CI102: 1346.1007 | CJ102: 995.32317 | CK102: 66.868075 | CL102: 66.440367 | CU102: -28657.177 | ED102: 7.9254331 | EE102: 116.78824 | EF102: 0 | EG102: 2.4154506 | EH102: 0 | EI102: 0 | EJ102: 1116.77 | EK102: 3.334 | EL102: 29.822771 | EM102: 65.60853 | EN102: 41.812612 | EO102: 31.578903 | EP102: 2.6431789 | EQ102: 0 | ER102: 7.9242542 | ES102: 1.7094628 | ET102: 8.961911 | EU102: 1.7357157 | EV102: 1.0700777 | EW102: 2.1783313 | EX102: 5.0199468 | EY102: 0.81637064 | EZ102: 53.978934 | FA102: 7.2871631 | FB102: 2679.1008 | FC102: 25.362988 | FD102: 56.000502 | FE102: 0.8745065 | FF102: 142.1518 | FG102: 1.5337498 | FH102: 420.21828 | FI102: 1.953336 | FJ102: 356.95539 | FK102: 0.94738945 | FL102: 41.368678 | FM102: 8.4708392 | FN102: 155.4947 | FO102: 0.75346689 | FP102: 9.4810913 | FQ102: 3.1274018 | FR102: 3.2160188 | FS102: 6.8130768e-06 | FT102: 0 | FU102: 0.17499063 | FV102: 0.59618341 | FW102: 0 | FX102: 26.586814 | FY102: 22.082766 | FZ102: 2972.1278 | GA102: 141.22289 | GB102: 2374.3538 | GC102: 0 | GD102: 0 | GE102: 0 | GF102: 0 | GG102: 0 | GH102: 0 | GI102: 0 | GJ102: 7.6566094 | GK102: 0 | GL102: 0 | GM102: 259.8037 | GN102: 0 | GO102: 0 | GP102: 0 | GQ102: 0 | GR102: 0 | GS102: 0 | GT102: 0 | GU102: 0 | GV102: 0 | GW102: 0 | GX102: 0 | GY102: 0 | GZ102: 0 | HA102: 286.78719 | HB102: 72.307739 | HC102: 142.70756 | HD102: 0 | HE102: 0 | HF102: 0 | HG102: 0 | HH102: 25.581495 | HI102: 0 | HJ102: 0.31890526 | HK102: 0 | HL102: 0.49123965 | HM102: 0 | HN102: 0 | ID102: 0 | IE102: 9.7507311 | IF102: 13.047237 | IG102: 2.0318597 | IH102: 0 | II102: 1.7769478 | IJ102: 0 | IK102: 24.063676 | IL102: 2.603287 | IM102: 2.3940469 | IN102: 0 | IO102: 0 | IP102: 0 | IQ102: 0 | IR102: 0 | IS102: 0.062621644 | IT102: 0 | IU102: 0 | IV102: 0 | IW102: 0 | IX102: 0 | IY102: 0 | JC102: 0 | JD102: 0 | JE102: 0 | JF102: 0 | JG102: 0 | JH102: 0 | JI102: 0 | JJ102: 0 | JK102: 0 | JL102: 0 | JM102: 0 | JN102: 0 | JO102: 0 | JP102: 0 | JQ102: 0 | JY102: 1383.6226 | KA102: 13188.545
B103: خدمات انتقال از طریق خط لوله | C103: 97 | ED103: 0 | EE103: 0 | EF103: 0 | EG103: 0 | EH103: 0 | EI103: 0 | EJ103: 0 | EK103: 0 | EL103: 0 | EM103: 0 | EN103: 0 | EO103: 0 | EP103: 0 | EQ103: 0 | ER103: 0 | ES103: 0 | ET103: 0 | EU103: 0 | EV103: 0 | EW103: 0 | EX103: 0 | EY103: 0 | EZ103: 7517.16 | FA103: 0 | FB103: 36.342 | FC103: 0 | FD103: 0 | FE103: 0 | FF103: 0 | FG103: 0 | FH103: 0 | FI103: 0 | FJ103: 0 | FK103: 0 | FL103: 0 | FM103: 0 | FN103: 0 | FO103: 0 | FP103: 0 | FQ103: 0 | FR103: 0 | FS103: 0 | FT103: 0 | FU103: 0 | FV103: 0 | FW103: 0 | FX103: 0 | FY103: 0 | FZ103: 5272.746 | GA103: 0 | GB103: 0 | GC103: 0 | GD103: 0 | GE103: 0 | GF103: 0 | GG103: 0 | GH103: 0 | GI103: 0 | GJ103: 0 | GK103: 0 | GL103: 0 | GM103: 0 | GN103: 0 | GO103: 0 | GP103: 0 | GQ103: 0 | GR103: 0 | GS103: 0 | GT103: 0 | GU103: 0 | GV103: 0 | GW103: 0 | GX103: 0 | GY103: 0 | GZ103: 0 | HA103: 0 | HB103: 0 | HC103: 0 | HD103: 0 | HE103: 0 | HF103: 0 | HG103: 0 | HH103: 0 | HI103: 0 | HJ103: 0 | HK103: 0 | HL103: 0 | HM103: 0 | HN103: 0 | ID103: 0 | IE103: 0 | IF103: 0 | IG103: 0 | IH103: 0 | II103: 0 | IJ103: 0 | IK103: 0 | IL103: 0 | IM103: 0 | IN103: 0 | IO103: 0 | IP103: 0 | IQ103: 0 | IR103: 0 | IS103: 0 | IT103: 0 | IU103: 0 | IV103: 0 | IW103: 0 | IX103: 0 | IY103: 0 | JC103: 0 | JD103: 0 | JE103: 0 | JF103: 0 | JG103: 0 | JH103: 0 | JI103: 0 | JJ103: 0 | JK103: 0 | JL103: 0 | JM103: 0 | JN103: 0 | JO103: 0 | JP103: 0 | JQ103: 0 | JY103: 1139.271 | KA103: 13965.519
B104: خدمات حمل و نقل دریایی | C104: 98 | D104: 88.678159 | E104: 158.36065 | F104: 105.56692 | G104: 875.88407 | H104: 418.92458 | I104: 33.906514 | J104: 20.6758 | K104: 1.9241644 | L104: 53.349575 | M104: 8.9623393 | N104: 105.4529 | O104: 32.81231 | P104: 26.34116 | Q104: 24.046139 | R104: 26.029267 | S104: 29.727388 | T104: 0.0044673387 | U104: 0.16600852 | V104: 23.139578 | W104: 24.232279 | X104: 0 | Y104: 0 | Z104: 328.93207 | AA104: 46.830781 | AB104: 7.3454461 | AC104: 455.5756 | AD104: 318.77131 | AE104: 0 | AF104: 0 | AG104: 0 | AH104: 31.753962 | AI104: 7.8597398 | AJ104: 95.875181 | AK104: 279.45334 | AL104: 246.55044 | AM104: 48.728395 | AN104: 8.8353308 | AO104: 200.46205 | AP104: 6.5154345 | AQ104: 200.59922 | AR104: 145.06224 | AS104: 29.139439 | AT104: 17.375903 | AU104: 188.43023 | AV104: 242.87275 | AW104: 16.384204 | AX104: 190.28927 | AY104: 32.176587 | AZ104: 52.13338 | BA104: 10.153345 | BB104: 9.2424309 | BC104: 4.9617256 | BD104: 347.86344 | BE104: 394.89076 | BF104: 41.202754 | BG104: 8.8512475 | BH104: 60.000196 | BI104: 121.36366 | BJ104: 18.217049 | BK104: 67.76168 | BL104: 152.94726 | BM104: 345.5341 | BN104: 543.29211 | BO104: 202.45101 | BP104: 102.756 | BQ104: 467.28634 | BR104: 1190.8361 | BS104: 285.05433 | BT104: 196.59041 | BU104: 524.37742 | BV104: 2484.2966 | BW104: 324.35199 | BX104: 405.22732 | BY104: 539.5229 | BZ104: 373.33897 | CA104: 73.447827 | CB104: 366.09369 | CC104: 46.99951 | CD104: 92.26341 | CE104: 94.561788 | CF104: 71.697451 | CG104: 69.780861 | CH104: 87.357492 | CI104: 790.75821 | CJ104: 584.69623 | CK104: 39.281223 | CL104: 39.029969 | CW104: -16834.475 | ED104: 0 | EE104: 0 | EF104: 0.049006351 | EG104: 20.327618 | EH104: 34532.439 | EI104: 0 | EJ104: 0 | EK104: 0 | EL104: 6.9785111 | EM104: 0.59969105 | EN104: 9.784127 | EO104: 7.3894449 | EP104: 0 | EQ104: 0 | ER104: 0 | ES104: 1.3767791 | ET104: 0.02049852 | EU104: 0.47887012 | EV104: 0.2952259 | EW104: 0.41804004 | EX104: 0.10031517 | EY104: 0.10367171 | EZ104: 0.0504329 | FA104: 0.006808448 | FB104: 78.561229 | FC104: 29.578195 | FD104: 4.7788753 | FE104: 0 | FF104: 5.0722543 | FG104: 0.039905897 | FH104: 0.0069931283 | FI104: 0.10478036 | FJ104: 2.9808383 | FK104: 0.16841629 | FL104: 13.855676 | FM104: 5.7904322 | FN104: 20.759758 | FO104: 0.0090744112 | FP104: 2.214254 | FQ104: 0.0022726279 | FR104: 0.0023370243 | FS104: 0 | FT104: 0 | FU104: 1.7427852 | FV104: 0.88156033 | FW104: 0 | FX104: 0 | FY104: 0 | FZ104: 0 | GA104: 0 | GB104: 0 | GC104: 0 | GD104: 0 | GE104: 0 | GF104: 2882.1867 | GG104: 15.993084 | GH104: 0 | GI104: 99.525428 | GJ104: 0 | GK104: 0 | GL104: 0 | GM104: 0.37982998 | GN104: 0 | GO104: 0 | GP104: 0 | GQ104: 0.18850406 | GR104: 0 | GS104: 0 | GT104: 0 | GU104: 0 | GV104: 0 | GW104: 0 | GX104: 0 | GY104: 0 | GZ104: 0 | HA104: 1084.2407 | HB104: 133.19547 | HC104: 0 | HD104: 0 | HE104: 0 | HF104: 0 | HG104: 0.070225071 | HH104: 10.475029 | HI104: 0 | HJ104: 0 | HK104: 0 | HL104: 3.5822279 | HM104: 0 | HN104: 0 | ID104: 3.7878237 | IE104: 1.6442046 | IF104: 3.5179316 | IG104: 0.56520082 | IH104: 3.1263462 | II104: 2.9096437 | IJ104: 2.4280824 | IK104: 3.0325685 | IL104: 0 | IM104: 10.378912 | IN104: 0 | IO104: 0 | IP104: 1.3691419 | IQ104: 0.52694324 | IR104: 0 | IS104: 0 | IT104: 0 | IU104: 0 | IV104: 2.2483291 | IW104: 0 | IX104: 0 | IY104: 0 | JC104: 0 | JD104: 0 | JE104: 0 | JF104: 0 | JG104: 0 | JH104: 0 | JI104: 0 | JJ104: 0 | JK104: 0 | JL104: 0 | JM104: 0 | JN104: 0 | JO104: 0 | JP104: 0 | JQ104: 0 | JY104: 51875.815 | KA104: 90888.155
B105: خدمات حمل و نقل هوایی و فضایی | C105: 99 | D105: 20.799545 | E105: 37.143638 | F105: 24.760819 | G105: 205.43943 | H105: 98.259152 | I105: 7.9528047 | J105: 4.8495284 | K105: 0.45131457 | L105: 12.513193 | M105: 2.1021251 | N105: 24.734077 | O105: 7.6961579 | P105: 6.1783437 | Q105: 5.6400444 | R105: 6.1051889 | S105: 6.9725867 | T105: 0.0010478185 | U105: 0.038937453 | V105: 5.4274098 | W105: 5.6837037 | X105: 0 | Y105: 0 | Z105: 77.151325 | AA105: 10.984203 | AB105: 1.7228813 | AC105: 106.85568 | AD105: 74.76811 | AE105: 0 | AF105: 0 | AG105: 0 | AH105: 7.4479215 | AI105: 1.8435093 | AJ105: 22.487614 | AK105: 65.546043 | AL105: 57.828636 | AM105: 11.429291 | AN105: 2.0723351 | AO105: 47.018562 | AP105: 1.5282013 | AQ105: 47.050734 | AR105: 34.024483 | AS105: 6.8346826 | AT105: 4.0755344 | AU105: 44.196487 | AV105: 56.966031 | AW105: 3.8429304 | AX105: 44.632527 | AY105: 7.5470487 | AZ105: 12.227933 | BA105: 2.3814766 | BB105: 2.1678208 | BC105: 1.1637774 | BD105: 81.591696 | BE105: 92.621997 | BF105: 9.6641445 | BG105: 2.0760684 | BH105: 14.073102 | BI105: 28.46596 | BJ105: 4.2728259 | BK105: 15.893565 | BL105: 35.873923 | BM105: 81.045347 | BN105: 127.42967 | BO105: 47.485075 | BP105: 24.101516 | BQ105: 109.60245 | BR105: 279.31172 | BS105: 66.85976 | BT105: 46.110465 | BU105: 122.99321 | BV105: 582.69409 | BW105: 76.077064 | BX105: 95.046447 | BY105: 126.5456 | BZ105: 87.567006 | CA105: 17.227257 | CB105: 85.867618 | CC105: 11.023779 | CD105: 21.640469 | CE105: 22.179556 | CF105: 16.816704 | CG105: 16.367166 | CH105: 20.489782 | CI105: 185.47308 | CJ105: 137.14105 | CK105: 9.2134476 | CL105: 9.1545157 | CX105: -3948.542 | ED105: 69.647529 | EE105: 0 | EF105: 0 | EG105: 9.2075119 | EH105: 1664.1799 | EI105: 0.025208252 | EJ105: 1.0770079 | EK105: 0.3601406 | EL105: 6.9774549 | EM105: 0 | EN105: 36.748496 | EO105: 10.155262 | EP105: 0.35662595 | EQ105: 0 | ER105: 5.6714542 | ES105: 0.092920924 | ET105: 0.12962649 | EU105: 0.30023824 | EV105: 0.07830182 | EW105: 0.60599953 | EX105: 2.4903599 | EY105: 0.029168395 | EZ105: 32.493518 | FA105: 1.6088065 | FB105: 5.2136999 | FC105: 0.20131781 | FD105: 14.614186 | FE105: 0.18309896 | FF105: 15.446035 | FG105: 4.8287591 | FH105: 0.0040303354 | FI105: 0.17247527 | FJ105: 14.654723 | FK105: 14.063542 | FL105: 12.780502 | FM105: 6.3017804 | FN105: 2.3389733 | FO105: 0.42946203 | FP105: 0.036710324 | FQ105: 0.25300849 | FR105: 0.24183413 | FS105: 20.601622 | FT105: 309.32076 | FU105: 0.56667065 | FV105: 0 | FW105: 159.60068 | FX105: 254.62067 | FY105: 0 | FZ105: 0 | GA105: 0 | GB105: 0 | GC105: 7.5357581 | GD105: 13.132253 | GE105: 17.868802 | GF105: 0.85943688 | GG105: 817.51921 | GH105: 0 | GI105: 0.54625867 | GJ105: 0 | GK105: 2.4489193 | GL105: 0 | GM105: 6.6618726 | GN105: 3.5043321 | GO105: 101.11007 | GP105: 20.107057 | GQ105: 18.252147 | GR105: 0 | GS105: 0 | GT105: 0 | GU105: 0 | GV105: 3.3665433 | GW105: 0 | GX105: 0 | GY105: 0 | GZ105: 13168.898 | HA105: 7980.2366 | HB105: 396.7181 | HC105: 47.430903 | HD105: 29.21843 | HE105: 228.72466 | HF105: 0 | HG105: 16.206889 | HH105: 72.959514 | HI105: 0 | HJ105: 53.05499 | HK105: 0 | HL105: 349.01962 | HM105: 0 | HN105: 0 | ID105: 0 | IE105: 0 | IF105: 991.89218 | IG105: 0 | IH105: 546.80482 | II105: 473.08906 | IJ105: 58.098012 | IK105: 140.96393 | IL105: 17513.629 | IM105: 44119.101 | IN105: 0 | IO105: 0 | IP105: 0 | IQ105: 0 | IR105: 0 | IS105: 0 | IT105: 0 | IU105: 18.182195 | IV105: 28.198991 | IW105: 1729.0449 | IX105: 0 | IY105: 0 | JC105: 0 | JD105: 0 | JE105: 0 | JF105: 0 | JG105: 0 | JH105: 0 | JI105: 0 | JJ105: 0 | JK105: 0 | JL105: 0 | JM105: 0 | JN105: 0 | JO105: 0 | JP105: 0 | JQ105: 0 | JY105: 46324.888 | KA105: 137977.98
B106: خدمات پشتيبانی حمل و نقل (جابجایی بار، انبارداری، پایانه، پارکینگ و یدک کش) | C106: 100 | D106: 795.39616 | E106: 1420.4112 | F106: 946.87938 | G106: 7856.2166 | H106: 3757.5318 | I106: 304.12349 | J106: 185.45099 | K106: 17.258737 | L106: 478.51745 | M106: 80.387441 | N106: 945.85674 | O106: 294.30905 | P106: 236.26626 | Q106: 215.68114 | R106: 233.46875 | S106: 266.63894 | T106: 0.040069664 | U106: 1.4890086 | V106: 207.54977 | W106: 217.35072 | X106: 0 | Y106: 0 | Z106: 2950.3466 | AA106: 420.04732 | AB106: 65.884765 | AC106: 4086.2721 | AD106: 2859.21 | AE106: 0 | AF106: 0 | AG106: 0 | AH106: 284.81623 | AI106: 70.497707 | AJ106: 859.94965 | AK106: 2506.5486 | AL106: 2211.427 | AM106: 437.06792 | AN106: 79.248242 | AO106: 1798.0385 | AP106: 58.44 | AQ106: 1799.2688 | AR106: 1301.1315 | AS106: 261.36535 | AT106: 155.85266 | AU106: 1690.1194 | AV106: 2178.44 | AW106: 146.95764 | AX106: 1706.7941 | AY106: 288.60696 | AZ106: 467.60884 | BA106: 91.070132 | BB106: 82.899715 | BC106: 44.504053 | BD106: 3120.151 | BE106: 3541.9612 | BF106: 369.5669 | BG106: 79.391006 | BH106: 538.17001 | BI106: 1088.5678 | BJ106: 163.39729 | BK106: 607.78641 | BL106: 1371.856 | BM106: 3099.258 | BN106: 4873.0428 | BO106: 1815.8785 | BP106: 921.66696 | BQ106: 4191.3112 | BR106: 10681.169 | BS106: 2556.7865 | BT106: 1763.312 | BU106: 4703.388 | BV106: 22282.826 | BW106: 2909.2657 | BX106: 3634.6746 | BY106: 4839.2349 | BZ106: 3348.653 | CA106: 658.78815 | CB106: 3283.6667 | CC106: 421.56073 | CD106: 827.55396 | CE106: 848.1692 | CF106: 643.0882 | CG106: 625.8974 | CH106: 783.55048 | CI106: 7092.6828 | CJ106: 5244.4158 | CK106: 352.33178 | CL106: 350.07817 | CY106: -150996.34 | ED106: 47.256252 | EE106: 1057.5708 | EF106: 0.60804063 | EG106: 93.961312 | EH106: 2.2102706 | EI106: 0 | EJ106: 0 | EK106: 0 | EL106: 55.579012 | EM106: 0 | EN106: 77.923802 | EO106: 58.851816 | EP106: 81.802498 | EQ106: 0 | ER106: 28.376217 | ES106: 5.1524911 | ET106: 33.857038 | EU106: 4.2539882 | EV106: 2.6226056 | EW106: 31.493354 | EX106: 12.57167 | EY106: 28.609664 | EZ106: 747.48059 | FA106: 2.6204275 | FB106: 156.74218 | FC106: 0.3234368 | FD106: 157.67587 | FE106: 21.343667 | FF106: 26.877545 | FG106: 1.4496693 | FH106: 0.1086821 | FI106: 30.82626 | FJ106: 15.649025 | FK106: 4.7091863 | FL106: 12.766826 | FM106: 14.079839 | FN106: 215.2191 | FO106: 0.36569877 | FP106: 21.347579 | FQ106: 1.7469173 | FR106: 1.7964174 | FS106: 140.93482 | FT106: 80.180305 | FU106: 70.860177 | FV106: 59.135522 | FW106: 5493.2458 | FX106: 867.59829 | FY106: 1300.8157 | FZ106: 23544.919 | GA106: 1136.1964 | GB106: 15637.975 | GC106: 932.28092 | GD106: 4902.5922 | GE106: 0.52189864 | GF106: 6971.3335 | GG106: 4530.7095 | GH106: 113.11464 | GI106: 11649.02 | GJ106: 219.5461 | GK106: 10.208065 | GL106: 877.18299 | GM106: 40.963013 | GN106: 550.16312 | GO106: 4.5496198 | GP106: 27.867735 | GQ106: 0.47752778 | GR106: 0 | GS106: 0 | GT106: 0 | GU106: 0.30696594 | GV106: 2.0182679 | GW106: 633.55287 | GX106: 2.1066715 | GY106: 207.73844 | GZ106: 3.9616576 | HA106: 3804.6973 | HB106: 286.6791 | HC106: 18.171732 | HD106: 0.017128346 | HE106: 61.393345 | HF106: 24.145649 | HG106: 1013.2183 | HH106: 161.84345 | HI106: 0 | HJ106: 246.07018 | HK106: 87.285017 | HL106: 50.901914 | HM106: 30.832242 | HN106: 2369.8755 | ID106: 0.41177625 | IE106: 59.263815 | IF106: 14.526632 | IG106: 14.50665 | IH106: 49.529421 | II106: 51.314445 | IJ106: 55.079314 | IK106: 103.50475 | IL106: 157.82809 | IM106: 238.44724 | IN106: 0.06490529 | IO106: 0.42190239 | IP106: 0.66767952 | IQ106: 0.3415304 | IR106: 1.99112 | IS106: 4.8408809 | IT106: 1.8283098 | IU106: 6.4217661 | IV106: 16.930653 | IW106: 22.620285 | IX106: 0.049991526 | IY106: 0 | JC106: 0 | JD106: 0 | JE106: 0 | JF106: 0 | JG106: 0 | JH106: 0 | JI106: 0 | JJ106: 0 | JK106: 0 | JL106: 0 | JM106: 0 | JN106: 0 | JO106: 0 | JP106: 0 | JQ106: 0 | JY106: 17397.947 | KA106: 109421.57
