Workbook
Name ben: #REF!
Name bene: #REF!
Name benef: #REF!
Name benefit: #REF!
Name benefit1: #REF!
Name benefit2: #REF!
Name benefit3: #REF!
Name benefit4: #REF!
Name benefit5: #REF!
Name benefit6: #REF!
Name benefit7: #REF!
Name benefit8: #REF!
Name benefit9: #REF!
Name published: #REF!
Name purchace: #REF!
Name received: #REF!

Sheet شاخص فعالیت 
A2: (هزار ميليارد ريال- ميليارد سهم) | D2: شاخص‌ها و نماگرهای بازار سرمایه | L2: 1
A3: عنوان | C3: 1404 | F3: 1405 | J3: درصد تغییرات
C4: سه ماهه | D4: پایان | F4: اردیبهشت | G4: خرداد | H4: سه‌ماهه | J4: خرداد‌‌ماه 1405 به | K4: خرداد‌‌ماه 1405 به | L4: سه‌ماهه اول 1405 به
C5: اول | D5: سال | F5: ماه | G5: ماه | H5: اول | J5: به ماه گذشته | K5: پایان سال 1404 | L5: سه‌ماهه اول 1404
A6: بورس اوراق بهادار تهران | B6: شاخص کل | C6: 2984605.4 | D6: 3713955.9 | F6: 3761304.5 | G6: 5125976.1 | H6: 5125976.1 | J6: 36.281868 | K6: 38.019306 | L6: 71.747194
B7: شاخص کل هم وزن | C7: 923685.28 | D7: 952681 | F7: 968595.37 | G7: 1342018.4 | H7: 1342018.4 | J7: 38.55305 | K7: 40.867555 | L7: 45.289576
B8: ارزش بازار سهام | C8: 94465.432 | D8: 111001.62 | F8: 111919.43 | G8: 151544.17 | H8: 151544.17 | J8: 35.404698 | K8: 36.524282 | L8: 60.42288
B9: ارزش بازار بدهي | C9: 1181.2504 | D9: 1336.3199 | F9: 1373.6017 | G9: 1443.5095 | H9: 1443.5095 | J9: 5.0893791 | K9: 8.0212579 | L9: 22.201825
B10: ارزش معاملات سهام | C10: 3804.2866 | D10: 16579.017 | F10: 171.9825 | G10: 3425.3025 | H10: 3597.285 | J10: # | K10: _ | L10: -5.4412725
B11: حجم معاملات سهام | C11: 1712.9354 | D11: 6329.1611 | F11: 90.214413 | G11: 1433.8851 | H11: 1524.0996 | J11: # | K11: _ | L11: -11.02411
A12: فرابورس | B12: شاخص کل | C12: 27205.6 | D12: 28392.2 | F12: 28655.5 | G12: 38773.4 | H12: 38773.4 | J12: 35.308754 | K12: 36.563563 | L12: 42.519922
B13: شاخص صکوک | C13: 1013.2 | D13: 1152.9719 | F13: 1212.8919 | G13: 1242.6852 | H13: 1242.6852 | J13: 2.456386 | K13: 7.781048 | L13: 22.649546
B14: ارزش بازار سهام | C14: 19525.798 | D14: 20656.369 | F14: 20590.236 | G14: 27042.262 | H14: 27042.262 | J14: 31.335366 | K14: 30.914884 | L14: 38.495039
B15: ارزش بازار بدهي | C15: 9984.5483 | D15: 14183.603 | F15: 15018.566 | G15: 15630.002 | H15: 15630.002 | J15: 4.0712017 | K15: 10.197684 | L15: 56.541908
B16: مانده اوراق بدهي (1) | C16: 12334.092 | D16: 17906.293 | F16: 18281.509 | G16: 19344.09 | H16: 19344.09 | J16: 5.8123246 | K16: 8.0295606 | L16: 56.834324
B17: دولتي | C17: 9751.7793 | D17: 14777.409 | F17: 15054.225 | G17: 16046.406 | H17: 16046.406 | J17: 6.5907122 | K17: 8.5874097 | L17: 64.54849
B18: شهرداري‌ها | C18: 258.7 | D18: 190.5 | F18: 191.2 | G18: 191.2 | H18: 191.2 | J18: 0 | K18: 0.36745407 | L18: -26.091998
B19: شرکتي | C19: 2323.6126 | D19: 2938.3841 | F19: 3036.0841 | G19: 3106.4841 | H19: 3106.4841 | J19: 2.3187764 | K19: 5.7208315 | L19: 33.691998
A20: ارزش صندوق هاي قابل معامله (2) | C20: 7156.1183 | D20: 13843.817 | F20: 16578.013 | G20: 17687.364 | H20: 17687.364 | J20: 6.6916988 | K20: 27.763631 | L20: 147.16422
A21: اندازه بازار اوراق بهادار (3) | C21: 132313.15 | D21: 161021.73 | F21: 165479.85 | G21: 213347.31 | H21: 213347.31 | J21: 28.926457 | K21: 32.49597 | L21: 61.244222
A22: مجموع تامين مالي از طريق بازار سرمايه (4)▲ | C22: 1156.2864 | D22: 10795.723 | F22: 171.33 | G22: 1688.9527 | H22: 2278.7927 | J22: # | K22: ـ | L22: 97.078574
A23: مأخذ: سازمان بورس و اوراق بهادار (گزارش خرداد‌ماه 1405)
A24: يادداشت‌ها 1: (#) نشان‌دهنده تغییرات بیش از 500 درصد می‌باشد.
A25: یادداشت‌ها 2: در ابتدا لازم به توضیح است با آغاز جنگ رمضان در نهم اسفندماه سال 1404 و متعاقباً تعطیلی بخشی از بازار سرمایه تا تاریخ 28/02/1405، ارقام «شاخص‌کل بورس اوراق بهادار تهران و فرابورس ایران»، «شاخص کل هم‌وزن بورس اوراق بهادار تهران» و «حجم و ارزش معاملات سهام بورس اوراق بهادار تهران» در پایان سال 1404، بر اساس آخرین روز معاملات سهام در سال 1404 (پایان روز ششم اسفندماه) لحاظ شده است. ضمن آنکه، ارقام عملکرد ردیف‌های مذکور در اردیبهشت‌ماه سال جاری، صرفاً مربوط به دو روز کاری 29 و 30 اردیبهشت‌ماه سال 1405 است. شایان ذکر است سایر شاخص‌های بازار سرمایه همچون «ارزش کل بازار فرابورس ایران»، «ارزش بازار بورس اوراق بهادار تهران و فرابورس ایران»، «ارزش بازار بدهي بورس اوراق بهادار تهران و فرابورس ایران»، «مانده اوراق بدهی»، «مجموع تامین مالی از طریق بازار سرمایه» و «مجموع اوراق بدهی منتشره در بازار سرمايه» طی دوره 09/12/1404 تا 28/02/1405 دارای عملکرد بوده‌اند.
A26: 1- مانده اوراق بدهی به ارزش اسمی می‌باشد.
A27: 2- ارزش صندوق‌های قابل معامله شامل ارزش این صندوق در بازارهای بورس اوراق بهادار تهران، فرابورس، بورس کالا و انرژی می‌باشد.
A28: 3- اندازه بازار اوراق بهادار شامل مجموع ارزش بازارهای سهام و بدهی در بورس اوراق بهادار تهران و فرابورس ایران به ‌علاوه ارزش صندوق‌های قابل معامله می‌باشد.
A29: 4- مجموع تامین مالی از طریق بازار سرمایه شامل تاسیس شرکت‌های سهامی عام، عرضه اولیه سهام شرکت‌ها در بورس و فرابورس، افزایش سرمایه از محل آورده نقدی و مطالبات حال‌شده، انواع ابزارهای تامین مالی بدهی (به استثناء اوراق گام) و تامین مالی جمعی می‌باشد.
A30: ▲: از ابتدای تیرماه سال 1404، تامین مالی جمعی به انواع ابزارهای تامین مالی بدهی اضافه گردیده است.

Sheet اوراق مالی اسلامی
A2: (هزار میلیارد ریال) | B2: وضعیت انتشار اوراق مالی اسلامی | J2: 2
A3: عنوان | B3: 1404 | E3: 1405 | I3: درصد تغییرات
B4: ='شاخص فعالیت '!C4 -> سه ماهه | C4: ='شاخص فعالیت '!D4 -> پایان | E4: ='شاخص فعالیت '!F4 -> اردیبهشت | F4: ='شاخص فعالیت '!G4 -> خرداد | G4: ='شاخص فعالیت '!H4 -> سه‌ماهه | I4: ='شاخص فعالیت '!J4 -> خرداد‌‌ماه 1405 به | J4: ='شاخص فعالیت '!L4 -> سه‌ماهه اول 1405 به
B5: ='شاخص فعالیت '!C5 -> اول | C5: ='شاخص فعالیت '!D5 -> سال | E5: ='شاخص فعالیت '!F5 -> ماه | F5: ='شاخص فعالیت '!G5 -> ماه | G5: ='شاخص فعالیت '!H5 -> اول | I5: ='شاخص فعالیت '!J5 -> به ماه گذشته | J5: ='شاخص فعالیت '!L5 -> سه‌ماهه اول 1404
A6: اوراق بدهی دولتی | B6: =SUM(B7:B10) -> 856.37 | C6: =SUM(C7:C10) -> 8310 | E6: 29 | F6: =SUM(F7:F10) -> 1442.181 | G6: =SUM(G7:G10) -> 1841.181 | I6: # | J6: =((G6/B6)*100)-100 -> 114.99831
A7: اسناد خزانه اسلامي | B7: 450 | C7: 650 | E7: 0 | F7: ='[1]تامین مالی - انتشار'!$CV$3/1000 -> 500 | G7: =SUM('[1]تامین مالی - انتشار'!$CT$3:$CV$3)/1000 -> 870 | I7: Ɵ | J7: =((G7/B7)*100)-100 -> 93.333333
A8: اوراق سلف موازی استاندارد | B8: 10 | C8: 10 | E8: 29 | F8: ='[1]تامین مالی - انتشار'!$CV$4/1000 -> 0 | G8: =SUM('[1]تامین مالی - انتشار'!$CT$4:$CV$4)/1000 -> 29 | I8: =((F8/E8)*100)-100 -> -100 | J8: =((G8/B8)*100)-100 -> 190
A9: اوراق مرابحه | B9: ='[1]تامین مالی - انتشار'!$CJ$6/1000 -> 396.37 | C9: 7650 | E9: 0 | F9: ='[1]تامین مالی - انتشار'!$CV$6/1000 -> 942.181 | G9: =SUM('[1]تامین مالی - انتشار'!$CT$6:$CV$6)/1000 -> 942.181 | I9: Ɵ | J9: =((G9/B9)*100)-100 -> 137.7024
A10: اوراق قرض الحسنه | B10: 0 | C10: =SUM('[2]تامین مالی - انتشار'!$CI$9:$CV$9)/1000 -> 0 | E10: 0 | F10: ='[1]تامین مالی - انتشار'!$CV$9/1000 -> 0 | G10: =SUM('[1]تامین مالی - انتشار'!$CT$9:$CV$9)/1000 -> 0 | I10: Ɵ | J10: Ɵ
A11: اوراق بدهی شهرداری | B11: =B12 -> 39 | C11: =C12 -> 59 | E11: 0.7 | F11: =F12 -> 0 | G11: =G12 -> 0.7 | I11: =((F11/E11)*100)-100 -> -100 | J11: =((G11/B11)*100)-100 -> -98.205128
A12: اوراق مشاركت | B12: =SUM('[1]تامین مالی - انتشار'!$CH$11:$CJ$11)/1000 -> 39 | C12: 59 | E12: 0.7 | F12: ='[1]تامین مالی - انتشار'!$CV$11/1000 -> 0 | G12: =SUM('[1]تامین مالی - انتشار'!$CT$11:$CV$11)/1000 -> 0.7 | I12: =((F12/E12)*100)-100 -> -100 | J12: =((G12/B12)*100)-100 -> -98.205128
A13: اوراق بدهی شرکتی | B13: =SUM('[1]تامین مالی - انتشار'!$CH$12:$CJ$12)/1000 -> 175.9 | C13: 1183.66 | E13: 105.5 | F13: ='[1]تامین مالی - انتشار'!$CV$12/1000 -> 135.4 | G13: =SUM('[1]تامین مالی - انتشار'!$CT$12:$CV$12)/1000 -> 293.1 | I13: =((F13/E13)*100)-100 -> 28.341232 | J13: =((G13/B13)*100)-100 -> 66.628766
A14: مجموع اوراق بدهی منتشره در بازار سرمایه (1) | B14: =B13+B11+B6 -> 1071.27 | C14: =C13+C11+C6 -> 9552.66 | E14: 135.2 | F14: =F13+F11+F6 -> 1577.581 | G14: =G13+G11+G6 -> 2134.981 | I14: # | J14: =((G14/B14)*100)-100 -> 99.294389
A15: مأخذ: سازمان بورس و اوراق بهادار (گزارش خرداد‌ماه سال 1405)
A16: يادداشت‌ها: (Ө) محاسبه امكان‌پذير نمي‌باشد. (#) نشان‌دهنده تغییرات بیش از 500 درصد می‌باشد.
A17: (1) منظور از اوراق بدهی منتشره در بازار سرمایه، اوراق بدهی عرضه شده در این بازار می‌باشد.
